BEGIN:VCALENDAR
VERSION:2.0
PRODID:-//Barrington Land Trust - ECPv6.15.17.1//NONSGML v1.0//EN
CALSCALE:GREGORIAN
METHOD:PUBLISH
X-ORIGINAL-URL:https://www.blct.org
X-WR-CALDESC:Events for Barrington Land Trust
REFRESH-INTERVAL;VALUE=DURATION:PT1H
X-Robots-Tag:noindex
X-PUBLISHED-TTL:PT1H
BEGIN:VTIMEZONE
TZID:America/New_York
BEGIN:DAYLIGHT
TZOFFSETFROM:-0500
TZOFFSETTO:-0400
TZNAME:EDT
DTSTART:20250309T070000
END:DAYLIGHT
BEGIN:STANDARD
TZOFFSETFROM:-0400
TZOFFSETTO:-0500
TZNAME:EST
DTSTART:20251102T060000
END:STANDARD
BEGIN:DAYLIGHT
TZOFFSETFROM:-0500
TZOFFSETTO:-0400
TZNAME:EDT
DTSTART:20260308T070000
END:DAYLIGHT
BEGIN:STANDARD
TZOFFSETFROM:-0400
TZOFFSETTO:-0500
TZNAME:EST
DTSTART:20261101T060000
END:STANDARD
BEGIN:DAYLIGHT
TZOFFSETFROM:-0500
TZOFFSETTO:-0400
TZNAME:EDT
DTSTART:20270314T070000
END:DAYLIGHT
BEGIN:STANDARD
TZOFFSETFROM:-0400
TZOFFSETTO:-0500
TZNAME:EST
DTSTART:20271107T060000
END:STANDARD
END:VTIMEZONE
BEGIN:VEVENT
DTSTART;TZID=America/New_York:20260922T190000
DTEND;TZID=America/New_York:20260922T200000
DTSTAMP:20260419T193201
CREATED:20260203T191737Z
LAST-MODIFIED:20260302T211317Z
UID:15289-1790103600-1790107200@www.blct.org
SUMMARY:Learning Series: Forgotten Landscapes ~ How Natural Habitats Respond to Land Use
DESCRIPTION: \nTravel through time with ecologist Kevin Ormerod as he shares historic photos and records that provide insight into today’s native plants and habitats. Kevin will help us deepen our conservation perspective and abilities on Tuesday\, Sept. 22\, at 7 pm in the Salem Family Auditorium at the Barrington Public Library.\n \nREGISTER FOR THE EVENT\n \n\n \nLearn how to decipher the events that shaped our landscapes and foresee the outcomes of current management methods. Kevin will explore the effect that centuries of settlement has had on both home gardens and habitat restoration.  \nBy recognizing which species and habitats are foundational to Southern New England\, we can make decisions that help us reclaim our personal property. We’ll also be better equipped to contribute valuable input toward public land management projects. \nAbout Kevin Ormerod \nKevin Ormerod is the founder of Bluestem Meadows\, a native habitat restoration and landscaping company. He has worked with several native plant garden design companies and nurseries and has collaborated with the Southern and Eastern Rhode Island Conservation Districts of the Natural Resource Conservation Service.\n\n\n \nKevin earned a Bachelor of Science in geological oceanography from the University of Rhode Island in 2017. He received Invasive Management Certification by the Coastal Resources Management Council and Wetland Field Indicator Certification from the New England Hydric Soil Technical Committee. Kevin also trained with the Xerces Society and Garden in the Woods\, and he serves as a rare plant survey volunteer with the Native Plant Trust. \n \n\nThanks to our 2026 Learning Series Sponsors!\n \n  \n\n\n \nCharles E. Millard General Contractors\, Inc.\nPods Swimming\, East Providence\nJaffe Orthodontics\, Barrington
URL:https://www.blct.org/event/learning-series-forgotten-landscapes-how-natural-habitats-respond-to-land-use/
LOCATION:Barrington Public Library\, 281 County Rd\,\, Barrington\, RI\, 02806\, United States
END:VEVENT
END:VCALENDAR