BEGIN:VCALENDAR
VERSION:2.0
PRODID:-//Barrington Land Trust - ECPv6.15.20//NONSGML v1.0//EN
CALSCALE:GREGORIAN
METHOD:PUBLISH
X-ORIGINAL-URL:https://www.blct.org
X-WR-CALDESC:Events for Barrington Land Trust
REFRESH-INTERVAL;VALUE=DURATION:PT1H
X-Robots-Tag:noindex
X-PUBLISHED-TTL:PT1H
BEGIN:VTIMEZONE
TZID:America/New_York
BEGIN:DAYLIGHT
TZOFFSETFROM:-0500
TZOFFSETTO:-0400
TZNAME:EDT
DTSTART:20230312T070000
END:DAYLIGHT
BEGIN:STANDARD
TZOFFSETFROM:-0400
TZOFFSETTO:-0500
TZNAME:EST
DTSTART:20231105T060000
END:STANDARD
BEGIN:DAYLIGHT
TZOFFSETFROM:-0500
TZOFFSETTO:-0400
TZNAME:EDT
DTSTART:20240310T070000
END:DAYLIGHT
BEGIN:STANDARD
TZOFFSETFROM:-0400
TZOFFSETTO:-0500
TZNAME:EST
DTSTART:20241103T060000
END:STANDARD
BEGIN:DAYLIGHT
TZOFFSETFROM:-0500
TZOFFSETTO:-0400
TZNAME:EDT
DTSTART:20250309T070000
END:DAYLIGHT
BEGIN:STANDARD
TZOFFSETFROM:-0400
TZOFFSETTO:-0500
TZNAME:EST
DTSTART:20251102T060000
END:STANDARD
END:VTIMEZONE
BEGIN:VEVENT
DTSTART;TZID=America/New_York:20241214T100000
DTEND;TZID=America/New_York:20241214T120000
DTSTAMP:20260423T203701
CREATED:20241207T160925Z
LAST-MODIFIED:20241207T164903Z
UID:14512-1734170400-1734177600@www.blct.org
SUMMARY:Stewardship Event - Johannis Farm Wildlife Preserve
DESCRIPTION:On Saturday\, Dec. 14\, from 10 am to noon\, the Student Stewardship Team will work together with the Tuesday Trails Team at  Johannis Farm Wildlife Preserve. We need many hands to help remove debris from the washed out boardwalk near the marsh. We have cut the boardwalk into pieces that can be hand carried or transported by wheelbarrow or cart. \nDress for the weather and wear waterproof boots. Adults – if you have a wheelbarrow or cart you can bring\, that would help! Bring work gloves if you have them. Gloves will also be available onsite. \nREGISTER FOR THE EVENT \nJohannis Farm Wildlife Preserve is located on Sowams Road in Barrington. The entrance lies between 461 Sowams Road and 475 Sowams Road. You can park in the grassy area indicated on the map. If you get lost or will be late\, call/text me at 508-733-2443. \n 
URL:https://www.blct.org/event/stewardship-event-johannis-farm-wildlife-preserve/
LOCATION:Johannis Farm Wildlife Preserve
END:VEVENT
BEGIN:VEVENT
DTSTART;TZID=America/New_York:20241215T150000
DTEND;TZID=America/New_York:20241215T160000
DTSTAMP:20260423T203701
CREATED:20241201T184749Z
LAST-MODIFIED:20241201T191030Z
UID:14506-1734274800-1734278400@www.blct.org
SUMMARY:Winter Walk at Sowams Woods
DESCRIPTION:Fill up your cup with fresh air and sunlight on a Winter Walk at Sowams Woods on Sunday\, Dec. 15\, at 3 pm. All ages are welcome. Since it’s cold outside\, we’ll keep moving at a moderate pace to stay warm as we enjoy the sights and sounds of nature. Round-trip\, the distance is about two miles. The walk will be finished in under an hour. \nREGISTER FOR THE WALK \nSowams Woods is a 12-acre nature preserve in Barrington\, RI. We’ll park in the dirt parking area near Echo Lake at the juncture of South Lake Drive and North Lake Drive (see picture below – where red dot marks Sowams Woods). Enter North Lake Drive or South Lake Drive via Middle Highway and cross over the bike path to access the parking area.
URL:https://www.blct.org/event/winter-walk-sowams-woods/
LOCATION:Sowams Woods\, South Lake Drive\, Barrington\, Rhode Island\, 02806
END:VEVENT
END:VCALENDAR