BEGIN:VCALENDAR
VERSION:2.0
PRODID:-//Barrington Land Trust - ECPv6.15.20//NONSGML v1.0//EN
CALSCALE:GREGORIAN
METHOD:PUBLISH
X-WR-CALNAME:Barrington Land Trust
X-ORIGINAL-URL:https://www.blct.org
X-WR-CALDESC:Events for Barrington Land Trust
REFRESH-INTERVAL;VALUE=DURATION:PT1H
X-Robots-Tag:noindex
X-PUBLISHED-TTL:PT1H
BEGIN:VTIMEZONE
TZID:America/New_York
BEGIN:DAYLIGHT
TZOFFSETFROM:-0500
TZOFFSETTO:-0400
TZNAME:EDT
DTSTART:20230312T070000
END:DAYLIGHT
BEGIN:STANDARD
TZOFFSETFROM:-0400
TZOFFSETTO:-0500
TZNAME:EST
DTSTART:20231105T060000
END:STANDARD
BEGIN:DAYLIGHT
TZOFFSETFROM:-0500
TZOFFSETTO:-0400
TZNAME:EDT
DTSTART:20240310T070000
END:DAYLIGHT
BEGIN:STANDARD
TZOFFSETFROM:-0400
TZOFFSETTO:-0500
TZNAME:EST
DTSTART:20241103T060000
END:STANDARD
BEGIN:DAYLIGHT
TZOFFSETFROM:-0500
TZOFFSETTO:-0400
TZNAME:EDT
DTSTART:20250309T070000
END:DAYLIGHT
BEGIN:STANDARD
TZOFFSETFROM:-0400
TZOFFSETTO:-0500
TZNAME:EST
DTSTART:20251102T060000
END:STANDARD
END:VTIMEZONE
BEGIN:VEVENT
DTSTART;TZID=America/New_York:20241005T080000
DTEND;TZID=America/New_York:20241027T163000
DTSTAMP:20260423T171718
CREATED:20241001T185315Z
LAST-MODIFIED:20241001T193534Z
UID:14395-1728115200-1730046600@www.blct.org
SUMMARY:Story Walk at Sowams Woods
DESCRIPTION:Take a family stroll around Sowams Woods\, a safe\, scenic one-mile walking loop\, and read a book at the same time! Young explorers will have fun spotting the large-format pages of a book posted along the trail. This year\, we’re featuring Mushrooms Know: Wisdom From our Friends the Fungi by Kallie George and Sara Gillingham. \nA young explorer on a Story Walk in 2022. \nThis vibrant picture book shares fascinating lessons that fungi teach us all: small can be mighty and being unique is a reason to celebrate. Sara Gillingham’s lively art and Kallie George’s charming text captures the wondrous world of mushrooms\, and everything we can learn from them.  \nThis program is held in partnership with the Barrington Public Library. \nDirections to Sowams Woods (NOT SOWAMS SCHOOL): Sowams Woods is located at the corner of South Lake Drive and Washington Road in Barrington. Please park on Spinnaker Drive or Lighthouse Lane and start the walk on Washington Road.  \nLearn more about Sowams Woods.
URL:https://www.blct.org/event/storywalk-at-sowams-woods/
LOCATION:Sowams Woods\, South Lake Drive\, Barrington\, Rhode Island\, 02806
END:VEVENT
BEGIN:VEVENT
DTSTART;TZID=America/New_York:20241005T100000
DTEND;TZID=America/New_York:20241005T110000
DTSTAMP:20260423T171718
CREATED:20240901T210829Z
LAST-MODIFIED:20240901T210950Z
UID:14362-1728122400-1728126000@www.blct.org
SUMMARY:Guided Walk: Andreozzi Nature Preserve & Lombardi Park
DESCRIPTION:Andreozzi Nature Preserve. Photo by Jasmine Malik. \nJoin us on Saturday\, Oct. 5\, at 10 am for a walk to Andreozzi Nature Preserve and Lombardi Park. These two conservation areas are within 100 yards of each other off the East Bay Bike Path. Both properties are owned and managed by the Barrington Land Conservation Trust. \nThe terrain is gentle but may be wet in places. The guided walk will last about an hour. All ages are welcome. \nREGISTER FOR THE WALK \nAndreozzi Nature Preserve \nAndreozzi Nature Preserve was donated by Annie J. Andreozzi in memory of her husband\, Emilio L. Andreozzi\, for the purpose of establishing and maintaining a unique natural area where plants\, birds and other forms of animal life could be protected. \nShe also wished to have the property used to further public knowledge and appreciation of plants\, animals and natural resources. \nLombardi Park. Photo by Jasmine Malik. \nLombardi Park \nSalvatore Lombardi and his wife Josephine emigrated from Italy to Barrington in 1924. He worked at the Barrington Brickyard and became a skilled stone mason and\, together with their family\, they grew a construction and real estate development business. \nLombardi Park was donated by Salvatore Lombardi\, Jr.\, Anthony Lombardi and Joseph Lombardi in 2004. The site includes Little Echo Lake\, where many members of the Lombardi family swam in their youth. \n 
URL:https://www.blct.org/event/guided-walk-andreozzi-nature-preserve-lombardi-park/
LOCATION:Andreozzi Nature Preserve\, Lee Ann Drive\, Barrington\, RI\, 02806
END:VEVENT
BEGIN:VEVENT
DTSTART;TZID=America/New_York:20241006T130000
DTEND;TZID=America/New_York:20241006T150000
DTSTAMP:20260423T171718
CREATED:20240820T191459Z
LAST-MODIFIED:20240921T111854Z
UID:14327-1728219600-1728226800@www.blct.org
SUMMARY:Student Stewardship Team - Johannis Farm Wildlife Preserve
DESCRIPTION:If you are not a registered member and would like to join\, visit our Student Stewardship page for more information. \nOn Sunday\, Oct. 6\, from 1-3 pm\, we’ll be working at Johannis Farm Wildlife Preserve digging holes for a new planting of native shrubs.  \nREGISTER FOR THE EVENT \nWear lightweight long pants\, socks\, shoes\, and your Land Trust hat (Land Trust T-shirt optional). Bring a water bottle! \nJohannis Farm Wildlife Preserve is located on Sowams Road in Barrington. The entrance lies between 461 Sowams Road and 475 Sowams Road. You can park in the grassy area indicated on the map. If you get lost or will be late\, call/text me at 508-733-2443. \n 
URL:https://www.blct.org/event/student-stewardship-team-johannis-farm-wildlife-preserve/
LOCATION:Johannis Farm Wildlife Preserve
END:VEVENT
BEGIN:VEVENT
DTSTART;TZID=America/New_York:20241012T090000
DTEND;TZID=America/New_York:20241012T110000
DTSTAMP:20260423T171718
CREATED:20241004T094323Z
LAST-MODIFIED:20241004T103521Z
UID:14407-1728723600-1728730800@www.blct.org
SUMMARY:Student Stewardship Team - Barrington Middle School Pollinator Garden
DESCRIPTION:If you are not a registered member and would like to join\, visit our Student Stewardship page for more information. \nOn Saturday\, Oct. 12\, from 9 -11 am\, we’ll be placing plant identifier markers in the new pollinator garden behind Barrington Middle School\, spreading some additional mulch over the path\, and getting the garden ready for winter. \nREGISTER FOR THE EVENT \nDress for the weather and wear sturdy\, water-resistant footwear. Wear long pants and a long shirt\, and your Land Trust hat. Land Trust t-shirt optional. Bring a water bottle! \nWe’ll meet in the parking area in the back of the Barrington Middle School\, 261 Middle Highway. \nThanks for participating!
URL:https://www.blct.org/event/student-stewardship-team-barrington-middle-school-garden/
LOCATION:Barrington Middle School\, 261 Middle Highway\, Barrington\, RI\, 02806
END:VEVENT
BEGIN:VEVENT
DTSTART;TZID=America/New_York:20241019T090000
DTEND;TZID=America/New_York:20241019T120000
DTSTAMP:20260423T171718
CREATED:20240901T142143Z
LAST-MODIFIED:20241021T154652Z
UID:14346-1729328400-1729339200@www.blct.org
SUMMARY:Art in Nature Series: Being [with] Trees with Kendall Reiss
DESCRIPTION:The Barrington Land Conservation Trust’s “Art in Nature” Series presents a community workshop\, “Being [with] Trees\,” on Saturday\, Oct. 19\, from 9 am to noon\, with artist Kendall Reiss. The workshop will take place at Sowams Woods in Barrington\, RI. Participants will learn to produce molds from natural materials and transform them into art objects and wearables. \nThis workshop is open to adults and students age 12+. No prior artistic experience is required. Registration is limited to 20 people. The registration fee of $20 covers the cost of materials\, payable by check or cash at the event. The artist is donating her time to conduct the workshop. \nREGISTER FOR THE EVENT \nSowams Woods\, one of the properties protected by the Barrington Land Conservation Trust\, is part of the ancestral homelands of the Pokanoket people. The preserve is considered a sacred area by the Pokonoket Tribe\, a place of peace that was once set aside for women and for childbirth. In 2006\, the Land Trust acquired Sowams Woods with the support of local\, state\, and federal funding and local philanthropists. The property encompasses 12 acres of forested land with a network of trails bordering Echo Lake.  \nMolding a Relationship with Trees \n“With their ability to sequester carbon and provide clean water\, forests are integral to understand earth’s climate and cultivate sustainable ecosystems\,” says artist Kendall Reiss\, a Professor at the School of the Museum of Fine Arts at Tufts University. \nIn this community workshop\, participants will work with two different types of alginate to produce molds from trees\, rocks\, pinecones\, and natural materials found at Sowams Woods. From these molds\, participants will cast objects and wearables in concrete. \nKendall Reiss has conducted artistic projects among indigenous tree-species reforestation sites in Portugal\, in networks of old growth forest in the Southern Appalachian Mountains\, in the pine-esker forests of Finland\, and with an indigenous tulip tree elder in her hometown of Bristol\, R.I. Her work takes many forms: jewelry\, objects\, conversations\, writings\, rituals\, exhibits\, shared understandings\, and community workshops. \n“My hope is to fuel an ongoing collaboration in which trees are participants in artistic creation and biologic exchange\,” she says. \nWorksop Handout \nKendall Reiss \nAbout Kendall Reiss \nKendall Reiss is a Professor of the Practice in Metals at the School of the Museum of Fine Arts at Tufts University in Boston\, where she serves as Chair of the 3D & Performance Department. A native of Bristol\, she grew up exploring the rocky shoreline of Narragansett Bay. She earned a BS in Geology from Dickinson College\, studied at the Haystack Mountain School of Crafts\, and received an MFA in Jewelry and Metalsmithing from the Rhode Island School of Design. \nHer work has been exhibited at museums in Finland and Portugal\, the New York City Jewelry Week\, the Baltimore Jewelry Center\, Greenville Center for Creative Arts\, Bristol Art Museum\, and Haskell Public Gardens. Kendall recently presented her ongoing research project\, BEING [with] TREES at the College Art Association annual conference in the session\, Learning from Trees: Artists & Climate Solutions. \nKendall has worked on curatorial projects at Brooklyn Metal Works\, The Hotel Wilshire\, Velvet da Vinci\, and Alloy Gallery. She has taught at the Rhode Island School of Design\, Fuller Craft Museum\, and with Pocosin Arts School of Fine Craft. \nKendall owns and operates the local arts initiative\, Kendall Reiss Gallery & Studio\, at 469 Wood Street in Bristol\, RI. The business focuses on exhibiting the work of contemporary artists and jewelers\, offers private instruction and small group classes in jewelry making and metalworking\, in addition to serving as Kendall’s studio. 
URL:https://www.blct.org/event/art-in-nature-series-being-with-trees-with-kendall-reiss/
END:VEVENT
BEGIN:VEVENT
DTSTART;TZID=America/New_York:20241019T090000
DTEND;TZID=America/New_York:20241019T120000
DTSTAMP:20260423T171718
CREATED:20241004T103424Z
LAST-MODIFIED:20241004T103424Z
UID:14411-1729328400-1729339200@www.blct.org
SUMMARY:Student Stewardship Team - Sowams Woods - Art in Nature Workshop
DESCRIPTION:If you are not a registered member and would like to join\, visit our Student Stewardship page for more information. \nOn Saturday\, Oct. 19\, from 9 am to noon\, we’ll be assisting artist Kendall Reiss who is leading a workshop called “Being [with] Trees.” She’ll be teaching people how to produce molds from natural materials and transform them into art objects and wearables. \nREGISTER FOR THE EVENT \n\nDress for the weather and wear your Land Trust hat (Land Trust t-shirt optional). \nPark in the dirt parking area at the juncture of South Lake Drive and North Lake Drive (see picture below – where red dot marks Sowams Woods). \n\n\n \n\n  \n 
URL:https://www.blct.org/event/student-stewardship-team-sowams-woods-art-in-nature-workshop/
LOCATION:Sowams Woods\, South Lake Drive\, Barrington\, Rhode Island\, 02806
END:VEVENT
BEGIN:VEVENT
DTSTART;TZID=America/New_York:20241026T100000
DTEND;TZID=America/New_York:20241026T113000
DTSTAMP:20260423T171718
CREATED:20240913T165500Z
LAST-MODIFIED:20241012T110721Z
UID:14385-1729936800-1729942200@www.blct.org
SUMMARY:Guided Walk: Doug Rayner Wildlife Refuge
DESCRIPTION:Visit the Doug Rayner Wildlife Refuge on Saturday\, Oct. 26 at 10 am and enjoy the fall colors and crisp autumn air. The walk is limited in size to ensure the best possible experience for participants. \nREGISTER FOR THE WALK \nThe walk will be led by Peter McCalmont\, Chairman of the Doug Rayner Wildlife Refuge Management Committee\, and Charlie Brown\, retired wildlife biologist with the Rhode Island Department of Environmental Management\, Co-Chair of the Management Committee and Co-Manager of the Refuge.  \nThe Refuge is located on Nockum Hill on a peninsula extending into the Barrington River and Hundred Acre Cove estuary. Owned by the Town of Barrington\, the Refuge’s public hiking trails traverse 82 acres of field\, forest and shoreline. \nHistory of Nockum Hill \nNockum Hill has figured prominently in Barrington’s history. Once home to the Pokanoket people\, it is the site of the first Baptist meetinghouse in the New World. Legend has it that the first shots of King Philip’s War were fired nearby. \nThe town acquired the land in the 1960s and designated it as a wildlife refuge in 1994. The Barrington Land Conservation Trust was granted a conservation easement on the property in 2005 to ensure the property remains protected in perpetuity. This sensitive land is managed by the Doug Rayner Management Committee in collaboration with the Land Trust. \nIn 2000\, the Refuge was named after ardent naturalist Doug Rayner\, a member of the Barrington Conservation Commission and a board member of the Barrington Land Conservation Trust. Doug was instrumental in protecting the marshes and upland buffers of the Palmer and Barrington Rivers\, Nockum Hill and Hundred Acre Cove\, and was active in protecting endangered species and their habitats. \nLong recognized as a property of great natural resource value because of its coastal wetland and habitat\, it includes extensive salt marsh\, shrub-dominated fields\, deciduous forest and farmland. It provides habitat for a wide variety of animals which make their home in the diverse ecosystem of the Refuge and several special interest bird species such as clapper rail\, seaside sparrow and marsh wren. \nThe Barrington Land Conservation Trust has preserved approximately 300 acres of open space in perpetuity for the benefit of the public.
URL:https://www.blct.org/event/guided-walk-doug-rayner-wildlife-refuge-4/
LOCATION:Doug Rayner Wildlife Refuge\, 111 George St.\, Barrington\, RI\, 02806\, United States
END:VEVENT
END:VCALENDAR