BEGIN:VCALENDAR
VERSION:2.0
PRODID:-//Barrington Land Trust - ECPv6.15.20//NONSGML v1.0//EN
CALSCALE:GREGORIAN
METHOD:PUBLISH
X-ORIGINAL-URL:https://www.blct.org
X-WR-CALDESC:Events for Barrington Land Trust
REFRESH-INTERVAL;VALUE=DURATION:PT1H
X-Robots-Tag:noindex
X-PUBLISHED-TTL:PT1H
BEGIN:VTIMEZONE
TZID:America/New_York
BEGIN:DAYLIGHT
TZOFFSETFROM:-0500
TZOFFSETTO:-0400
TZNAME:EDT
DTSTART:20230312T070000
END:DAYLIGHT
BEGIN:STANDARD
TZOFFSETFROM:-0400
TZOFFSETTO:-0500
TZNAME:EST
DTSTART:20231105T060000
END:STANDARD
BEGIN:DAYLIGHT
TZOFFSETFROM:-0500
TZOFFSETTO:-0400
TZNAME:EDT
DTSTART:20240310T070000
END:DAYLIGHT
BEGIN:STANDARD
TZOFFSETFROM:-0400
TZOFFSETTO:-0500
TZNAME:EST
DTSTART:20241103T060000
END:STANDARD
BEGIN:DAYLIGHT
TZOFFSETFROM:-0500
TZOFFSETTO:-0400
TZNAME:EDT
DTSTART:20250309T070000
END:DAYLIGHT
BEGIN:STANDARD
TZOFFSETFROM:-0400
TZOFFSETTO:-0500
TZNAME:EST
DTSTART:20251102T060000
END:STANDARD
END:VTIMEZONE
BEGIN:VEVENT
DTSTART;TZID=America/New_York:20240804T130000
DTEND;TZID=America/New_York:20240804T150000
DTSTAMP:20260423T130221
CREATED:20240725T174247Z
LAST-MODIFIED:20240725T174319Z
UID:14237-1722776400-1722783600@www.blct.org
SUMMARY:Student Stewardship Team - Johannis Farm Wildlife Preserve
DESCRIPTION:This event is for registered members of the Land Trust’s Student Stewardship Team ONLY. \nIf you are not a registered member and would like to join\, visit our Student Stewardship page for more information. \nOn Sunday\, Aug. 4\, from 1 – 3 pm\, we’ll be working at Johannis Farm Wildlife Preserve removing weeds around recently planted native trees and shrubs. We’ll also do some trail maintenance\, time permitting. \nREGISTER FOR THE EVENT \nWear lightweight long pants\, socks\, shoes\, and your Land Trust hat if you have one. Bring a water bottle! \nJohannis Farm Wildlife Preserve is located on Sowams Road in Barrington. The entrance lies between 461 Sowams Road and 475 Sowams Road. You can park in the grassy area indicated on the map. If you get lost or will be late\, call/text me at 508-733-2443.
URL:https://www.blct.org/event/14237/
LOCATION:Johannis Farm Wildlife Preserve
END:VEVENT
BEGIN:VEVENT
DTSTART;TZID=America/New_York:20240812T090000
DTEND;TZID=America/New_York:20240812T110000
DTSTAMP:20260423T130221
CREATED:20240806T114820Z
LAST-MODIFIED:20240806T121110Z
UID:14288-1723453200-1723460400@www.blct.org
SUMMARY:Student Stewardship Team - Sowams Woods
DESCRIPTION:This event is for registered members of the Land Trust’s Student Stewardship Team ONLY. \nIf you are not a registered member and would like to join\, visit our Student Stewardship page for more information. \nOn Monday\, Aug. 12\, from 9-11 am\, we’ll be maintaining trails at Sowams Woods.  \nDress for the weather and wear sturdy footwear. Wear lightweight long pants with socks (for tick and poison ivy prevention) and your Land Trust hat (Land Trust T-shirt optional). Bring a water bottle! \nREGISTER FOR STEWARDSHIP EVENT \n 
URL:https://www.blct.org/event/14288/
LOCATION:Sowams Woods\, South Lake Drive\, Barrington\, Rhode Island\, 02806
END:VEVENT
BEGIN:VEVENT
DTSTART;TZID=America/New_York:20240816T100000
DTEND;TZID=America/New_York:20240816T120000
DTSTAMP:20260423T130221
CREATED:20240723T111246Z
LAST-MODIFIED:20240807T105620Z
UID:14196-1723802400-1723809600@www.blct.org
SUMMARY:Art in Nature Series: Poetry in the Wild
DESCRIPTION:Poets and aspiring writers are invited to participate in this free poetry workshop at Doug Rayner Wildlife Refuge on Friday\, Aug. 16\, from 10 am to noon. \nThe workshop will be led by published poet Cindy Elder. We’ll begin with a walk through the Refuge\, and then we’ll find a comfortable place to sit and write\, drawing on our observations\, sensations and reflections on the wilderness around us. Those who are comfortable may share their work. \nREGISTER FOR THE WORKSHOP \nThis workshop is recommended for adults and students ages 12 and up who have an interest in writing. All forms of poetry are welcome. Bring a folding chair or a blanket to sit on\, a water bottle\, and any writing supplies you need. We recommend you wear shoes and socks\, lightweight long pants and shirt\, and a hat to protect from sun and insects. Mosquito and tick spray will be provided on site if you need it. \nThe Doug Rayner Wildlife Refuge is an 82-acre town-owned preserve along Hundred Acre Cove in Barrington. The terrain is gentle but may be wet or uneven in places\, with some moderate inclines. The Refuge is located at 111 George Street in Barrington\, off Warren Avenue in Seekonk (near Four Town Farm). There is a parking area along the side of the road near the white gate at the entrance to the Refuge. \nIf you have any questions\, email cindyelder@blct.org. \nAbout the Workshop Leader \nCindy Elder \nCindy Elder’s poems have appeared in Plainswoman\, The Allegheny Review\, The Last Stanza Poetry Journal\, Frost Meadow Review\, Blood & Bourbon\, Blue Heron Review\, and anthologies by the Tallgrass Writers Guild\, Notable Works\, Derailleur Press\, Outrider Press\, and elsewhere. She earned a bachelor’s degree in creative writing and career writing from Roger Williams University and a master of public affairs degree from Brown University. Cindy lives on the edge of Hundred Acre Cove in Rhode Island\, where she serves as executive director of the Barrington Land Conservation Trust. \n  \n 
URL:https://www.blct.org/event/art-in-nature-series-poetry-in-the-wild/
LOCATION:Doug Rayner Wildlife Refuge\, 111 George St.\, Barrington\, RI\, 02806\, United States
END:VEVENT
BEGIN:VEVENT
DTSTART;TZID=America/New_York:20240817T130000
DTEND;TZID=America/New_York:20240817T150000
DTSTAMP:20260423T130221
CREATED:20240808T120826Z
LAST-MODIFIED:20240808T120826Z
UID:14295-1723899600-1723906800@www.blct.org
SUMMARY:Student Stewardship Team - St. Andrews Farm
DESCRIPTION:This event is for registered members of the Land Trust’s Student Stewardship Team ONLY. \nIf you are not a registered member and would like to join\, visit our Student Stewardship page for more information. \nOn Sat.\, Aug. 17\, from 1-3 pm\, we’ll be clearing trails and removing invasive plants at St. Andrews Farm. Park in the parking lot at 101 Middle Highway. \nWear lightweight long pants\, socks\, shoes\, t-shirt (Land Trust T-shirt optional)\, and your Land Trust hat. Bring a water bottle! \nREGISTER FOR THE STEWARDSHIP EVENT
URL:https://www.blct.org/event/student-stewardship-team-st-andrews-farm-4/
LOCATION:St. Andrews Farm\, 101 Middle Highway\, Barrington\, RI\, 02806
END:VEVENT
BEGIN:VEVENT
DTSTART;TZID=America/New_York:20240829T170000
DTEND;TZID=America/New_York:20240829T180000
DTSTAMP:20260423T130221
CREATED:20240729T142248Z
LAST-MODIFIED:20240817T105301Z
UID:14245-1724950800-1724954400@www.blct.org
SUMMARY:Evening Walk at Johannis Farm Wildlife Preserve
DESCRIPTION:Property Steward Bill Kirkpatrick \nExperience an evening walk at one of Barrington’s rarely seen wilderness areas with the Barrington Land Conservation Trust. \nOn Thursday\, Aug. 29\, at 5 pm\, join a guided walk through the Johannis Farm Wildlife Preserve\, a 32-acre expanse of field\, forest and wetland between Sowams Road and the Palmer River. The walk will be led by Property Steward Bill Kirkpatrick. \nREGISTER FOR THE EVENT \nDogs are not allowed because of the birds and animals that make this wildlife preserve their home.  \nJohannis Farm Wildlife Preserve is located on Sowams Road\, 0.7 miles north of Sowams Elementary School. \nThe walk takes approximately one hour over wet and moderate terrain. We recommend you wear lightweight long pants\, sturdy shoes and socks\, and a lightweight long-sleeved shirt to protect against mosquitos and ticks. Bug spray will be available.  Parking is available on site. \nBe aware that the primary bridge which connected the two sides of the property was washed out during a king high tide storm. You will be able to walk both sides of the property\, but you won’t be able to walk it as a loop trail. A new bridge is in the planning phase. \nJohannis Farm Wildlife Preserve was acquired by the Land Trust in 1991 through a combination of Rhode Island and Barrington Open Space bonds and charitable donations to the Barrington Land Conservation Trust. Due to the sensitive native plants and animals on the property\, it is not generally open to the public. The Land Trust hosts several guided walks each year to enable the public to experience the property\, which has been preserved as a wilderness reserve in perpetuity. \n\n\n\n\nAdd to calendar
URL:https://www.blct.org/event/evening-at-johannis/
LOCATION:Johannis Farm Wildlife Preserve
END:VEVENT
END:VCALENDAR