BEGIN:VCALENDAR
VERSION:2.0
PRODID:-//Barrington Land Trust - ECPv6.15.20//NONSGML v1.0//EN
CALSCALE:GREGORIAN
METHOD:PUBLISH
X-ORIGINAL-URL:https://www.blct.org
X-WR-CALDESC:Events for Barrington Land Trust
REFRESH-INTERVAL;VALUE=DURATION:PT1H
X-Robots-Tag:noindex
X-PUBLISHED-TTL:PT1H
BEGIN:VTIMEZONE
TZID:America/New_York
BEGIN:DAYLIGHT
TZOFFSETFROM:-0500
TZOFFSETTO:-0400
TZNAME:EDT
DTSTART:20230312T070000
END:DAYLIGHT
BEGIN:STANDARD
TZOFFSETFROM:-0400
TZOFFSETTO:-0500
TZNAME:EST
DTSTART:20231105T060000
END:STANDARD
BEGIN:DAYLIGHT
TZOFFSETFROM:-0500
TZOFFSETTO:-0400
TZNAME:EDT
DTSTART:20240310T070000
END:DAYLIGHT
BEGIN:STANDARD
TZOFFSETFROM:-0400
TZOFFSETTO:-0500
TZNAME:EST
DTSTART:20241103T060000
END:STANDARD
BEGIN:DAYLIGHT
TZOFFSETFROM:-0500
TZOFFSETTO:-0400
TZNAME:EDT
DTSTART:20250309T070000
END:DAYLIGHT
BEGIN:STANDARD
TZOFFSETFROM:-0400
TZOFFSETTO:-0500
TZNAME:EST
DTSTART:20251102T060000
END:STANDARD
END:VTIMEZONE
BEGIN:VEVENT
DTSTART;TZID=America/New_York:20240204T130000
DTEND;TZID=America/New_York:20240204T150000
DTSTAMP:20260423T102751
CREATED:20240106T184618Z
LAST-MODIFIED:20240106T184618Z
UID:13595-1707051600-1707058800@www.blct.org
SUMMARY:Student Stewardship Team - Sunday\, Feb. 4\, 1-3 pm
DESCRIPTION:This event is for registered members of the Land Trust’s Student Stewardship Team ONLY.  \nIf you are not a registered member and would like to join\, visit our Student Stewardship page for more information. \nOn Feb. 4\, we’ll be working at Johannis Farm Wildlife Preserve doing trail clearing and other tasks. Dress for the weather and wear sturdy\, water-resistant footwear.  \nREGISTER FOR THE FEB. 4 WORK DAY
URL:https://www.blct.org/event/student-stewardship-team-sunday-feb-4-1-3-pm/
LOCATION:Johannis Farm Wildlife Preserve
END:VEVENT
BEGIN:VEVENT
DTSTART;TZID=America/New_York:20240206T183000
DTEND;TZID=America/New_York:20240206T200000
DTSTAMP:20260423T102751
CREATED:20231201T204341Z
LAST-MODIFIED:20231201T214232Z
UID:13530-1707244200-1707249600@www.blct.org
SUMMARY:Pollinator Pathway Meet Up - Tues.\, Feb. 6\, 6:30 pm
DESCRIPTION:Are you already missing your time in the garden?  \nDid you have an amazing growing season\, or do you have more questions than answers when it comes to this native plant gardening business? \nJoin the Pollinator Pathway group on Tuesday\, Feb. 6\, at 6:30 pm in the Salem Family Auditorium at the Barrington Public Library for a casual sharing of ideas and questions\, whether it’s about or how to speak with your neighbors about the “tidiness” of your space\, or “what on earth is a nativar”?  \nYou can send us 3-5 photos of your garden (by January 28 please) and we will share them with the group at the event. If you’d like to speak about your successes and challenges\, please be prepared to present for about 5 minutes. If you’d rather not speak\, but have photos to share\, please send those along too. \nRegister for the Event and Upload Your Photos \nYou may also email your photos\, questions and concerns to pollinatorpathways@blct.org.
URL:https://www.blct.org/event/pollinator-pathway-meet-up-tues-feb-6-630-pm/
LOCATION:Barrington Public Library\, 281 County Rd\,\, Barrington\, RI\, 02806\, United States
END:VEVENT
BEGIN:VEVENT
DTSTART;TZID=America/New_York:20240217T100000
DTEND;TZID=America/New_York:20240217T110000
DTSTAMP:20260423T102751
CREATED:20240125T204513Z
LAST-MODIFIED:20240128T104243Z
UID:13729-1708164000-1708167600@www.blct.org
SUMMARY:Young Explorers Wilderness Adventure - St. Andrews Farm - Sat.\, Feb. 17\, 10 am
DESCRIPTION:Pull up your boots and zip up your coats\, Young Explorers… we’re heading for adventure! This experience is tailor-made for families with young children\, but all ages are welcome to participate in this fun-filled outdoor experience. \nJoin us Saturday\, Feb. 17\, at 10 am at St. Andrews Farm\, a town-owned nature preserve located at 101 Middle Highway. The adventure will last about an hour\, but you can leave whenever you’re ready. \nREGISTER FOR THE EVENT. \nWe’ll run and jump to keep warm\, sing hiking songs and tell stories while we discover nature’s hidden treasures in the field and forest at St. Andrews Farm. If it snows\, we’ll build snow sculptures!  Bring your camera to get some memorable family photos.  \nThis event is free and open to all\, so invite your friends\, playmates and grandparents! There’s plenty of parking in the lot at St. Andrews Farm. \nTo learn more about this special property\, visit our St. Andrews Farm page.
URL:https://www.blct.org/event/young-explorers-st-andrews-farm/
LOCATION:St. Andrews Farm\, 101 Middle Highway\, Barrington\, RI\, 02806
END:VEVENT
BEGIN:VEVENT
DTSTART;TZID=America/New_York:20240218T130000
DTEND;TZID=America/New_York:20240218T150000
DTSTAMP:20260423T102751
CREATED:20240106T185151Z
LAST-MODIFIED:20240215T173104Z
UID:13598-1708261200-1708268400@www.blct.org
SUMMARY:Student Stewardship Team - Sunday\, Feb. 18\, 1-3 pm
DESCRIPTION:This event is for registered members of the Land Trust’s Student Stewardship Team ONLY.  \nIf you are not a registered member and would like to join\, visit our Student Stewardship page for more information. \nThanks for registering for the Student Stewardship Team event on Sunday\, Feb. 18\, from 1-3 pm. We’ll be working inside at Cindy Elder’s house building “excluder cages” for the Terrapin Conservation Project. \nREGISTER FOR THE FEB. 18 WORK DAY
URL:https://www.blct.org/event/student-stewardship-team-sunday-feb-18-1-3-pm/
END:VEVENT
BEGIN:VEVENT
DTSTART;TZID=America/New_York:20240221T190000
DTEND;TZID=America/New_York:20240221T203000
DTSTAMP:20260423T102751
CREATED:20240124T133103Z
LAST-MODIFIED:20240214T154447Z
UID:13684-1708542000-1708547400@www.blct.org
SUMMARY:Learning Series: "Gather" Documentary
DESCRIPTION:Join us on Wednesday\, Feb. 21\, at 7 pm for a screening of the documentary\, Gather\, followed by discussion of the movie. Pokanoket Sachem Tracey Dancing Star Brown will introduce the move and provide a land acknowledgment. event will take place in the Salem Family Auditorium at the Barrington Public Library\, 281 County St.\, Barrington\, RI. There is no Zoom option for this event. \nGather follows the stories of Indigenous Peoples on the frontlines of a growing movement to reconnect with spiritual and cultural identities through a closer connection to their traditional foodways and native plants. \nREGISTER FOR THE EVENT. \nThe 74-minute documentary is directed by Sanjay Rawal and produced by Illumine in association with Ager Meillier Films and First Nations Institute. Rawal earned the James Beard Award for his film\, Food Chains\, and his films have won many festival prizes. \nThis film follows the experiences of several Indigenous people as they engage with their ancestral lands and food. A chef embarks on an ambitious project to reclaim ancient food ways on the Apache reservation. In South Dakota\, a gifted Lakota high school student\, raised on a buffalo ranch\, proves her tribe’s native wisdom through her passion for science. A group of young men of the Yurok tribe in Northern California struggle to keep their culture alive and rehabilitate the habitat of their sacred salmon. \nThe stories show how the reclaiming and recovery of ancient food ways is helping Indigenous Peoples to restore health and vitality to their people. \nThis event is held in partnership with the Barrington Public Library and through the generosity of our sponsors. For information on how you can sponsor the Learning Series\, email Cindy Elder. \nWatch the Gather Trailer \nThanks to our 2024 Land Trust Learning Series Sponsors!\nLeadership Sponsor\n \nPartner Sponsors\n\n \nSupporting Sponsor\nMeridian Custom Homes\nCommunity Sponsors\nCharles E. Millard\, Inc. General Contractors \nThe Gob Shop \nJaffee Orthodontics
URL:https://www.blct.org/event/learning-series-gather-documentary/
LOCATION:Barrington Public Library\, 281 County Rd\,\, Barrington\, RI\, 02806\, United States
END:VEVENT
END:VCALENDAR