BEGIN:VCALENDAR
VERSION:2.0
PRODID:-//Barrington Land Trust - ECPv6.15.20//NONSGML v1.0//EN
CALSCALE:GREGORIAN
METHOD:PUBLISH
X-ORIGINAL-URL:https://www.blct.org
X-WR-CALDESC:Events for Barrington Land Trust
REFRESH-INTERVAL;VALUE=DURATION:PT1H
X-Robots-Tag:noindex
X-PUBLISHED-TTL:PT1H
BEGIN:VTIMEZONE
TZID:America/New_York
BEGIN:DAYLIGHT
TZOFFSETFROM:-0500
TZOFFSETTO:-0400
TZNAME:EDT
DTSTART:20220313T070000
END:DAYLIGHT
BEGIN:STANDARD
TZOFFSETFROM:-0400
TZOFFSETTO:-0500
TZNAME:EST
DTSTART:20221106T060000
END:STANDARD
BEGIN:DAYLIGHT
TZOFFSETFROM:-0500
TZOFFSETTO:-0400
TZNAME:EDT
DTSTART:20230312T070000
END:DAYLIGHT
BEGIN:STANDARD
TZOFFSETFROM:-0400
TZOFFSETTO:-0500
TZNAME:EST
DTSTART:20231105T060000
END:STANDARD
BEGIN:DAYLIGHT
TZOFFSETFROM:-0500
TZOFFSETTO:-0400
TZNAME:EDT
DTSTART:20240310T070000
END:DAYLIGHT
BEGIN:STANDARD
TZOFFSETFROM:-0400
TZOFFSETTO:-0500
TZNAME:EST
DTSTART:20241103T060000
END:STANDARD
END:VTIMEZONE
BEGIN:VEVENT
DTSTART;TZID=America/New_York:20230607T183000
DTEND;TZID=America/New_York:20230607T190000
DTSTAMP:20260424T050316
CREATED:20230414T165340Z
LAST-MODIFIED:20230414T165509Z
UID:12372-1686162600-1686164400@www.blct.org
SUMMARY:2023 Land Trust Annual Meeting
DESCRIPTION:Active members of the Barrington Land Conservation Trust are invited to attend the Annual Meeting to vote on the slate of officers for the Board of Directors for the coming year. \nThe event will take place from 6:30 to 7 pm in the Salem Family Auditorium at the Barrington Public Library\, 281 County Rd.\, Barrington\, RI. \nREGISTER FOR THE ANNUAL MEETING \nThe Annual Meeting will be followed by a presentation by Lorén M. Spears\, Executive Director of Tomaquag Museum\, on “An Indigenous Perspective on Indigenous Plants.” If you wish to stay for the presentation\, please register separately for the Lorén Spears event\, as space is limited.
URL:https://www.blct.org/event/2023-land-trust-annual-meeting/
LOCATION:Barrington Public Library\, 281 County Rd\,\, Barrington\, RI\, 02806\, United States
END:VEVENT
BEGIN:VEVENT
DTSTART;TZID=America/New_York:20230607T190000
DTEND;TZID=America/New_York:20230607T200000
DTSTAMP:20260424T050316
CREATED:20230325T120341Z
LAST-MODIFIED:20230602T170619Z
UID:12246-1686164400-1686168000@www.blct.org
SUMMARY:Learning Series: An Indigenous Perspective on Native Plants - with Lorén Spears
DESCRIPTION:2023 Land Trust Learning Series\nREGISTER HERE \nJoin us for a special presentation by Lorén M. Spears\, Narragansett Tribal Nation citizen and Executive Director of Tomaquag Museum. \nExplore native plants and discover their uses in the traditional life ways of the Narragansett People with one of Rhode Island’s most recognized and acclaimed Indigenous leaders. \nThe event will take place on Wednesday\, June 7\, at 7 p.m. at the Barrington Public Library\, 281 County Road\, Barrington\, RI. The presentation will last approximately 1 hour and will be followed by a short reception. \nThe Barrington Land Conservation Trust will hold a brief Annual Meeting before the presentation at 6:30 p.m. You are welcome to attend. Active members are invited to vote on the slate of officers. \nAbout Lorén M. Spears \nLorén M. Spears\, Executive Director of Tomaquag Museum\, holds a Master’s in Education and received a Doctor of Humane Letters\, honoris causa in 2017\, from the University of Rhode Island and Doctor of Education\, Honoris Causa from Roger Williams University in 2021. She has contributed to a variety of publications such as Dawnland Voices\, An Anthology of Indigenous Writing of New England; Through Our Eyes: An Indigenous View of Mashapaug Pond; From Slaves to Soldiers: The 1st Rhode Island Regiment in the American Revolution; and Repair: Sustainable Design Futures. Spears co-edited a new edition of A Key into the Language of America by Roger Williams; and recently co-authored “As We Have Always Done: Decolonizing the Tomaquag Museum’s Collections Management Policy” published in the Collections: A Journal for Museum and Archive Professionals. Under her leadership Tomaquag Museum received the Institute of Museums and Library Service’s National Medal in 2016 and she has been the recipient of numerous awards and honors. \nREGISTER HERE TO ATTEND THE EVENT IN PERSON \nThe event will be live-streamed. \nREGISTER HERE TO LIVESTREAM THE EVENT ON ZOOM \nLINK TO ZOOM LIVESTREAM ON WEDNESDAY\, JUNE 7\, AT 7 PM:\nPlease click the link below to join the webinar:\nhttps://us02web.zoom.us/j/89127157925?pwd=VTF4ZmNFL0k2SWw3OFFKZWlKek9PUT09\nPasscode: blct \nThis event would not be possible without our sponsors. For information on how you can sponsor the 2023 Land Trust Learning Series\, email Cindy Elder or call 508-733-2443. Thank you! \n2023 Learning Series Presenting Sponsor\n \n\nLeadership Sponsors\n \nThe Cicione Family & Brickyard Wine \n\nPartner Sponsor\n \nCommunity Sponsors\nEast Bay Oyster Bar\nSteve Primiano’s Custom Window Treatments\nCharles E. Millard\, Inc. General Contractors\n  \nWe are grateful to the Barrington Pubic Library for hosting this event
URL:https://www.blct.org/event/learning-series-an-indigenous-perspective-on-native-plants/
LOCATION:Barrington Public Library\, 281 County Rd\,\, Barrington\, RI\, 02806\, United States
END:VEVENT
BEGIN:VEVENT
DTSTART;TZID=America/New_York:20230613T190000
DTEND;TZID=America/New_York:20230613T200000
DTSTAMP:20260424T050316
CREATED:20230325T121833Z
LAST-MODIFIED:20230612T233702Z
UID:12249-1686682800-1686686400@www.blct.org
SUMMARY:Learning Series: 235 Plants for an Earth-Friendly Garden - with Uli Lorimer
DESCRIPTION:2023 Land Trust Learning Series\nIN PERSON REGISTRATION IS FULL. LIVESTREAM AVAILABLE. \nRegister to Livestream the Event \nJoin us for a special presentation by Uli Lorimer\, author of The Northeast Plant Primer: 235 Plants for an Earth-Friendly Garden and Director of Horticulture at the New England Wild Flower Society. \nThe presentation will take place on Tuesday\, June 13\, at 7 pm in the Salem Family Auditorium at the Barrington Public Library. A livestream option is available. You must select the Livestream registration link to receive the login. \nDelaware native Uli Lorimer grew up with an interest in all things green. He’s transformed that passion into a career. \nIf you want a garden that makes a real difference\, Uli will help you choose plants native to our Northeast region. The rewards will benefit you\, your yard\, and the environment—from reducing maintenance tasks to attracting earth-friendly pollinators such as native birds\, butterflies\, and bees. \nNative plant expert Uli Lorimer makes adding these superstar plants easier than ever before\, with proven advice that every home gardener can follow. His new sourcebook includes 235 recommended native trees\, shrubs\, vines\, ferns\, wildflowers\, grasses\, sedges\, and annuals. It’s everything you need to know to create a beautiful and beneficial garden. \nAbout Uli Lorimer \nUli Lorimer is Director of Horticulture at the New England Wild Flower Society\, a national leader in native plant conservation\, horticulture\, and education. He oversees both Garden in the Woods\, the Society’s botanic garden in Framingham\, and Nasami Farm in western Massachusetts\, a nursery focused on propagation of and research about New England native plants. \nHe served as curator of the Native Flora Garden at Brooklyn Botanic Garden for 15 years before joining the New England Wild Flower Society. During his tenure at BBG\, Uli tended the original 108-year-old Native Flora Garden and was also instrumental in the creation of a new extension of the garden\, which features a native coastal plain meadow and pine barrens. He also worked closely with botanists throughout the region to collect seed from the wild\, propagated new plants for the collection\, and documented and studied the region’s biodiversity. \nUli is a popular teacher and public speaker and is also a contributing author and photographer for several BBG publications\, including Community Gardening\, Healthy Soils for Sustainable Gardens\, Tough Natives for Tough Places\, A Native Plant Reader\, Easy Compost\, and Edible Gardens. \nRegister to Livestream the Event \nThis event would not be possible without our sponsors. For information on how you can sponsor the 2023 Land Trust Learning Series\, email Cindy Elder or call 508-733-2443. Thank you! \n2023 Learning Series Presenting Sponsor\n \n\nLeadership Sponsors\n \nThe Cicione Family and Brickyard Wine \n \nPartner Sponsor\n \nCommunity Sponsors\nEast Bay Oyster Bar\nSteve Primiano’s Custom Window Treatments\nCharles E. Millard\, Inc. General Contractors\n\nWe are grateful to the Barrington Pubic Library for hosting this event
URL:https://www.blct.org/event/uli-lorimer/
LOCATION:Barrington Public Library\, 281 County Rd\,\, Barrington\, RI\, 02806\, United States
END:VEVENT
BEGIN:VEVENT
DTSTART;TZID=America/New_York:20230622T090000
DTEND;TZID=America/New_York:20230622T100000
DTSTAMP:20260424T050316
CREATED:20230605T202354Z
LAST-MODIFIED:20230606T152623Z
UID:12455-1687424400-1687428000@www.blct.org
SUMMARY:Guided Walk: Andreozzi Nature Preserve & Lombardi Park - Thursday\, June 22\, 9 am
DESCRIPTION:Join us on Thursday\, June 22\, at 9 am for a walk to Andreozzi Nature Preserve and Lombardi Park. These two conservation areas are within 100 yards of each other off the East Bay Bike Path. Both properties are owned and managed by the Barrington Land Conservation Trust. \nThe terrain is gentle but may be wet in places. The guided walk will last about 45 minutes. All ages are welcome. \nREGISTER FOR THE WALK \nThe walks will be led by Jerry and Ginny Gonville\, who are avid bird watchers and Land Trust volunteers. Jerry is the property steward for both properties. \nAndreozzi Nature Preserve \nAndreozzi Nature Preserve \nAndreozzi Nature Preserve was donated by Annie J. Andreozzi in memory of her husband\, Emilio L. Andreozzi\, for the purpose of establishing and maintaining a unique natural area where plants\, birds and other forms of animal life could be protected. \nShe also wished to have the property used to further public knowledge and appreciation of plants\, animals and natural resources. \nLombardi Park \nLombardi Park \nSalvatore Lombardi and his wife Josephine emigrated from Italy to Barrington in 1924. He worked at the Barrington Brickyard and became a skilled stone mason and\, together with their family\, they grew a construction and real estate development business. \nLombardi Park was donated by Salvatore Lombardi\, Jr.\, Anthony Lombardi and Joseph Lombardi in 2004. The site includes Little Echo Lake\, where many members of the Lombardi family swam in their youth. \nFor more information on the Barrington Land Conservation Trust\, email Executive Director Cindy Elder. \n 
URL:https://www.blct.org/event/guided-walk-andreozzi-nature-preserve-lombardi-park-thursday-june-22-9-am/
LOCATION:Andreozzi Nature Preserve\, Lee Ann Drive\, Barrington\, RI\, 02806
END:VEVENT
BEGIN:VEVENT
DTSTART;TZID=America/New_York:20230624T090000
DTEND;TZID=America/New_York:20230624T100000
DTSTAMP:20260424T050316
CREATED:20230605T130457Z
LAST-MODIFIED:20230623T170323Z
UID:12458-1687597200-1687600800@www.blct.org
SUMMARY:CANCELLED DUE TO WEATHER - Guided Walk: PIC-WIL Nature Preserve - Saturday\, June 24\, 9 am
DESCRIPTION:This walk has been cancelled due to weather. Please select a different event. \nJoin us on Saturday\, June 24\, at 9 am for a walk to PIC-WIL Nature Preserve. This 17-acre preserve of forest\, field\, salt marsh and coastal dunes on the east shore of the Providence River in Barrington. \nThe terrain is gentle but may be wet in places. Dress for the weather and wear sturdy footwear. You may wish to bring a walking stick or poles to assist you when crossing wet areas. \nThe walk will last about one hour. All ages are welcome. \nOnce home to a bottling facility owned by Deep Water Rock Company\, the property was donated to the Nature Conservancy by Catherine Picerelli in December of 1986 and deeded to the Barrington Land Conservation Trust in 1987\, to be preserved in perpetuity as a nature preserve. The donation was made in memory of the families of Peter J. Picerelli and Clifford M. Wilson: thus the name “PIC-WIL.” Although the property is generally closed to the public due to its status as a nature preserve\, the Land Trust opens PIC-WIL periodically for guided walks. \n  \nThe walk will be led by Peter Burke\, property steward and former President of the Barrington Land Conservation Trust. The forest includes a wide variety of deciduous trees. The property is home to deer\, coyote\, fox\, weasels\, squirrels\, chipmunks and rabbits. \nPurple Martins nest here in late spring and summer. Common birds of the marsh and tidal creeks include Mallards\, American Black Ducks\, Snowy and Great Egrets\, Green-backed Herons\, Great Blue Herons\, and Osprey. Sharp-tailed Sparrows\, Belted Kingfishers and various shorebirds are other likely visitors of the wetland. \nNesting birds of the forest and its shrub border include Song Sparrow\, Carolina Wren\, Blue Jay\, Flicker\, Cardinal\, Goldfinch\, Robin\, Red-eyed Vireo\, Mockingbird\, Catbird\, Brown Thrasher and others. \nThree plants at PIC-WIL have “special interest” status in the state of Rhode Island: Creeping Spikerush (Eleocharis rostellata)\, Maritime Seablite (Suaeda maritima) and Robust Bulrush (Scirpus robustus). \nFor more information on the Barrington Land Conservation Trust\, email Executive Director Cindy Elder.
URL:https://www.blct.org/event/guided-walk-pic-wil-nature-preserve-saturday-june-24-9-am/
LOCATION:Pic-Wil Nature Preserve\, Washington Rd.\, Barrington\, RI\, United States
END:VEVENT
BEGIN:VEVENT
DTSTART;TZID=America/New_York:20230625T080000
DTEND;TZID=America/New_York:20230625T090000
DTSTAMP:20260424T050316
CREATED:20230605T125631Z
LAST-MODIFIED:20230605T125724Z
UID:12463-1687680000-1687683600@www.blct.org
SUMMARY:Guided Walk: Johannis Farm Wildlife Preserve - Sunday\, June 25\, 8 am
DESCRIPTION:Early risers\, this walk’s for you! Join us on Sunday\, June 25\, at 8 am for a walk to Johannis Farm Wildlife Preserve. This 32-acre expanse of field\, forest\, and salt marshes lies the border of the Palmer River\, off Sowams Road in Barrington\, RI. \nREGISTER FOR THE WALK \nThe terrain is gentle but may be wet in places. Dress for the weather and wear sturdy footwear. You may wish to bring a walking stick or poles to assist you when crossing wet areas and narrow foot bridges. Dogs are not allowed on this property. \nThe walk will last about one hour. All ages are welcome. \nBill Kirkpatrick\, the Land Trust’s property steward for Johannis Farm Wildlife Preserve\, will lead the walk.  He will guide you through the forest trail and take you down to the salt marshes\, where you can see the effects of sea level rise in real time. The bridge which allowed circumnavigation of the site was washed out during the floods of December 2022. It will be rebuilt this fall by a team of students from Roger Williams University’s chapter of Engineers Without Borders. \nYou’ll also see the first stage of a three-year planting program at Johannis Farm Wildlife Preserve\, funded in part by the Natural Resource Conservation Service (NRCS). Land Trust volunteers and the Audubon Youth Conservation League Team planted 38 native trees and shrubs in September 2022\, with more planting to come in 2023 and 2024. \nJohannis Farm Wildlife Preserve was acquired by the Land Trust in 1991 through a combination of Rhode Island and Barrington Open Space bonds and charitable donations to the Barrington Land Conservation Trust. Due to the sensitive native plants and animals on the property\, it is not generally open to the public. \nFor more information about the Barrington Land Conservation Trust\, email Executive Director Cindy Elder. \n 
URL:https://www.blct.org/event/walk-to-johannis-farm-wildlife-preserve-sunday-june-25-8-am/
LOCATION:Johannis Farm Wildlife Preserve
END:VEVENT
END:VCALENDAR