BEGIN:VCALENDAR
VERSION:2.0
PRODID:-//Barrington Land Trust - ECPv6.15.20//NONSGML v1.0//EN
CALSCALE:GREGORIAN
METHOD:PUBLISH
X-ORIGINAL-URL:https://www.blct.org
X-WR-CALDESC:Events for Barrington Land Trust
REFRESH-INTERVAL;VALUE=DURATION:PT1H
X-Robots-Tag:noindex
X-PUBLISHED-TTL:PT1H
BEGIN:VTIMEZONE
TZID:America/New_York
BEGIN:DAYLIGHT
TZOFFSETFROM:-0500
TZOFFSETTO:-0400
TZNAME:EDT
DTSTART:20220313T070000
END:DAYLIGHT
BEGIN:STANDARD
TZOFFSETFROM:-0400
TZOFFSETTO:-0500
TZNAME:EST
DTSTART:20221106T060000
END:STANDARD
BEGIN:DAYLIGHT
TZOFFSETFROM:-0500
TZOFFSETTO:-0400
TZNAME:EDT
DTSTART:20230312T070000
END:DAYLIGHT
BEGIN:STANDARD
TZOFFSETFROM:-0400
TZOFFSETTO:-0500
TZNAME:EST
DTSTART:20231105T060000
END:STANDARD
BEGIN:DAYLIGHT
TZOFFSETFROM:-0500
TZOFFSETTO:-0400
TZNAME:EDT
DTSTART:20240310T070000
END:DAYLIGHT
BEGIN:STANDARD
TZOFFSETFROM:-0400
TZOFFSETTO:-0500
TZNAME:EST
DTSTART:20241103T060000
END:STANDARD
END:VTIMEZONE
BEGIN:VEVENT
DTSTART;TZID=America/New_York:20230403T183000
DTEND;TZID=America/New_York:20230403T193000
DTSTAMP:20260424T074541
CREATED:20230302T190919Z
LAST-MODIFIED:20230418T214145Z
UID:12161-1680546600-1680550200@www.blct.org
SUMMARY:Learning Series: Global Saltmarsh Degradation - with Mark Bertness
DESCRIPTION:2023 Land Trust Learning Series\nView the Presentation on YouTube. \nJoin us for a special lecture on saltmarsh degradation by Dr. Mark Bertness. This is the first event in our 2023 Land Trust Learning Series. \nDr. Bertness will bring the challenge of saltmarsh degradation into focus. Coastal saltmarshes are one of the most valuable ecosystems on the Earth in terms of the services they provide humanity. Historically\, however\, marshes have been extensively ditched\, drained and developed\, motivating the conservation and restoration of remaining marshes. \nConservation of the surviving local marshes is not an easy task\, since the most severe current threats are not local\, but global. Eutrophication\, invasive species\, sea level rise\, and overfishing lead to trophic collapse. These large-scale problems impact coastal wetlands across the globe. Dr. Bertness will examine how these factors\,  individually and collectively\, are leading to rapid degradation of Narragansett Bay marshes and the entire East Coast of North America. \nAbout Mark Bertness \nMark Bertness grew up beach combing on the shores of the Salish Sea in Washington State\, where he developed a passion for shoreline ecology. His research has taken him to Panama\, the Netherlands\, Sardinia\, Argentina\, Chile\, China — and Barrington\, Rhode Island. He has authored several books on marine ecology\, one of which he wrote while sitting in the Barrington Public Library. Mark Bertness is the Robert P. Brown Professor of Ecology and Evolutionary Biology Emeritus at Brown University. \nThe event will be live-streamed. If you would like to be added to the live-stream list\, please email Cindy Elder. \nThis event would not be possible without our sponsors. For information on how you can sponsor the 2023 Land Trust Learning Series\, email Cindy Elder or call 508-733-2443. Thank you! \n2023 Learning Series Presenting Sponsor\n \n\nLeadership Sponsors\nThe Cicione Family and Brickyard Wine \n \nPartner Sponsor\n \n  \nCommunity Sponsors\nSteve Primiano’s Custom Window Treatments\nCharles E. Millard\, Inc. General Contractors\n\nWe are grateful to the Barrington Pubic Library for hosting this event
URL:https://www.blct.org/event/global-human-salt-marsh-degradation-in-your-neighborhood-with-mark-bertness/
LOCATION:Barrington Public Library\, 281 County Rd\,\, Barrington\, RI\, 02806\, United States
END:VEVENT
BEGIN:VEVENT
DTSTART;TZID=America/New_York:20230407T080000
DTEND;TZID=America/New_York:20230423T170000
DTSTAMP:20260424T074541
CREATED:20230406T113045Z
LAST-MODIFIED:20230406T113202Z
UID:12336-1680854400-1682269200@www.blct.org
SUMMARY:Look & Find Nature Walk/Raffle at Osamequin Nature Preserve
DESCRIPTION:Download the Flyer and Word Scramble Form
URL:https://www.blct.org/event/look-find-nature-walk-raffle-at-osamequin-nature-preserve/
LOCATION:Osamequin Nature Preserve\, 1580 Rte. 114 North\, Barrington\, Rhode Island\, 02806
END:VEVENT
BEGIN:VEVENT
DTSTART;TZID=America/New_York:20230420T100000
DTEND;TZID=America/New_York:20230420T233000
DTSTAMP:20260424T074541
CREATED:20230328T125907Z
LAST-MODIFIED:20230407T123934Z
UID:12300-1681984800-1682033400@www.blct.org
SUMMARY:Walk at Osamequin Nature Preserve - Thursday\, April 20\, 10 am - EVENT FULL
DESCRIPTION:This event is full. Please select a walk on another day. \nIn April\, as we celebrate Earth Day\, our free monthly walk takes us to Osamequin Nature Preserve\, a 42-acre conservation area along the western shore of Hundred Acre Cove in Barrington\, RI. The property is owned by the Town and co-managed by the Barrington Land Conservation Trust\, the Barrington Garden Club\, and the Town of Barrington. \nThe parking area holds only 12 cars\, and there is no other nearby parking available. Therefore\, registration is limited. You may bring only one car per registration\, but you may bring as many people as you can safely hold in your vehicle. Carpooling is encouraged! \nREGISTER FOR THE WALK. \nThe terrain is gentle but wet in places. Dress for the weather and wear sturdy\, waterproof footwear. You may wish to bring a walking stick or poles to assist you when crossing wet areas. The property is open to the pubic throughout the year. \nOsamequin Nature Preserve is rich with history as part of the ancestral homelands of the Pokanoket people who occupied these lands prior to colonization. It is now home to a diversity of animals and native plant species that depend on this property for habitat and food. \nThe property’s extensive network of trails introduces visitors to fields\, forests and salt marshes where you can see first-hand the effects of sea level rise as well as nature’s ability to regenerate after a fire. \nAfter the flooding on Dec. 23\, 2022\, extreme high tides and gale force winds caused flooding throughout the preserve and lifted one bridge off its pilings\, causing the closure of one section of trails. A fire which took place last fall burned a small area of the preserve\, where regrowth is now visible. \nThe walk will be co-led by Kathryn Beauchamp\, co-chair of the Barrington Garden Club’s Osamequin Management Team\, and Victor Lerish\, Chair of the Barrington Land Conservation Trust’s Stewardship Team. \nREGISTER FOR THE WALK. \nThe Barrington Land Conservation Trust relies on public support to acquire and maintain the conservation lands. You can contribute to our efforts by making a donation or volunteering your time. Thank you!
URL:https://www.blct.org/event/walk-at-osamequin-nature-preserve-thursday-april-20-10-am/
LOCATION:Osamequin Nature Preserve\, 1580 Rte. 114 North\, Barrington\, Rhode Island\, 02806
END:VEVENT
BEGIN:VEVENT
DTSTART;TZID=America/New_York:20230422T090000
DTEND;TZID=America/New_York:20230422T103000
DTSTAMP:20260424T074541
CREATED:20230328T190929Z
LAST-MODIFIED:20230328T190929Z
UID:12308-1682154000-1682159400@www.blct.org
SUMMARY:Walk at Osamequin Nature Preserve - Saturday\, April 22\, 9 am
DESCRIPTION:In April\, as we celebrate Earth Day\, our free monthly walk takes us to Osamequin Nature Preserve\, a 42-acre conservation area along the western shore of Hundred Acre Cove in Barrington\, RI. The property is owned by the Town and co-managed by the Barrington Land Conservation Trust\, the Barrington Garden Club\, and the Town of Barrington. \nThe parking area holds only 12 cars\, and there is no other nearby parking available. Therefore\, registration is limited. You may bring only one car per registration\, but you may bring as many people as you can safely hold in your vehicle. Carpooling is encouraged! \nREGISTER FOR THE WALK. \nThe terrain is gentle but wet in places. Dress for the weather and wear sturdy\, waterproof footwear. You may wish to bring a walking stick or poles to assist you when crossing wet areas. The property is open to the pubic throughout the year. \nOsamequin Nature Preserve is rich with history as part of the ancestral homelands of the Pokanoket people who occupied these lands prior to colonization. It is now home to a diversity of animals and native plant species that depend on this property for habitat and food. \nThe property’s extensive network of trails introduces visitors to fields\, forests and salt marshes where you can see first-hand the effects of sea level rise as well as nature’s ability to regenerate after a fire. \nAfter the flooding on Dec. 23\, 2022\, extreme high tides and gale force winds caused flooding throughout the preserve and lifted one bridge off its pilings\, causing the closure of one section of trails. A fire which took place last fall burned a small area of the preserve\, where regrowth is now visible. \nThe walk will be co-led by Kathryn Beauchamp\, co-chair of the Barrington Garden Club’s Osamequin Management Team\, and Victor Lerish\, Chair of the Barrington Land Conservation Trust’s Stewardship Team. \nREGISTER FOR THE WALK. \nThe Barrington Land Conservation Trust relies on public support to acquire and maintain the conservation lands. You can contribute to our efforts by making a donation or volunteering your time. Thank you!
URL:https://www.blct.org/event/walk-at-osamequin-nature-preserve-saturday-april-22-9-am/
LOCATION:Osamequin Nature Preserve\, 1580 Rte. 114 North\, Barrington\, Rhode Island\, 02806
END:VEVENT
BEGIN:VEVENT
DTSTART;TZID=America/New_York:20230422T130000
DTEND;TZID=America/New_York:20230422T150000
DTSTAMP:20260424T074541
CREATED:20230214T203457Z
LAST-MODIFIED:20230328T194016Z
UID:12118-1682168400-1682175600@www.blct.org
SUMMARY:Earth Day Clean Up at Barrington Beach with Save the Bay - EVENT FULL
DESCRIPTION:THIS PROGRAM IS FULL. VISIT SAVE THE BAY TO SIGN UP FOR OTHER CLEAN UPS OR OUR VOLUNTEER PAGE FOR INFORMATION ON HOW YOU CAN GET INVOLVED IN THE LAND TRUST. \nHelp keep Narragansett Bay clean! Shoreline trash is ugly and dangerous to wildlife\, and shoreline cleanups are a great way for volunteers to make a difference. This cleanup is hosted by Save The Bay and the Barrington Land Conservation Trust. \nThe clean up will take place Barrington Town Beach\, 88 Bay Rd\, Barrington RI. Keep an eye out for Save the Bay signs for where to meet! \nPREPARE FOR THE CLEANUP: \n\nREQUIRED: Review Save the Bay’s Instructions & Safety Tips\nAlways dress for the weather in sturdy\, closed-toe shoes.\nBring your own water – we recommend a reusable bottle!\nOptional: You may want to bring your own work gloves\, trash grabber\, or bucket for collecting trash.\nWe will provide disposable gloves\, trash bags\, and hand sanitizer.\n\nRegistration notes: \n\nPre-registration is required on the Save the Bay website.\nAge requirements: Cleanups are recommended for ages 8+. Ages 16+ may participate independently; Ages 8-15 may participate with a parent or guardian. Parents with children will be asked to sign a family waiver at the event.\nTeam volunteering: Signing up as a team? See Save the Bay’s Team Signup page for helpful information.\nIf the cleanup is full\, join the waitlist. Spaces often open up.
URL:https://www.blct.org/event/earth-day-clean-up-at-barrington-beach-with-save-the-bay/
LOCATION:Barrington Town Beach\, 88 Bay Road\, Barrington\, RI\, 02806\, United States
ORGANIZER;CN="Save The Bay":MAILTO:vdl849@gmail.com
END:VEVENT
BEGIN:VEVENT
DTSTART;TZID=America/New_York:20230423T140000
DTEND;TZID=America/New_York:20230423T153000
DTSTAMP:20260424T074541
CREATED:20230328T191200Z
LAST-MODIFIED:20230328T191721Z
UID:12311-1682258400-1682263800@www.blct.org
SUMMARY:Walk to Osamequin Nature Preserve - Sunday\, April 23\, 2 pm
DESCRIPTION:In April\, as we celebrate Earth Day\, our free monthly walk takes us to Osamequin Nature Preserve\, a 42-acre conservation area along the western shore of Hundred Acre Cove in Barrington\, RI. The property is owned by the Town and co-managed by the Barrington Land Conservation Trust\, the Barrington Garden Club\, and the Town of Barrington. \nThe parking area holds only 12 cars\, and there is no other nearby parking available. Therefore\, registration is limited. You may bring only one car per registration\, but you may bring as many people as you can safely hold in your vehicle. Carpooling is encouraged! \nREGISTER FOR THE WALK. \nThe terrain is gentle but wet in places. Dress for the weather and wear sturdy\, waterproof footwear. You may wish to bring a walking stick or poles to assist you when crossing wet areas. The property is open to the pubic throughout the year. \nOsamequin Nature Preserve is rich with history as part of the ancestral homelands of the Pokanoket people who occupied these lands prior to colonization. It is now home to a diversity of animals and native plant species that depend on this property for habitat and food. \nThe property’s extensive network of trails introduces visitors to fields\, forests and salt marshes where you can see first-hand the effects of sea level rise as well as nature’s ability to regenerate after a fire. \nAfter the flooding on Dec. 23\, 2022\, extreme high tides and gale force winds caused flooding throughout the preserve and lifted one bridge off its pilings\, causing the closure of one section of trails. A fire which took place last fall burned a small area of the preserve\, where regrowth is now visible. \nThe walk will be co-led by Kathryn Beauchamp\, co-chair of the Barrington Garden Club’s Osamequin Management Team\, and Victor Lerish\, Chair of the Barrington Land Conservation Trust’s Stewardship Team. \nREGISTER FOR THE WALK. \nThe Barrington Land Conservation Trust relies on public support to acquire and maintain the conservation lands. You can contribute to our efforts by making a donation or volunteering your time. Thank you!
URL:https://www.blct.org/event/walk-to-osamequin-nature-preserve-sunday-april-23-2-pm/
LOCATION:Osamequin Nature Preserve\, 1580 Rte. 114 North\, Barrington\, Rhode Island\, 02806
END:VEVENT
END:VCALENDAR