BEGIN:VCALENDAR
VERSION:2.0
PRODID:-//Barrington Land Trust - ECPv6.15.20//NONSGML v1.0//EN
CALSCALE:GREGORIAN
METHOD:PUBLISH
X-WR-CALNAME:Barrington Land Trust
X-ORIGINAL-URL:https://www.blct.org
X-WR-CALDESC:Events for Barrington Land Trust
REFRESH-INTERVAL;VALUE=DURATION:PT1H
X-Robots-Tag:noindex
X-PUBLISHED-TTL:PT1H
BEGIN:VTIMEZONE
TZID:America/New_York
BEGIN:DAYLIGHT
TZOFFSETFROM:-0500
TZOFFSETTO:-0400
TZNAME:EDT
DTSTART:20210314T070000
END:DAYLIGHT
BEGIN:STANDARD
TZOFFSETFROM:-0400
TZOFFSETTO:-0500
TZNAME:EST
DTSTART:20211107T060000
END:STANDARD
BEGIN:DAYLIGHT
TZOFFSETFROM:-0500
TZOFFSETTO:-0400
TZNAME:EDT
DTSTART:20220313T070000
END:DAYLIGHT
BEGIN:STANDARD
TZOFFSETFROM:-0400
TZOFFSETTO:-0500
TZNAME:EST
DTSTART:20221106T060000
END:STANDARD
BEGIN:DAYLIGHT
TZOFFSETFROM:-0500
TZOFFSETTO:-0400
TZNAME:EDT
DTSTART:20230312T070000
END:DAYLIGHT
BEGIN:STANDARD
TZOFFSETFROM:-0400
TZOFFSETTO:-0500
TZNAME:EST
DTSTART:20231105T060000
END:STANDARD
END:VTIMEZONE
BEGIN:VEVENT
DTSTART;TZID=America/New_York:20221016T100000
DTEND;TZID=America/New_York:20221016T120000
DTSTAMP:20260424T202712
CREATED:20221011T165457Z
LAST-MODIFIED:20221011T170539Z
UID:11874-1665914400-1665921600@www.blct.org
SUMMARY:Barrington's First Brickyard - Sunday\, Oct. 16\, 2022
DESCRIPTION:Barrington’s first brickyard dates back to the 1600’s and is located along the Palmer River on what is now the Johannis Wildlife Preserve. On Sunday\, October 16th at 10:00 am join BLCT & the Barrington Preservation Society for a tour of the site followed by a guided walk through this amazing (normally closed to the public) preserve. Pre-registration is required. Email education@blct.org to learn more or to register.
URL:https://www.blct.org/event/barringtons-first-brickyard-sunday-oct-16-2022/
LOCATION:Johannis Farm Wildlife Preserve
END:VEVENT
END:VCALENDAR