BEGIN:VCALENDAR
VERSION:2.0
PRODID:-//Barrington Land Trust - ECPv6.15.17.1//NONSGML v1.0//EN
CALSCALE:GREGORIAN
METHOD:PUBLISH
X-WR-CALNAME:Barrington Land Trust
X-ORIGINAL-URL:https://www.blct.org
X-WR-CALDESC:Events for Barrington Land Trust
REFRESH-INTERVAL;VALUE=DURATION:PT1H
X-Robots-Tag:noindex
X-PUBLISHED-TTL:PT1H
BEGIN:VTIMEZONE
TZID:America/New_York
BEGIN:DAYLIGHT
TZOFFSETFROM:-0500
TZOFFSETTO:-0400
TZNAME:EDT
DTSTART:20250309T070000
END:DAYLIGHT
BEGIN:STANDARD
TZOFFSETFROM:-0400
TZOFFSETTO:-0500
TZNAME:EST
DTSTART:20251102T060000
END:STANDARD
BEGIN:DAYLIGHT
TZOFFSETFROM:-0500
TZOFFSETTO:-0400
TZNAME:EDT
DTSTART:20260308T070000
END:DAYLIGHT
BEGIN:STANDARD
TZOFFSETFROM:-0400
TZOFFSETTO:-0500
TZNAME:EST
DTSTART:20261101T060000
END:STANDARD
BEGIN:DAYLIGHT
TZOFFSETFROM:-0500
TZOFFSETTO:-0400
TZNAME:EDT
DTSTART:20270314T070000
END:DAYLIGHT
BEGIN:STANDARD
TZOFFSETFROM:-0400
TZOFFSETTO:-0500
TZNAME:EST
DTSTART:20271107T060000
END:STANDARD
END:VTIMEZONE
BEGIN:VEVENT
DTSTART;TZID=America/New_York:20261020T190000
DTEND;TZID=America/New_York:20261020T203000
DTSTAMP:20260419T221922
CREATED:20260112T194406Z
LAST-MODIFIED:20260302T211436Z
UID:15235-1792522800-1792528200@www.blct.org
SUMMARY:Learning Series: Combining Art and Science to Save Species
DESCRIPTION:Wildlife populations are declining around the world because of human impacts\, and yet too few of us are part of the solution. In this presentation\, Dr. Lucy Spelman\, founder of the local organization Creature Conserve\, offers a behind-the-scenes look at how combining art and science can bring us together to save species. \nThe event will take place on Tuesday\, Oct. 20\, at 7 pm in the Salem Family Auditorium at the Barrington Public Library\, our partner in the Learning Series. \nREGISTER FOR THE EVENT \n“Dr. Lucy” believes that we need a more inviting and inclusive approach to wildlife conservation\, one that open to diverse perspectives from the arts\, humanities\, sciences\, traditional ecological knowledge and beyond.  \nDrawing from her years as a zoo and wildlife veterinarian\, she describes some of her first experiences with art-sci collaboration. These stories are wild and wonderful\, from glue-on shoes for a rhino to parading for pandas. \nShe’ll introduce us to the work of Creature Conserve\, the non-profit she founded\, and her newest book\, Creature Needs\, which will be available for sale. You’ll see examples of art informed and inspired by science that call attention to the loss of biodiversity and what we can do about it. \n \nAbout Dr. Lucy Spelman \n“Dr. Lucy” is a world-renowned zoo and wildlife veterinarian\, writer\, and educator. She has cared for animals in every imaginable setting\, from our pets at home to those remaining in the vanishing wild. She also brings artists and scientists together to create new pathways for wildlife conservation\, both as an educator at the Rhode Island School of Design and as the founder of Creature Conserve. \nShe has authored several books\, including The Rhino with Glue-on Shoes\, the National Geographic Kids Animal Encyclopedia\, and Creature Needs: Writers Respond to the Science of Animal Conservation. \n  \nThanks to our 2026 Learning Series Sponsors!\n \n \n  \n \nCharles E. Millard General Contractors\, Inc.\nPods Swimming\, East Providence\nJaffe Orthodontics\, Barrington
URL:https://www.blct.org/event/learning-series-combining-art-and-science-to-save-species/
LOCATION:Barrington Public Library\, 281 County Rd\,\, Barrington\, RI\, 02806\, United States
END:VEVENT
END:VCALENDAR