BEGIN:VCALENDAR
VERSION:2.0
PRODID:-//Barrington Land Trust - ECPv6.15.20//NONSGML v1.0//EN
CALSCALE:GREGORIAN
METHOD:PUBLISH
X-WR-CALNAME:Barrington Land Trust
X-ORIGINAL-URL:https://www.blct.org
X-WR-CALDESC:Events for Barrington Land Trust
REFRESH-INTERVAL;VALUE=DURATION:PT1H
X-Robots-Tag:noindex
X-PUBLISHED-TTL:PT1H
BEGIN:VTIMEZONE
TZID:America/New_York
BEGIN:DAYLIGHT
TZOFFSETFROM:-0500
TZOFFSETTO:-0400
TZNAME:EDT
DTSTART:20250309T070000
END:DAYLIGHT
BEGIN:STANDARD
TZOFFSETFROM:-0400
TZOFFSETTO:-0500
TZNAME:EST
DTSTART:20251102T060000
END:STANDARD
BEGIN:DAYLIGHT
TZOFFSETFROM:-0500
TZOFFSETTO:-0400
TZNAME:EDT
DTSTART:20260308T070000
END:DAYLIGHT
BEGIN:STANDARD
TZOFFSETFROM:-0400
TZOFFSETTO:-0500
TZNAME:EST
DTSTART:20261101T060000
END:STANDARD
BEGIN:DAYLIGHT
TZOFFSETFROM:-0500
TZOFFSETTO:-0400
TZNAME:EDT
DTSTART:20270314T070000
END:DAYLIGHT
BEGIN:STANDARD
TZOFFSETFROM:-0400
TZOFFSETTO:-0500
TZNAME:EST
DTSTART:20271107T060000
END:STANDARD
END:VTIMEZONE
BEGIN:VEVENT
DTSTART;TZID=America/New_York:20260423T130000
DTEND;TZID=America/New_York:20260423T150000
DTSTAMP:20260423T060201
CREATED:20260403T121041Z
LAST-MODIFIED:20260403T121138Z
UID:15434-1776949200-1776956400@www.blct.org
SUMMARY:Student Stewardship Team - Barrington Middle School Pollinator Garden
DESCRIPTION:THIS EVENT IS FOR MEMBERS OF THE STUDENT STEWARDSHIP TEAM ONLY. \nIf you are not a registered member and would like to join\, visit our Student Stewardship page for more information. \nOn Thursday\, April 23\, from 1-3 pm\, we’ll be working at the Barrington Middle School Pollinator Garden (behind the school). \nDress for the weather and wear sturdy shoes or boots\, long pants\, and Land Trust hat and t-shirt (optional). Bring a water bottle!  \nREGISTER FOR THE EVENT \nWe’ll meet in the parking lot behind the Barrington Middle School\, 261 Middle Highway\, Barrington. \nThanks for participating!
URL:https://www.blct.org/event/15434/
LOCATION:Barrington Middle School\, 261 Middle Highway\, Barrington\, RI\, 02806
END:VEVENT
END:VCALENDAR