BEGIN:VCALENDAR
VERSION:2.0
PRODID:-//Barrington Land Trust - ECPv6.15.17.1//NONSGML v1.0//EN
CALSCALE:GREGORIAN
METHOD:PUBLISH
X-WR-CALNAME:Barrington Land Trust
X-ORIGINAL-URL:https://www.blct.org
X-WR-CALDESC:Events for Barrington Land Trust
REFRESH-INTERVAL;VALUE=DURATION:PT1H
X-Robots-Tag:noindex
X-PUBLISHED-TTL:PT1H
BEGIN:VTIMEZONE
TZID:America/New_York
BEGIN:DAYLIGHT
TZOFFSETFROM:-0500
TZOFFSETTO:-0400
TZNAME:EDT
DTSTART:20250309T070000
END:DAYLIGHT
BEGIN:STANDARD
TZOFFSETFROM:-0400
TZOFFSETTO:-0500
TZNAME:EST
DTSTART:20251102T060000
END:STANDARD
BEGIN:DAYLIGHT
TZOFFSETFROM:-0500
TZOFFSETTO:-0400
TZNAME:EDT
DTSTART:20260308T070000
END:DAYLIGHT
BEGIN:STANDARD
TZOFFSETFROM:-0400
TZOFFSETTO:-0500
TZNAME:EST
DTSTART:20261101T060000
END:STANDARD
BEGIN:DAYLIGHT
TZOFFSETFROM:-0500
TZOFFSETTO:-0400
TZNAME:EDT
DTSTART:20270314T070000
END:DAYLIGHT
BEGIN:STANDARD
TZOFFSETFROM:-0400
TZOFFSETTO:-0500
TZNAME:EST
DTSTART:20271107T060000
END:STANDARD
END:VTIMEZONE
BEGIN:VEVENT
DTSTART;TZID=America/New_York:20260421T130000
DTEND;TZID=America/New_York:20260421T150000
DTSTAMP:20260421T055815
CREATED:20260403T115245Z
LAST-MODIFIED:20260403T115741Z
UID:15425-1776776400-1776783600@www.blct.org
SUMMARY:Student Stewardship Team - Lombardi Park & Andreozzi Nature Preserve
DESCRIPTION:This event is for registered members of the Land Trust’s Student Stewardship Team ONLY. \nIf you are not a registered member and would like to join\, visit our Student Stewardship page for more information. \nOn Tuesday\, April 21\, from 1-3 pm\, we’ll be working at Lombardi Park and Andreozzi Nature Preserve. We’ll meet in the big dirt parking area on North Lake Drive at the junction of South Lake Drive. This junction is on the Middle Highway end of North Lake Drive\, not the Washington Road end – where the red dot is on the map below.  \nWear long pants\, socks\, sturdy shoes\, and your Land Trust hat and t-shirt (optional). Bring a water bottle! \nREGISTER FOR THE STEWARDSHIP EVENT \nWe’ll meet in the big dirt parking area on North Lake Drive at the junction of South Lake Drive. This junction is on the Middle Highway end of North Lake Drive\, not the Washington Road end – where the red dot is on the map below. \n\n\n\n\n\n \n\n\n\n\n\nThanks for participating!
URL:https://www.blct.org/event/student-stewardship-team-lombardi-park-andreozzi-nature-preserve-2/
LOCATION:Andreozzi Nature Preserve\, Lee Ann Drive\, Barrington\, RI\, 02806
END:VEVENT
END:VCALENDAR