BEGIN:VCALENDAR
VERSION:2.0
PRODID:-//Barrington Land Trust - ECPv6.15.17.1//NONSGML v1.0//EN
CALSCALE:GREGORIAN
METHOD:PUBLISH
X-WR-CALNAME:Barrington Land Trust
X-ORIGINAL-URL:https://www.blct.org
X-WR-CALDESC:Events for Barrington Land Trust
REFRESH-INTERVAL;VALUE=DURATION:PT1H
X-Robots-Tag:noindex
X-PUBLISHED-TTL:PT1H
BEGIN:VTIMEZONE
TZID:America/New_York
BEGIN:DAYLIGHT
TZOFFSETFROM:-0500
TZOFFSETTO:-0400
TZNAME:EDT
DTSTART:20250309T070000
END:DAYLIGHT
BEGIN:STANDARD
TZOFFSETFROM:-0400
TZOFFSETTO:-0500
TZNAME:EST
DTSTART:20251102T060000
END:STANDARD
BEGIN:DAYLIGHT
TZOFFSETFROM:-0500
TZOFFSETTO:-0400
TZNAME:EDT
DTSTART:20260308T070000
END:DAYLIGHT
BEGIN:STANDARD
TZOFFSETFROM:-0400
TZOFFSETTO:-0500
TZNAME:EST
DTSTART:20261101T060000
END:STANDARD
BEGIN:DAYLIGHT
TZOFFSETFROM:-0500
TZOFFSETTO:-0400
TZNAME:EDT
DTSTART:20270314T070000
END:DAYLIGHT
BEGIN:STANDARD
TZOFFSETFROM:-0400
TZOFFSETTO:-0500
TZNAME:EST
DTSTART:20271107T060000
END:STANDARD
END:VTIMEZONE
BEGIN:VEVENT
DTSTART;TZID=America/New_York:20260420T130000
DTEND;TZID=America/New_York:20260420T150000
DTSTAMP:20260420T014430
CREATED:20260403T113224Z
LAST-MODIFIED:20260403T113706Z
UID:15419-1776690000-1776697200@www.blct.org
SUMMARY:Student Stewardship Team - PIC-WIL Nature Preserve
DESCRIPTION:This event is for members of our Student Stewardship Team for high school students ages 14 to 18. If you are not a registered member and would like to join\, visit our Student Stewardship page for more information. \nOn Monday\, April 20\, from 1-3 pm\, we’ll be removing invasive plants and maintaining trails at PIC-WIL Nature Preserve. Wear long pants and your Land Trust hat and t-shirt if you have one. We’ll meet at the PIC-WIL parking area on Washington Road\, directly across from Tallwood Drive. \nREGISTER FOR THE EVENT \nBring a water bottle! \nThanks for participating!
URL:https://www.blct.org/event/student-stewardship-team-pic-wil-nature-preserve-3/
LOCATION:Pic-Wil Nature Preserve\, Washington Rd.\, Barrington\, RI\, United States
END:VEVENT
END:VCALENDAR