BEGIN:VCALENDAR
VERSION:2.0
PRODID:-//Barrington Land Trust - ECPv6.15.17.1//NONSGML v1.0//EN
CALSCALE:GREGORIAN
METHOD:PUBLISH
X-WR-CALNAME:Barrington Land Trust
X-ORIGINAL-URL:https://www.blct.org
X-WR-CALDESC:Events for Barrington Land Trust
REFRESH-INTERVAL;VALUE=DURATION:PT1H
X-Robots-Tag:noindex
X-PUBLISHED-TTL:PT1H
BEGIN:VTIMEZONE
TZID:America/New_York
BEGIN:DAYLIGHT
TZOFFSETFROM:-0500
TZOFFSETTO:-0400
TZNAME:EDT
DTSTART:20250309T070000
END:DAYLIGHT
BEGIN:STANDARD
TZOFFSETFROM:-0400
TZOFFSETTO:-0500
TZNAME:EST
DTSTART:20251102T060000
END:STANDARD
BEGIN:DAYLIGHT
TZOFFSETFROM:-0500
TZOFFSETTO:-0400
TZNAME:EDT
DTSTART:20260308T070000
END:DAYLIGHT
BEGIN:STANDARD
TZOFFSETFROM:-0400
TZOFFSETTO:-0500
TZNAME:EST
DTSTART:20261101T060000
END:STANDARD
BEGIN:DAYLIGHT
TZOFFSETFROM:-0500
TZOFFSETTO:-0400
TZNAME:EDT
DTSTART:20270314T070000
END:DAYLIGHT
BEGIN:STANDARD
TZOFFSETFROM:-0400
TZOFFSETTO:-0500
TZNAME:EST
DTSTART:20271107T060000
END:STANDARD
END:VTIMEZONE
BEGIN:VEVENT
DTSTART;TZID=America/New_York:20260419T130000
DTEND;TZID=America/New_York:20260419T150000
DTSTAMP:20260419T135733
CREATED:20260306T104742Z
LAST-MODIFIED:20260306T104817Z
UID:15387-1776603600-1776610800@www.blct.org
SUMMARY:Art in Nature: Nature Journaling at Osamequin Nature Preserve
DESCRIPTION:The Art in Nature Program is made possible by the Ronald D. Russo Charitable Fund. \nCelebrate Earth Month by sharpening your powers of observation through the arts at Osamequin Nature Preserve on Sunday\, April 19\, from 1-3 pm. \nREGISTER FOR THE EVENT \nVisual and literary artists working in a variety of media are invited to participate. We’ll encourage each other as we explore and document the natural world. Each participant should bring their own journal and pens\, pencils\, watercolors\, easels\, camera or whatever supplies fit your practice. \nThis gathering is focused on the creation of artwork in a natural environment and sharing of ideas and experience among participants. It is not an instructional workshop. \nWe welcome people of all skill levels\, from beginner to professional. Youth under the age of 14 may participate if accompanied by an adult. \nOsamequin Nature Preserve \nOsamequin Nature Preserve is a 42-acre conservation area along the western shore of Hundred Acre Cove in Barrington. The property was purchased by the Town of Barrington in the 1960s through the state “Green Acres” program and is now co-managed by the Barrington Land Conservation Trust\, the Barrington Garden Club\, and the Town.
URL:https://www.blct.org/event/nature-journaling-at-osamequin-nature-preserve/
LOCATION:Osamequin Nature Preserve\, 1580 Rte. 114 North\, Barrington\, Rhode Island\, 02806
END:VEVENT
END:VCALENDAR