BEGIN:VCALENDAR
VERSION:2.0
PRODID:-//Barrington Land Trust - ECPv6.15.20//NONSGML v1.0//EN
CALSCALE:GREGORIAN
METHOD:PUBLISH
X-ORIGINAL-URL:https://www.blct.org
X-WR-CALDESC:Events for Barrington Land Trust
REFRESH-INTERVAL;VALUE=DURATION:PT1H
X-Robots-Tag:noindex
X-PUBLISHED-TTL:PT1H
BEGIN:VTIMEZONE
TZID:America/New_York
BEGIN:DAYLIGHT
TZOFFSETFROM:-0500
TZOFFSETTO:-0400
TZNAME:EDT
DTSTART:20240310T070000
END:DAYLIGHT
BEGIN:STANDARD
TZOFFSETFROM:-0400
TZOFFSETTO:-0500
TZNAME:EST
DTSTART:20241103T060000
END:STANDARD
BEGIN:DAYLIGHT
TZOFFSETFROM:-0500
TZOFFSETTO:-0400
TZNAME:EDT
DTSTART:20250309T070000
END:DAYLIGHT
BEGIN:STANDARD
TZOFFSETFROM:-0400
TZOFFSETTO:-0500
TZNAME:EST
DTSTART:20251102T060000
END:STANDARD
BEGIN:DAYLIGHT
TZOFFSETFROM:-0500
TZOFFSETTO:-0400
TZNAME:EDT
DTSTART:20260308T070000
END:DAYLIGHT
BEGIN:STANDARD
TZOFFSETFROM:-0400
TZOFFSETTO:-0500
TZNAME:EST
DTSTART:20261101T060000
END:STANDARD
END:VTIMEZONE
BEGIN:VEVENT
DTSTART;TZID=America/New_York:20251008T183000
DTEND;TZID=America/New_York:20251008T193000
DTSTAMP:20260425T142750
CREATED:20250918T170754Z
LAST-MODIFIED:20250918T170754Z
UID:15041-1759948200-1759951800@www.blct.org
SUMMARY:Student Stewardship Team - Event Support
DESCRIPTION:If you are not a registered member and would like to join\, visit our Student Stewardship page for more information. \nWe’re looking for two or three people to help at the registration desk at the Barrington Public Library (upstairs) from 6:30 to 7:15 pm at the Learning Series event\, “How Healthy is Narragansett Bay?” You’re welcome to stay for the event if you’re interested.  \nREGISTER FOR THE EVENT
URL:https://www.blct.org/event/student-stewardship-team-event-support-3/
LOCATION:Barrington Public Library\, 281 County Rd\,\, Barrington\, RI\, 02806\, United States
END:VEVENT
BEGIN:VEVENT
DTSTART;TZID=America/New_York:20251008T190000
DTEND;TZID=America/New_York:20251008T203000
DTSTAMP:20260425T142750
CREATED:20250916T140113Z
LAST-MODIFIED:20250918T175031Z
UID:14987-1759950000-1759955400@www.blct.org
SUMMARY:Learning Series: How Healthy is Narragansett Bay?
DESCRIPTION:Join us on Wednesday\, Oct. 8\, at 7 pm for a presentation on the health of Narragansett Bay by Dr. Warren Prell\, Professor of Oceanography Emeritus\, Department of Earth\, Environmental and Planetary Sciences\, Brown University. \nThe presentation will take place in the Salem Family Auditorium at the Barrington Public Library\, our partner in the Land Trust Learning Series. \nREGISTER FOR THE EVENT \nFifty years ago\, Narragansett Bay was heavily polluted with excess nutrients (mostly Nitrogen) and coliform bacteria.  These conditions led to hypoxia (low oxygen)\, high chlorophyll levels\, fish kills\, and much of the upper bay closed to shell fishing.  \nToday\, the Bay is greatly improved.  The nitrogen input to the Bay have been reduced by 50%\, the area of hypoxia and excess chlorophyll has been dramatically reduced\, and the upper bay and part of the Providence River are conditionally open to shell fishing.  \nWarren will review how the Narragansett Bay estuary works\, what leads to hypoxia\, the changes that were made to reduce pollution levels\, and how the improvements to the Bay were monitored.  He will also speculate on how climate change may affect future hypoxia levels in the Bay. \nAbout Warren Prell \nDr. Warren Prell received a BA in 1966 with Honors from Hanover College and a PhD in 1974 from Columbia University. He became director of oceanographic and geologic programs for the NYC Energy Research and Development Authority before being appointed as Assistant Professor in the Department of Geological Sciences at Brown in 1975. He was promoted to full professor in 1989 and was appointed to the Henry L. Doherty Chair in Oceanography in 1990. \n  \nThanks to our 2025 Land Trust Learning Series Sponsors!\n \n\nMeridian Custom Homes ~ Providence\nCharles E. Millard\, Inc. General Contractors – Bristol \nTiffany’s Salon & Spa – Barrington \nPODS Swimming – East Providence \nRosemary’s School of Dance – Warren\, Bristol\, Rehoboth \nJaffe Orthodontics – Barrington & Portsmouth
URL:https://www.blct.org/event/learning-series-how-healthy-is-narragansett-bay/
LOCATION:Barrington Public Library\, 281 County Rd\,\, Barrington\, RI\, 02806\, United States
END:VEVENT
END:VCALENDAR