BEGIN:VCALENDAR
VERSION:2.0
PRODID:-//Barrington Land Trust - ECPv6.15.20//NONSGML v1.0//EN
CALSCALE:GREGORIAN
METHOD:PUBLISH
X-ORIGINAL-URL:https://www.blct.org
X-WR-CALDESC:Events for Barrington Land Trust
REFRESH-INTERVAL;VALUE=DURATION:PT1H
X-Robots-Tag:noindex
X-PUBLISHED-TTL:PT1H
BEGIN:VTIMEZONE
TZID:America/New_York
BEGIN:DAYLIGHT
TZOFFSETFROM:-0500
TZOFFSETTO:-0400
TZNAME:EDT
DTSTART:20240310T070000
END:DAYLIGHT
BEGIN:STANDARD
TZOFFSETFROM:-0400
TZOFFSETTO:-0500
TZNAME:EST
DTSTART:20241103T060000
END:STANDARD
BEGIN:DAYLIGHT
TZOFFSETFROM:-0500
TZOFFSETTO:-0400
TZNAME:EDT
DTSTART:20250309T070000
END:DAYLIGHT
BEGIN:STANDARD
TZOFFSETFROM:-0400
TZOFFSETTO:-0500
TZNAME:EST
DTSTART:20251102T060000
END:STANDARD
BEGIN:DAYLIGHT
TZOFFSETFROM:-0500
TZOFFSETTO:-0400
TZNAME:EDT
DTSTART:20260308T070000
END:DAYLIGHT
BEGIN:STANDARD
TZOFFSETFROM:-0400
TZOFFSETTO:-0500
TZNAME:EST
DTSTART:20261101T060000
END:STANDARD
END:VTIMEZONE
BEGIN:VEVENT
DTSTART;TZID=America/New_York:20250916T090000
DTEND;TZID=America/New_York:20250916T110000
DTSTAMP:20260425T065337
CREATED:20250414T134637Z
LAST-MODIFIED:20250414T134637Z
UID:14775-1758013200-1758020400@www.blct.org
SUMMARY:Town Resilience Garden Work Day
DESCRIPTION:This event is for volunteers who have registered to participate in the care of the Town’s Resilience Garden at Town Center. If you haven’t registered yet and would like to participate\, you may register here and download the Town’s release of responsibility here.  \nOn Tuesday\, Sept. 16\, we’ll be doing general care and maintenance of the new Resilience Garden at Town Center. \nREGISTER FOR THE WORK DAY \nPlease dress for the weather. Bring work gloves and your favorite weeder (hori hori\, trowel\, scratcher\, cobrahead\, etc.). We recommend you bring a water bottle. \nBarrington Town Center is located at 283 County Road. Please park in the main lot behind Town Hall (not in Tapin’s lot)\, and walk down to the garden area\, which is next to the entrance to Town Center next to the pond.
URL:https://www.blct.org/event/town-resilience-garden-work-day-11/
LOCATION:Barrington Town Hall\, 283 County Road\, Barrington\, RI\, 02806
END:VEVENT
END:VCALENDAR