BEGIN:VCALENDAR
VERSION:2.0
PRODID:-//Barrington Land Trust - ECPv6.15.20//NONSGML v1.0//EN
CALSCALE:GREGORIAN
METHOD:PUBLISH
X-ORIGINAL-URL:https://www.blct.org
X-WR-CALDESC:Events for Barrington Land Trust
REFRESH-INTERVAL;VALUE=DURATION:PT1H
X-Robots-Tag:noindex
X-PUBLISHED-TTL:PT1H
BEGIN:VTIMEZONE
TZID:America/New_York
BEGIN:DAYLIGHT
TZOFFSETFROM:-0500
TZOFFSETTO:-0400
TZNAME:EDT
DTSTART:20240310T070000
END:DAYLIGHT
BEGIN:STANDARD
TZOFFSETFROM:-0400
TZOFFSETTO:-0500
TZNAME:EST
DTSTART:20241103T060000
END:STANDARD
BEGIN:DAYLIGHT
TZOFFSETFROM:-0500
TZOFFSETTO:-0400
TZNAME:EDT
DTSTART:20250309T070000
END:DAYLIGHT
BEGIN:STANDARD
TZOFFSETFROM:-0400
TZOFFSETTO:-0500
TZNAME:EST
DTSTART:20251102T060000
END:STANDARD
BEGIN:DAYLIGHT
TZOFFSETFROM:-0500
TZOFFSETTO:-0400
TZNAME:EDT
DTSTART:20260308T070000
END:DAYLIGHT
BEGIN:STANDARD
TZOFFSETFROM:-0400
TZOFFSETTO:-0500
TZNAME:EST
DTSTART:20261101T060000
END:STANDARD
END:VTIMEZONE
BEGIN:VEVENT
DTSTART;TZID=America/New_York:20250625T090000
DTEND;TZID=America/New_York:20250625T100000
DTSTAMP:20260424T220431
CREATED:20250601T205401Z
LAST-MODIFIED:20250601T205446Z
UID:14859-1750842000-1750845600@www.blct.org
SUMMARY:Guided Walk: The Hampden Meadows Greenbelt
DESCRIPTION:Discover one of Barrington’s natural gems\, the Hampden Meadows Greenbelt\, on Wednesday\, June 25 at 9 am. All ages are welcome. You may bring dogs on leashes. \nREGISTER FOR THE WALK \nOur walk will begin at the trailhead on Kent Street in Barrington\, across from the tennis courts. Kent Street is a short road that runs between New Meadow Road and Sowams Road.  \nWe’ll walk the main trail through the forest as far as Linden Road and return the same way. The entire walk is approximately 2 miles. \nYou may park at the tennis courts on Kent St.  Dress for the weather and wear sturdy footwear. \nWe’ll keep moving at a moderate pace and be finished in about an hour. \n 
URL:https://www.blct.org/event/guided-walk-the-hampden-meadows-greenbelt/
LOCATION:Hampden Meadows Greenbelt\, Kent Street\, Barrington\, RI\, 02806
END:VEVENT
END:VCALENDAR