BEGIN:VCALENDAR
VERSION:2.0
PRODID:-//Barrington Land Trust - ECPv6.15.20//NONSGML v1.0//EN
CALSCALE:GREGORIAN
METHOD:PUBLISH
X-WR-CALNAME:Barrington Land Trust
X-ORIGINAL-URL:https://www.blct.org
X-WR-CALDESC:Events for Barrington Land Trust
REFRESH-INTERVAL;VALUE=DURATION:PT1H
X-Robots-Tag:noindex
X-PUBLISHED-TTL:PT1H
BEGIN:VTIMEZONE
TZID:America/New_York
BEGIN:DAYLIGHT
TZOFFSETFROM:-0500
TZOFFSETTO:-0400
TZNAME:EDT
DTSTART:20240310T070000
END:DAYLIGHT
BEGIN:STANDARD
TZOFFSETFROM:-0400
TZOFFSETTO:-0500
TZNAME:EST
DTSTART:20241103T060000
END:STANDARD
BEGIN:DAYLIGHT
TZOFFSETFROM:-0500
TZOFFSETTO:-0400
TZNAME:EDT
DTSTART:20250309T070000
END:DAYLIGHT
BEGIN:STANDARD
TZOFFSETFROM:-0400
TZOFFSETTO:-0500
TZNAME:EST
DTSTART:20251102T060000
END:STANDARD
BEGIN:DAYLIGHT
TZOFFSETFROM:-0500
TZOFFSETTO:-0400
TZNAME:EDT
DTSTART:20260308T070000
END:DAYLIGHT
BEGIN:STANDARD
TZOFFSETFROM:-0400
TZOFFSETTO:-0500
TZNAME:EST
DTSTART:20261101T060000
END:STANDARD
END:VTIMEZONE
BEGIN:VEVENT
DTSTART;TZID=America/New_York:20250616T100000
DTEND;TZID=America/New_York:20250616T120000
DTSTAMP:20260424T220248
CREATED:20250519T112615Z
LAST-MODIFIED:20250519T152301Z
UID:14847-1750068000-1750075200@www.blct.org
SUMMARY:Art in Nature Series: Nature Journaling with Allison Wilbur
DESCRIPTION:Join artist Allison Wilbur for our next monthly walk and Nature Journaling session. This session will take place on Monday\, June 16\, from 10 to Noon at the Doug Rayner Wildlife Refuge. \nREGISTER FOR THE EVENT \nEach month we will explore a different Land Trust property to improve our powers of observation and keep a record of the changing seasons. \nYou’ll be invited to share ideas on what to enter into your journal and encourage each other as you explore and document the natural world. \nEach participant should bring their own journal and pens\, pencils\, watercolors or whatever supplies fit your practice. This group is focused on sharing of ideas and approaches (not artistic instruction). \nThis event is open to all ages (as long as children are accompanied by an adult). \nAbout Allison Wilbur \nAllison Wilbur is a quilt artist who focuses on the natural world and women’s empowerment. Living on the edge of one of the Barrington Land Conservation Trust properties\, she enjoys daily walks in the field and often records the passing of the seasons in her journal. Allison has recently shared her work at the Audubon Society and the Blithewold Gallery in Bristol. You can learn more about Allison and her work at AllisonWilburQuilts.com.
URL:https://www.blct.org/event/art-in-nature-series-nature-journaling-with-allison-wilbur-2/
LOCATION:Doug Rayner Wildlife Refuge\, 111 George St.\, Barrington\, RI\, 02806\, United States
END:VEVENT
END:VCALENDAR