BEGIN:VCALENDAR
VERSION:2.0
PRODID:-//Barrington Land Trust - ECPv6.15.20//NONSGML v1.0//EN
CALSCALE:GREGORIAN
METHOD:PUBLISH
X-ORIGINAL-URL:https://www.blct.org
X-WR-CALDESC:Events for Barrington Land Trust
REFRESH-INTERVAL;VALUE=DURATION:PT1H
X-Robots-Tag:noindex
X-PUBLISHED-TTL:PT1H
BEGIN:VTIMEZONE
TZID:America/New_York
BEGIN:DAYLIGHT
TZOFFSETFROM:-0500
TZOFFSETTO:-0400
TZNAME:EDT
DTSTART:20240310T070000
END:DAYLIGHT
BEGIN:STANDARD
TZOFFSETFROM:-0400
TZOFFSETTO:-0500
TZNAME:EST
DTSTART:20241103T060000
END:STANDARD
BEGIN:DAYLIGHT
TZOFFSETFROM:-0500
TZOFFSETTO:-0400
TZNAME:EDT
DTSTART:20250309T070000
END:DAYLIGHT
BEGIN:STANDARD
TZOFFSETFROM:-0400
TZOFFSETTO:-0500
TZNAME:EST
DTSTART:20251102T060000
END:STANDARD
BEGIN:DAYLIGHT
TZOFFSETFROM:-0500
TZOFFSETTO:-0400
TZNAME:EDT
DTSTART:20260308T070000
END:DAYLIGHT
BEGIN:STANDARD
TZOFFSETFROM:-0400
TZOFFSETTO:-0500
TZNAME:EST
DTSTART:20261101T060000
END:STANDARD
END:VTIMEZONE
BEGIN:VEVENT
DTSTART;TZID=America/New_York:20250604T180000
DTEND;TZID=America/New_York:20250604T193000
DTSTAMP:20260424T220348
CREATED:20250430T180230Z
LAST-MODIFIED:20250523T181505Z
UID:14781-1749060000-1749065400@www.blct.org
SUMMARY:Learning Series: Next Generation Leaders & Land Trust Annual Meeting
DESCRIPTION:A new generation of leaders is forming in some of the most remote corners of Barrington. Armed with clippers\, weed wrenches\, shovels\, bow saws\, trash grabbers and other human-powered tools\, they collaborate and work toward shared goals while caring for our natural open spaces. \nJoin us on Wed.\, June 4\, at 6 pm for a presentation by graduating high school seniors on the Student Stewardship Team of the Barrington Land Conservation Trust. This event\, held in partnership with the Barrington Public Library\, will take place in the Salem Family Auditorium. \nREGISTER FOR THE EVENT \nThe Land Trust will hold a brief Annual Meeting before the presentation. A reception in the Collis Family Gallery will follow the event. All are welcome. \nMore than 30 high school students between the age of 14 and 18 have participated on the Student Stewardship Team since its founding in May 2023. Working in small teams\, they help the Land Trust in variety of ways\, from physical tasks like trail maintenance and planting\, to specialized skills like website design\, photography\, film\, research and event management. \nHear first-hand from students who have been volunteering far from the view of most townspeople. Now in its third year of operation\, the Student Stewardship Team is cultivating leadership skills and civic responsibility at the grassroots level — literally. \n“Whether we were clearing trails\, removing invasive species\, or cleaning up the beach\, there was something incredibly satisfying about getting our hands dirty together\,” says senior Henry Schultz. \n“There was no competition – no pressure – and it was just us\, outside\, doing work that made a real difference. In a world where so much of our time is spent behind screens\, this kind of connection to nature and to each other feels so refreshing.” \nIn the last 12 months\, the Student Stewardship Team has contributed nearly 500 hours of volunteer time. They have worked on many properties owned by the Land Trust as well as town-owned properties including Osamequin Nature Preserve\, St. Andrews Farm\, Doug Rayner Wildlife Refuge and Veteran’s Memorial Park. \nEach of the student speakers is a recipient of the Russo Scholarship\, awarded to graduating seniors on the Student Stewardship Team who have completed more than 20 hours of service by the time they apply. The scholarships are made possible by Barrington resident and retired inventor Ronald Russo. \nThe students’ work enhances the ongoing stewardship activities of the Tuesday Trails Team\, an adult team which meets monthly to work on conservation properties\, and the adult property stewards who monitor the Land Trust’s properties monthly. \n“I started volunteering for the Student Stewardship Team at the end of my sophomore year of high school\, when the program was in its infancy\,” recalls senior Indie Lamb. \n“What I found was an amazing community which I will treasure. I have always been a proponent of preserving wild spaces. However\, it was not until I started volunteering on the Student Stewardship Team that I truly understood why it was important. These spaces provided habitat for native plant species\, wildlife and for human enjoyment. My time volunteering with the team has brought me closer to local lands and has fostered my appreciation for the natural spaces we have in Barrington.” \n  \n  \n  \n  \nThanks to our 2025 Land Trust Learning Series Sponsors!\n \n\nMeridian Custom Homes ~ Providence\nCharles E. Millard\, Inc. General Contractors – Bristol \nTiffany’s Salon & Spa – Barrington \nPODS Swimming – East Providence \nRosemary’s School of Dance – Warren\, Bristol\, Rehoboth \nJaffe Orthodontics – Barrington & Portsmouth
URL:https://www.blct.org/event/next-gen-leaders/
LOCATION:Barrington Public Library\, 281 County Rd\,\, Barrington\, RI\, 02806\, United States
END:VEVENT
END:VCALENDAR