BEGIN:VCALENDAR
VERSION:2.0
PRODID:-//Barrington Land Trust - ECPv6.15.20//NONSGML v1.0//EN
CALSCALE:GREGORIAN
METHOD:PUBLISH
X-WR-CALNAME:Barrington Land Trust
X-ORIGINAL-URL:https://www.blct.org
X-WR-CALDESC:Events for Barrington Land Trust
REFRESH-INTERVAL;VALUE=DURATION:PT1H
X-Robots-Tag:noindex
X-PUBLISHED-TTL:PT1H
BEGIN:VTIMEZONE
TZID:America/New_York
BEGIN:DAYLIGHT
TZOFFSETFROM:-0500
TZOFFSETTO:-0400
TZNAME:EDT
DTSTART:20240310T070000
END:DAYLIGHT
BEGIN:STANDARD
TZOFFSETFROM:-0400
TZOFFSETTO:-0500
TZNAME:EST
DTSTART:20241103T060000
END:STANDARD
BEGIN:DAYLIGHT
TZOFFSETFROM:-0500
TZOFFSETTO:-0400
TZNAME:EDT
DTSTART:20250309T070000
END:DAYLIGHT
BEGIN:STANDARD
TZOFFSETFROM:-0400
TZOFFSETTO:-0500
TZNAME:EST
DTSTART:20251102T060000
END:STANDARD
BEGIN:DAYLIGHT
TZOFFSETFROM:-0500
TZOFFSETTO:-0400
TZNAME:EDT
DTSTART:20260308T070000
END:DAYLIGHT
BEGIN:STANDARD
TZOFFSETFROM:-0400
TZOFFSETTO:-0500
TZNAME:EST
DTSTART:20261101T060000
END:STANDARD
END:VTIMEZONE
BEGIN:VEVENT
DTSTART;TZID=America/New_York:20250506T090000
DTEND;TZID=America/New_York:20250506T110000
DTSTAMP:20260424T220248
CREATED:20250409T191816Z
LAST-MODIFIED:20250414T131936Z
UID:14753-1746522000-1746529200@www.blct.org
SUMMARY:Town Resilience Garden Work Day
DESCRIPTION:This event is for volunteers who have registered to participate in the care of the Town’s Resilience Garden at Town Center. If you haven’t registered yet and would like to participate\, you may register here and download the Town’s release of responsibility here.  \nOn Tuesday\, May 6\, we’ll be doing general care and maintenance of the new Resilience Garden at Town Center. \nREGISTER FOR THE WORK DAY \nPlease dress for the weather. Bring work gloves and your favorite weeder (hori hori\, trowel\, scratcher\, cobrahead\, etc.). We recommend you bring a water bottle. \nBarrington Town Center is located at 283 County Road. Please park in the main lot behind Town Hall (not in Tapin’s lot)\, and walk down to the garden area\, which is next to the entrance to Town Center next to the pond.
URL:https://www.blct.org/event/town-resilience-garden-work-day/
LOCATION:Barrington Town Hall\, 283 County Road\, Barrington\, RI\, 02806
END:VEVENT
BEGIN:VEVENT
DTSTART;TZID=America/New_York:20250506T183000
DTEND;TZID=America/New_York:20250506T191500
DTSTAMP:20260424T220248
CREATED:20250409T120707Z
LAST-MODIFIED:20250409T120707Z
UID:14749-1746556200-1746558900@www.blct.org
SUMMARY:Student Stewardship Team - Event Support
DESCRIPTION:If you are not a registered member and would like to join\, visit our Student Stewardship page for more information. \nWe’re looking for two or three people to help with check in from 6:30 to 7:15 pm at this Learning Series event\, “Between Moon Tides: Saving the Saltmarsh Sparrow.” You’re welcome to stay for the event if you’re interested.  \nREGISTER FOR THE EVENT
URL:https://www.blct.org/event/student-stewardship-team-event-support-2/
LOCATION:Barrington Public Library\, 281 County Rd\,\, Barrington\, RI\, 02806\, United States
END:VEVENT
BEGIN:VEVENT
DTSTART;TZID=America/New_York:20250506T190000
DTEND;TZID=America/New_York:20250506T203000
DTSTAMP:20260424T220248
CREATED:20250330T130034Z
LAST-MODIFIED:20250430T095823Z
UID:14718-1746558000-1746563400@www.blct.org
SUMMARY:Learning Series: Between Moon Tides - Saving the Saltmarsh Sparrow
DESCRIPTION:THIS EVENT IS FULLY SUBSCRIBED. TO BE PLACED ON THE WAITING LIST\, PLEASE EMAIL CINDYELDER@BLCT.ORG. \nIn a ribbon of saltmarsh in coastal New England\, an intergenerational group of citizen scientists is trying to save the Saltmarsh Sparrow from extinction\, one nest at a time. Join us for a community screening of the new documentary by Jason Jaacks\, Between Moon Tides\, followed by a discussion featuring the co-directors of the Saltmarsh Sparrow Research Initiative\, Steve Reinert\, Jim O’Neill and Deirdre Robinson\, along with Research Assistant Joel Eckerson. \nThe Saltmarsh Sparrow has often been referred to as the “canary in the coal mine” for rising sea levels due to global warming. It has successfully built nests only an inch above the ground for thousands of years. \nDependent upon healthy salt marshes on the East Coast of the US\, the Saltmarsh Sparrow’s population has diminished by 75% since the 1990s. It lives nowhere else in the world and could become extinct by mid-century due to flooding\, depredation and habitat loss. \n \nBetween Moon Tides: The Documentary \nBetween Moon Tides follows an intergenerational group of citizen scientists in coastal New England as they attempt to save the Saltmarsh Sparrow from extinction — one nest at a time. Against the backdrop of rising sea levels\, three retirees and a young intern forge deep bonds while scouring the saltmarsh\, banding birds and witnessing firsthand the devastating effects of climate change. \nThrough stunning visuals and intimate storytelling\, the film reveals how a disappearing bird serves as both a warning and a call to action. Yet\, at its heart\, Between Moon Tides is a love story—about nature\, mentorship and the hope that comes from refusing to give up\, even in the face of impossible odds. \nAbout Jason Jaacks \nJason Jaacks is a filmmaker and photographer whose work explores the natural world and our place in it through the lens of science\, natural history\, and exploration. As a visual journalist\, he has produced television for National Geographic\, an award-winning web series for PBS Digital Studios\, and video shorts for The New York Times. His films have been screened at numerous film festivals\, including Mountainfilm\, Big Sky Documentary Film Festival\, and Wild & Scenic Film Festival. Jason is a National Geographic Explorer and holds a Master of Journalism from the University of California\, Berkeley. \nThanks to our 2025 Land Trust Learning Series Sponsors!\n \n\nMeridian Custom Homes ~ Providence\nCharles E. Millard\, Inc. General Contractors – Bristol \nTiffany’s Salon & Spa – Barrington \nPODS Swimming – East Providence \nRosemary’s School of Dance – Warren\, Bristol\, Rehoboth \nJaffe Orthodontics – Barrington & Portsmouth
URL:https://www.blct.org/event/learning-series-saltmarsh-sparrow/
LOCATION:Barrington Public Library\, 281 County Rd\,\, Barrington\, RI\, 02806\, United States
END:VEVENT
END:VCALENDAR