BEGIN:VCALENDAR
VERSION:2.0
PRODID:-//Barrington Land Trust - ECPv6.15.20//NONSGML v1.0//EN
CALSCALE:GREGORIAN
METHOD:PUBLISH
X-ORIGINAL-URL:https://www.blct.org
X-WR-CALDESC:Events for Barrington Land Trust
REFRESH-INTERVAL;VALUE=DURATION:PT1H
X-Robots-Tag:noindex
X-PUBLISHED-TTL:PT1H
BEGIN:VTIMEZONE
TZID:America/New_York
BEGIN:DAYLIGHT
TZOFFSETFROM:-0500
TZOFFSETTO:-0400
TZNAME:EDT
DTSTART:20240310T070000
END:DAYLIGHT
BEGIN:STANDARD
TZOFFSETFROM:-0400
TZOFFSETTO:-0500
TZNAME:EST
DTSTART:20241103T060000
END:STANDARD
BEGIN:DAYLIGHT
TZOFFSETFROM:-0500
TZOFFSETTO:-0400
TZNAME:EDT
DTSTART:20250309T070000
END:DAYLIGHT
BEGIN:STANDARD
TZOFFSETFROM:-0400
TZOFFSETTO:-0500
TZNAME:EST
DTSTART:20251102T060000
END:STANDARD
BEGIN:DAYLIGHT
TZOFFSETFROM:-0500
TZOFFSETTO:-0400
TZNAME:EDT
DTSTART:20260308T070000
END:DAYLIGHT
BEGIN:STANDARD
TZOFFSETFROM:-0400
TZOFFSETTO:-0500
TZNAME:EST
DTSTART:20261101T060000
END:STANDARD
END:VTIMEZONE
BEGIN:VEVENT
DTSTART;TZID=America/New_York:20250418T090000
DTEND;TZID=America/New_York:20250418T110000
DTSTAMP:20260424T205006
CREATED:20250408T191359Z
LAST-MODIFIED:20250408T191359Z
UID:14744-1744966800-1744974000@www.blct.org
SUMMARY:Student Stewardship Team - Barrington Middle School Pollinator Garden
DESCRIPTION:This event is for members of our Student Stewardship Team for high school students ages 14 to 18. If you are not a registered member and would like to join\, visit our Student Stewardship page for more information. \nOn Friday\, April 18\, we’ll be doing spring maintenance at the Barrington Middle School pollinator garden\, located behind the school\, 261 Middle Highway\, Barrington.  \nREGISTER FOR THE EVENT \nDress for the weather and wear sturdy footwear. Wear your Land Trust hat and/or t-shirt if you have one. Bring a water bottle!
URL:https://www.blct.org/event/student-stewardship-team-barrington-middle-school-pollinator-garden/
LOCATION:Barrington Middle School\, 261 Middle Highway\, Barrington\, RI\, 02806
END:VEVENT
END:VCALENDAR