BEGIN:VCALENDAR
VERSION:2.0
PRODID:-//Barrington Land Trust - ECPv6.15.20//NONSGML v1.0//EN
CALSCALE:GREGORIAN
METHOD:PUBLISH
X-WR-CALNAME:Barrington Land Trust
X-ORIGINAL-URL:https://www.blct.org
X-WR-CALDESC:Events for Barrington Land Trust
REFRESH-INTERVAL;VALUE=DURATION:PT1H
X-Robots-Tag:noindex
X-PUBLISHED-TTL:PT1H
BEGIN:VTIMEZONE
TZID:America/New_York
BEGIN:DAYLIGHT
TZOFFSETFROM:-0500
TZOFFSETTO:-0400
TZNAME:EDT
DTSTART:20240310T070000
END:DAYLIGHT
BEGIN:STANDARD
TZOFFSETFROM:-0400
TZOFFSETTO:-0500
TZNAME:EST
DTSTART:20241103T060000
END:STANDARD
BEGIN:DAYLIGHT
TZOFFSETFROM:-0500
TZOFFSETTO:-0400
TZNAME:EDT
DTSTART:20250309T070000
END:DAYLIGHT
BEGIN:STANDARD
TZOFFSETFROM:-0400
TZOFFSETTO:-0500
TZNAME:EST
DTSTART:20251102T060000
END:STANDARD
BEGIN:DAYLIGHT
TZOFFSETFROM:-0500
TZOFFSETTO:-0400
TZNAME:EDT
DTSTART:20260308T070000
END:DAYLIGHT
BEGIN:STANDARD
TZOFFSETFROM:-0400
TZOFFSETTO:-0500
TZNAME:EST
DTSTART:20261101T060000
END:STANDARD
END:VTIMEZONE
BEGIN:VEVENT
DTSTART;TZID=America/New_York:20250407T190000
DTEND;TZID=America/New_York:20250407T203000
DTSTAMP:20260424T163705
CREATED:20250121T204843Z
LAST-MODIFIED:20250330T105412Z
UID:14572-1744052400-1744057800@www.blct.org
SUMMARY:Learning Series: Stormwater Management in a Coastal Town
DESCRIPTION:Heavy rains and flooding are now common events in our region. As a coastal area already coping with rising sea levels\, the challenge of stormwater management adds another layer of complexity. What solutions are available and how can we\, as a community\, limit the damage from inland and coastal flooding? \nREGISTER FOR THE EVENT \nWe’ve invited a panel of experts to examine the issue of stormwater management from many perspectives. Join us on Monday\, April 7\, at 7 pm at the Barrington Public Library in the Salem Family Auditorium for a presentation followed by a question-and-answer session. The panel will be moderated by Cindy Elder\, Executive Director of the Land Trust. \nMeet the Panel\nMichelle West \nMichelle West\, P.E. is a Senior Associate with Horsley Witten Group. She has more than 20 years of professional experience with watershed planning\, green stormwater designs\, natural resource restoration\, and public outreach. With a background in both engineering and natural resources\, she is passionate about using her skills to restore the natural world while improving the human experience. \nBrandon Blanchard \nBrandon Blanchard is a Vice President and Civil Engineer with Pare Corporation\, based in Lincoln\, RI. He has been with Pare for 22 years and leads water\, wastewater\, and stormwater projects within the firm’s Environmental Engineering division. He is a registered Professional Engineer in Rhode Island as well as Massachusetts and Connecticut. Brandon has a B.S. in Civil Engineering from Lehigh University and a M.S. in Environmental Engineering from Worcester Polytechnic Institute. Brandon resides in Barrington with his wife and two kids.  \nRebecca Reeves \nRebecca Reeves is the Education and Outreach Manager with the Stormwater Innovation Center (SIC)/Audubon Society of Rhode Island. Working in collaboration with the SIC’s many partner organizations\, she is responsible for professional training and event coordination\, school programming\, and community outreach.  \nSara Sampieri Horvet \nSara Sampieri Horvet is a Research Associate and the Analytical Laboratory Manager of the Coastal Systems Program at the UMass Dartmouth School for Marine Science and Technology. Her research focuses on water quality and the effects of nutrient enrichment on estuaries and freshwater ponds. Sara has been involved in numerous stormwater management projects across Southeastern Massachusetts. She also serves on the board of the Barrington Land Conservation Trust and volunteers with the Barrington Terrapin Conservation Project. Sara is dedicated to protecting \nHerb Durfee \nand restoring natural habitats so her children and future generations can enjoy the same beautiful places.  \nHerb Durfee is Barrington’s Director of Planning\, Building & Resilience. A native of Vermont\, he has held several positions in municipal government\, including town planner\, community development\, and town manager. Before joining Barrington’s town government in 2024\, he served as the town planner for Warren\, RI. \n \nThanks to our 2025 Land Trust Learning Series Sponsors!\n \n\nMeridian Custom Homes ~ Providence\nCharles E. Millard\, Inc. General Contractors – Bristol \nTiffany’s Salon & Spa – Barrington \nPODS Swimming – East Providence \nRosemary’s School of Dance – Warren\, Bristol\, Rehoboth \nJaffe Orthodontics – Barrington & Portsmouth
URL:https://www.blct.org/event/learning-series-stormwater-management/
LOCATION:Barrington Public Library\, 281 County Rd\,\, Barrington\, RI\, 02806\, United States
END:VEVENT
END:VCALENDAR