BEGIN:VCALENDAR
VERSION:2.0
PRODID:-//Barrington Land Trust - ECPv6.15.20//NONSGML v1.0//EN
CALSCALE:GREGORIAN
METHOD:PUBLISH
X-WR-CALNAME:Barrington Land Trust
X-ORIGINAL-URL:https://www.blct.org
X-WR-CALDESC:Events for Barrington Land Trust
REFRESH-INTERVAL;VALUE=DURATION:PT1H
X-Robots-Tag:noindex
X-PUBLISHED-TTL:PT1H
BEGIN:VTIMEZONE
TZID:America/New_York
BEGIN:DAYLIGHT
TZOFFSETFROM:-0500
TZOFFSETTO:-0400
TZNAME:EDT
DTSTART:20240310T070000
END:DAYLIGHT
BEGIN:STANDARD
TZOFFSETFROM:-0400
TZOFFSETTO:-0500
TZNAME:EST
DTSTART:20241103T060000
END:STANDARD
BEGIN:DAYLIGHT
TZOFFSETFROM:-0500
TZOFFSETTO:-0400
TZNAME:EDT
DTSTART:20250309T070000
END:DAYLIGHT
BEGIN:STANDARD
TZOFFSETFROM:-0400
TZOFFSETTO:-0500
TZNAME:EST
DTSTART:20251102T060000
END:STANDARD
BEGIN:DAYLIGHT
TZOFFSETFROM:-0500
TZOFFSETTO:-0400
TZNAME:EDT
DTSTART:20260308T070000
END:DAYLIGHT
BEGIN:STANDARD
TZOFFSETFROM:-0400
TZOFFSETTO:-0500
TZNAME:EST
DTSTART:20261101T060000
END:STANDARD
END:VTIMEZONE
BEGIN:VEVENT
DTSTART;TZID=America/New_York:20250406T130000
DTEND;TZID=America/New_York:20250406T160000
DTSTAMP:20260424T163703
CREATED:20250122T125546Z
LAST-MODIFIED:20250330T105300Z
UID:14590-1743944400-1743955200@www.blct.org
SUMMARY:Learning Series: The Climate Future Film Festival
DESCRIPTION:Ten films from four continents in two hours give expression to what we’re feeling—hope and cynicism\, climate denial and climate grief\, rage and heartbreak\, resilience and resolve—and offer paths toward climate empowerment. Join us on Sunday\, April 6\, at 1 pm for a free screening followed by a discussion in the Salem Family Auditorium at the Barrington Public Library. \nREGISTER FOR THE EVENT \nWATCH THE TRAILER \nAmerica’s leading voice on climate\, Bill McKibben\, co-founder of 350.org and Third Act\, is the Honorary Judge and launches the Festival in a videotaped introduction. The following movies\, including one produced in Rhode Island\, will be aired. \n    \n \n \n \n  \n \n  \n  \n  \n  \n  \n  \n  \n  \n  \n  \n  \nThanks to our 2025 Land Trust Learning Series Sponsors!\n \n\nMeridian Custom Homes ~ Providence\nCharles E. Millard\, Inc. General Contractors – Bristol \nTiffany’s Salon & Spa – Barrington \nPODS Swimming – East Providence \nRosemary’s School of Dance – Warren\, Bristol\, Rehoboth \nJaffe Orthodontics – Barrington & Portsmouth
URL:https://www.blct.org/event/learning-series-climate-future-film-festival/
LOCATION:Barrington Public Library\, 281 County Rd\,\, Barrington\, RI\, 02806\, United States
END:VEVENT
END:VCALENDAR