BEGIN:VCALENDAR
VERSION:2.0
PRODID:-//Barrington Land Trust - ECPv6.15.20//NONSGML v1.0//EN
CALSCALE:GREGORIAN
METHOD:PUBLISH
X-ORIGINAL-URL:https://www.blct.org
X-WR-CALDESC:Events for Barrington Land Trust
REFRESH-INTERVAL;VALUE=DURATION:PT1H
X-Robots-Tag:noindex
X-PUBLISHED-TTL:PT1H
BEGIN:VTIMEZONE
TZID:America/New_York
BEGIN:DAYLIGHT
TZOFFSETFROM:-0500
TZOFFSETTO:-0400
TZNAME:EDT
DTSTART:20240310T070000
END:DAYLIGHT
BEGIN:STANDARD
TZOFFSETFROM:-0400
TZOFFSETTO:-0500
TZNAME:EST
DTSTART:20241103T060000
END:STANDARD
BEGIN:DAYLIGHT
TZOFFSETFROM:-0500
TZOFFSETTO:-0400
TZNAME:EDT
DTSTART:20250309T070000
END:DAYLIGHT
BEGIN:STANDARD
TZOFFSETFROM:-0400
TZOFFSETTO:-0500
TZNAME:EST
DTSTART:20251102T060000
END:STANDARD
BEGIN:DAYLIGHT
TZOFFSETFROM:-0500
TZOFFSETTO:-0400
TZNAME:EDT
DTSTART:20260308T070000
END:DAYLIGHT
BEGIN:STANDARD
TZOFFSETFROM:-0400
TZOFFSETTO:-0500
TZNAME:EST
DTSTART:20261101T060000
END:STANDARD
END:VTIMEZONE
BEGIN:VEVENT
DTSTART;TZID=America/New_York:20250331T130000
DTEND;TZID=America/New_York:20250331T150000
DTSTAMP:20260424T111753
CREATED:20250203T184042Z
LAST-MODIFIED:20250301T163723Z
UID:14631-1743426000-1743433200@www.blct.org
SUMMARY:Student Stewardship Team - Cleanup - East Bay Bike Path
DESCRIPTION:This event is for members of our Student Stewardship Team for high school students ages 14 to 18. If you are not a registered member and would like to join\, visit our Student Stewardship page for more information. \nOn Monday\, March 31\, from 1 -3 pm\, we’ll be picking up litter along the East Bay Bike Path.  \nREGISTER FOR THE EVENT \nDress for the weather and wear sturdy\, water-resistant footwear. Bring a water bottle! \nWe’ll meet in the Shaw’s parking lot (186 County Rd) along the area adjacent to the bike path. \nThanks for participating!
URL:https://www.blct.org/event/student-stewardship-team-cleanup-east-bay-bike-path/
LOCATION:East Bay Bike Path – Shaw’s Parking Lot\, 186 County Rd\, Barrington\, RI\, 02806\, United States
END:VEVENT
END:VCALENDAR