BEGIN:VCALENDAR
VERSION:2.0
PRODID:-//Barrington Land Trust - ECPv6.15.20//NONSGML v1.0//EN
CALSCALE:GREGORIAN
METHOD:PUBLISH
X-WR-CALNAME:Barrington Land Trust
X-ORIGINAL-URL:https://www.blct.org
X-WR-CALDESC:Events for Barrington Land Trust
REFRESH-INTERVAL;VALUE=DURATION:PT1H
X-Robots-Tag:noindex
X-PUBLISHED-TTL:PT1H
BEGIN:VTIMEZONE
TZID:America/New_York
BEGIN:DAYLIGHT
TZOFFSETFROM:-0500
TZOFFSETTO:-0400
TZNAME:EDT
DTSTART:20240310T070000
END:DAYLIGHT
BEGIN:STANDARD
TZOFFSETFROM:-0400
TZOFFSETTO:-0500
TZNAME:EST
DTSTART:20241103T060000
END:STANDARD
BEGIN:DAYLIGHT
TZOFFSETFROM:-0500
TZOFFSETTO:-0400
TZNAME:EDT
DTSTART:20250309T070000
END:DAYLIGHT
BEGIN:STANDARD
TZOFFSETFROM:-0400
TZOFFSETTO:-0500
TZNAME:EST
DTSTART:20251102T060000
END:STANDARD
BEGIN:DAYLIGHT
TZOFFSETFROM:-0500
TZOFFSETTO:-0400
TZNAME:EDT
DTSTART:20260308T070000
END:DAYLIGHT
BEGIN:STANDARD
TZOFFSETFROM:-0400
TZOFFSETTO:-0500
TZNAME:EST
DTSTART:20261101T060000
END:STANDARD
END:VTIMEZONE
BEGIN:VEVENT
DTSTART;TZID=America/New_York:20250326T183000
DTEND;TZID=America/New_York:20250326T203000
DTSTAMP:20260424T111726
CREATED:20241231T200241Z
LAST-MODIFIED:20250310T130824Z
UID:14535-1743013800-1743021000@www.blct.org
SUMMARY:Vernal Pool Evening at Sowams Woods
DESCRIPTION:This Pseudacris crucifer\, more commonly known as a spring peeper\, is one of the fragile creatures that depends on vernal pools for habitat and food. \nTHIS EVENT IS FULLY BOOKED. TO BE PLACED ON THE WAITING LIST\, EMAIL CINDYELDER@BLCT.ORG.\nWhen spring arrives\, amphibians will be on the move! Join Mary Gannon and Abigail Clark from RIDEM’s Division of Fish and Wildlife for an evening walk  to a vernal pool at Sowams Woods on Wed.\, March 26\, from 6:30 to 8:30 p.m. \nIn the quiet of evening\, we’ll be listening and looking for wood frogs\, spring peepers\, toads and salamanders. You’ll learn about RIDEM Division of Fish and Wildlife conservation projects aimed at helping our state’s amphibians\, as well as ways you can get involved to help right in your own backyard. \nParticipants will not be entering any wetlands and will be staying on the trail together as a group. This program\, offered in partnership with the Barrington Land Conservation Trust\, is free to attend\, but registration is required. \nAbigail Clark and Mary Gannon from RIDEM’s Department of Fish & Wildlife will lead the Vernal Pool Evening at Sowams Woods. \nThe date and time of this educational event are subject to change based on temperature and amphibian activity. If we have ice on the pools\, we will postpone. Rain is welcome though — the amphibians love it! \nSpeakers \nMary Gannon is the Wildlife Outreach Coordinator for the Rhode Island Department of Environmental Management’s Division of Fish and Wildlife. Her work centers around spreading awareness of State wildlife conservation projects and educating Rhode Islanders of all ages about our state’s unique critters. In her free time\, you can find Mary enjoying time with her family\, tending her veggie garden\, and restoring her boring suburban lawn to a vibrant native plant oasis for wildlife.  \nAbigail Clark is the Wildlife Outreach and Volunteer Technical Assistant for RIDEM Division of Fish and Wildlife. Abby is an outdoor educator who is passionate about connecting Rhode Islanders with the environment.  When not at work Abby can be found spending time with her family\, shuttling her children to sports\, reading or crafting.   
URL:https://www.blct.org/event/vernal-pool-evening/
LOCATION:Sowams Woods\, South Lake Drive\, Barrington\, Rhode Island\, 02806
END:VEVENT
END:VCALENDAR