BEGIN:VCALENDAR
VERSION:2.0
PRODID:-//Barrington Land Trust - ECPv6.15.20//NONSGML v1.0//EN
CALSCALE:GREGORIAN
METHOD:PUBLISH
X-ORIGINAL-URL:https://www.blct.org
X-WR-CALDESC:Events for Barrington Land Trust
REFRESH-INTERVAL;VALUE=DURATION:PT1H
X-Robots-Tag:noindex
X-PUBLISHED-TTL:PT1H
BEGIN:VTIMEZONE
TZID:America/New_York
BEGIN:DAYLIGHT
TZOFFSETFROM:-0500
TZOFFSETTO:-0400
TZNAME:EDT
DTSTART:20240310T070000
END:DAYLIGHT
BEGIN:STANDARD
TZOFFSETFROM:-0400
TZOFFSETTO:-0500
TZNAME:EST
DTSTART:20241103T060000
END:STANDARD
BEGIN:DAYLIGHT
TZOFFSETFROM:-0500
TZOFFSETTO:-0400
TZNAME:EDT
DTSTART:20250309T070000
END:DAYLIGHT
BEGIN:STANDARD
TZOFFSETFROM:-0400
TZOFFSETTO:-0500
TZNAME:EST
DTSTART:20251102T060000
END:STANDARD
BEGIN:DAYLIGHT
TZOFFSETFROM:-0500
TZOFFSETTO:-0400
TZNAME:EDT
DTSTART:20260308T070000
END:DAYLIGHT
BEGIN:STANDARD
TZOFFSETFROM:-0400
TZOFFSETTO:-0500
TZNAME:EST
DTSTART:20261101T060000
END:STANDARD
END:VTIMEZONE
BEGIN:VEVENT
DTSTART;TZID=America/New_York:20250304T190000
DTEND;TZID=America/New_York:20250304T203000
DTSTAMP:20260424T121529
CREATED:20241231T221355Z
LAST-MODIFIED:20250304T194646Z
UID:14545-1741114800-1741120200@www.blct.org
SUMMARY:Learning Series - Climate Change: Seeing the Forest through the Trees
DESCRIPTION:Climate change is full of paradoxes. The need for action is urgent\, and yet\, true success is a long game. \nHeather Goldstone\, Chief Communication Officer of the Woodwell Climate Research Center\, kicks off our 2025 Learning Series with a big-picture look at how we talk and think about climate change. This free event will take place on Tuesday\, March 4\, at 7 pm\, in the Salem Family Auditorium at the Barrington Public Library. \nREGISTER FOR THE EVENT \nThe accumulation of greenhouse gases is supercharging both droughts and downpours\, fires and floods. It is a global phenomenon with intensely local impacts. This talk will address common questions and misconceptions about climate change and present a realistic\, empowering framing of our climate challenge—the scope of the problem and the kinds of solutions we need. \nAbout Heather Goldstone \nHeather Goldstone leads Woodwell Climate Research Center’s communications activities\, bringing the rich stories of Woodwell Climate scientists to diverse public audiences. She draws on her extensive experience as both a scientist and a journalist\, and her passion for melding data and narrative in climate change stories that build awareness and inspire action. \nShe came to Woodwell Climate from WGBH\, where she founded and hosted a weekly science-focused radio show\, Living Lab Radio. Previously\, she wrote the Climatide blog about coastal communities facing climate change. Her reporting on science and the environment has appeared in outlets ranging from Cape Cod Times and Commercial Fishery News to NPR’s Morning Edition\, The Takeaway\, and PBS NewsHour. In 2014\, she was recognized for the breadth of her work with WGBH’s Margret and Hans Rey/Curious George Producer award. \nAs a child\, Heather fell in love with the ocean and went on to pursue a career in marine research before turning her energies to science communication. She serves on the Woods Hole Sea Grant Marine Outreach Guidance Group and Cape Cod Climate Change Collaborative Advisory Committee\, and she frequently teaches or mentors students in communication skills. \nThanks to our 2025 Land Trust Learning Series Sponsors!\n \n\nMeridian Custom Homes ~ Providence\nCharles E. Millard\, Inc. General Contractors – Bristol \nPODS Swimming – East Providence \nRosemary’s School of Dance – Warren\, Bristol\, Rehoboth \nJaffe Orthodontics – Barrington & Portsmouth
URL:https://www.blct.org/event/learning-series-climate-change/
LOCATION:Barrington Public Library\, 281 County Rd\,\, Barrington\, RI\, 02806\, United States
END:VEVENT
END:VCALENDAR