BEGIN:VCALENDAR
VERSION:2.0
PRODID:-//Barrington Land Trust - ECPv6.15.20//NONSGML v1.0//EN
CALSCALE:GREGORIAN
METHOD:PUBLISH
X-ORIGINAL-URL:https://www.blct.org
X-WR-CALDESC:Events for Barrington Land Trust
REFRESH-INTERVAL;VALUE=DURATION:PT1H
X-Robots-Tag:noindex
X-PUBLISHED-TTL:PT1H
BEGIN:VTIMEZONE
TZID:America/New_York
BEGIN:DAYLIGHT
TZOFFSETFROM:-0500
TZOFFSETTO:-0400
TZNAME:EDT
DTSTART:20240310T070000
END:DAYLIGHT
BEGIN:STANDARD
TZOFFSETFROM:-0400
TZOFFSETTO:-0500
TZNAME:EST
DTSTART:20241103T060000
END:STANDARD
BEGIN:DAYLIGHT
TZOFFSETFROM:-0500
TZOFFSETTO:-0400
TZNAME:EDT
DTSTART:20250309T070000
END:DAYLIGHT
BEGIN:STANDARD
TZOFFSETFROM:-0400
TZOFFSETTO:-0500
TZNAME:EST
DTSTART:20251102T060000
END:STANDARD
BEGIN:DAYLIGHT
TZOFFSETFROM:-0500
TZOFFSETTO:-0400
TZNAME:EDT
DTSTART:20260308T070000
END:DAYLIGHT
BEGIN:STANDARD
TZOFFSETFROM:-0400
TZOFFSETTO:-0500
TZNAME:EST
DTSTART:20261101T060000
END:STANDARD
END:VTIMEZONE
BEGIN:VEVENT
DTSTART;TZID=America/New_York:20250104T070000
DTEND;TZID=America/New_York:20250104T080000
DTSTAMP:20260424T005855
CREATED:20241216T175716Z
LAST-MODIFIED:20241216T175716Z
UID:14523-1735974000-1735977600@www.blct.org
SUMMARY:Sunrise Walk at Osamequin Nature Preserve
DESCRIPTION:Early risers – this one’s for you! \nLaunch into the new year with a brisk sunrise walk on Saturday\, Jan. 4 at 7 am at Osamequin Nature Preserve. We’ll experience the quiet of the forest and Hundred Acre Cove as the sun slips above the horizon at 7:12 am. \nDress for the weather and bring your camera to capture the beauty of first light. All ages are welcome. The walk will last under an hour and we’ll keep moving at a moderate pace to keep warm. \nREGISTER FOR THE WALK \nOsamequin Nature Preserve is a 42-acre property located on the Wampanoag Trail\, bordering Hundred Acre Cove in Barrington\, RI. Visit the Osamequin Nature Preserve page for more information\, including map and GPS coordinates.  \nWe’ll meet in the parking area at the entrance to Osamequin Nature Preserve\, which is located on the northbound side of Rte. 114\, shortly after you pass Walker Farm on your right. Round trip\, the walking distance is about 2 miles. \n 
URL:https://www.blct.org/event/sunrise-walk-at-osamequin-nature-preserve/
LOCATION:Osamequin Nature Preserve\, 1580 Rte. 114 North\, Barrington\, Rhode Island\, 02806
END:VEVENT
END:VCALENDAR