BEGIN:VCALENDAR
VERSION:2.0
PRODID:-//Barrington Land Trust - ECPv6.15.20//NONSGML v1.0//EN
CALSCALE:GREGORIAN
METHOD:PUBLISH
X-WR-CALNAME:Barrington Land Trust
X-ORIGINAL-URL:https://www.blct.org
X-WR-CALDESC:Events for Barrington Land Trust
REFRESH-INTERVAL;VALUE=DURATION:PT1H
X-Robots-Tag:noindex
X-PUBLISHED-TTL:PT1H
BEGIN:VTIMEZONE
TZID:America/New_York
BEGIN:DAYLIGHT
TZOFFSETFROM:-0500
TZOFFSETTO:-0400
TZNAME:EDT
DTSTART:20230312T070000
END:DAYLIGHT
BEGIN:STANDARD
TZOFFSETFROM:-0400
TZOFFSETTO:-0500
TZNAME:EST
DTSTART:20231105T060000
END:STANDARD
BEGIN:DAYLIGHT
TZOFFSETFROM:-0500
TZOFFSETTO:-0400
TZNAME:EDT
DTSTART:20240310T070000
END:DAYLIGHT
BEGIN:STANDARD
TZOFFSETFROM:-0400
TZOFFSETTO:-0500
TZNAME:EST
DTSTART:20241103T060000
END:STANDARD
BEGIN:DAYLIGHT
TZOFFSETFROM:-0500
TZOFFSETTO:-0400
TZNAME:EDT
DTSTART:20250309T070000
END:DAYLIGHT
BEGIN:STANDARD
TZOFFSETFROM:-0400
TZOFFSETTO:-0500
TZNAME:EST
DTSTART:20251102T060000
END:STANDARD
END:VTIMEZONE
BEGIN:VEVENT
DTSTART;TZID=America/New_York:20240730T090000
DTEND;TZID=America/New_York:20240730T110000
DTSTAMP:20260423T130010
CREATED:20240725T165349Z
LAST-MODIFIED:20240725T172225Z
UID:14226-1722330000-1722337200@www.blct.org
SUMMARY:Student Stewardship Team - St. Andrews Farm (Peck Ave)
DESCRIPTION:This event is for registered members of the Land Trust’s Student Stewardship Team ONLY. \nIf you are not a registered member and would like to join\, visit our Student Stewardship page for more information. \nOn Tues.\, July 30\, from 9-11 am\, we’ll be cutting back an overgrown border of St. Andrews Farm and clearing around the monarch butterfly signs at the end of Carpenter Ave. and Standish Ave. \nREGISTER FOR THE STEWARDSHIP EVENT \nWe’ll meet on Peck Ave\, off Lincoln Ave – not at the St. Andrews Farm parking lot. \nWear lightweight long pants\, socks\, shoes\, and your Land Trust hat if you have one. Bring a water bottle! If you get lost\, call/text me at 508-733-2443.
URL:https://www.blct.org/event/student-stewardship-team-st-andrews-farm-peck-ave-tues-july-30-9-11-am/
LOCATION:St. Andrews Farm\, 101 Middle Highway\, Barrington\, RI\, 02806
END:VEVENT
END:VCALENDAR