BEGIN:VCALENDAR
VERSION:2.0
PRODID:-//Barrington Land Trust - ECPv6.15.20//NONSGML v1.0//EN
CALSCALE:GREGORIAN
METHOD:PUBLISH
X-WR-CALNAME:Barrington Land Trust
X-ORIGINAL-URL:https://www.blct.org
X-WR-CALDESC:Events for Barrington Land Trust
REFRESH-INTERVAL;VALUE=DURATION:PT1H
X-Robots-Tag:noindex
X-PUBLISHED-TTL:PT1H
BEGIN:VTIMEZONE
TZID:America/New_York
BEGIN:DAYLIGHT
TZOFFSETFROM:-0500
TZOFFSETTO:-0400
TZNAME:EDT
DTSTART:20230312T070000
END:DAYLIGHT
BEGIN:STANDARD
TZOFFSETFROM:-0400
TZOFFSETTO:-0500
TZNAME:EST
DTSTART:20231105T060000
END:STANDARD
BEGIN:DAYLIGHT
TZOFFSETFROM:-0500
TZOFFSETTO:-0400
TZNAME:EDT
DTSTART:20240310T070000
END:DAYLIGHT
BEGIN:STANDARD
TZOFFSETFROM:-0400
TZOFFSETTO:-0500
TZNAME:EST
DTSTART:20241103T060000
END:STANDARD
BEGIN:DAYLIGHT
TZOFFSETFROM:-0500
TZOFFSETTO:-0400
TZNAME:EDT
DTSTART:20250309T070000
END:DAYLIGHT
BEGIN:STANDARD
TZOFFSETFROM:-0400
TZOFFSETTO:-0500
TZNAME:EST
DTSTART:20251102T060000
END:STANDARD
END:VTIMEZONE
BEGIN:VEVENT
DTSTART;TZID=America/New_York:20240726T130000
DTEND;TZID=America/New_York:20240726T150000
DTSTAMP:20260423T130029
CREATED:20240722T161909Z
LAST-MODIFIED:20240725T172153Z
UID:14186-1721998800-1722006000@www.blct.org
SUMMARY:Student Stewardship Team - Veteran's Park
DESCRIPTION:This event is for registered members of the Land Trust’s Student Stewardship Team ONLY. \nIf you are not a registered member and would like to join\, visit our Student Stewardship page for more information. \nOn Friday\, July 26\, from 1 pm to 3 pm\, we’ll be maintaining trails and doing some clean up at Veterans Park. \nDress for the weather and wear sturdy footwear. Wear lightweight long pants with socks (for tick and poison ivy prevention) and your Land Trust hat. Bring a water bottle! \nREGISTER FOR STEWARDSHIP EVENT
URL:https://www.blct.org/event/student-stewardship-team-veterans-park-fri-july-26-1-3-pm/
LOCATION:Veterans Park\, West Street\, Barrington\, Rhode Island\, 02806
END:VEVENT
END:VCALENDAR