BEGIN:VCALENDAR
VERSION:2.0
PRODID:-//Barrington Land Trust - ECPv6.15.20//NONSGML v1.0//EN
CALSCALE:GREGORIAN
METHOD:PUBLISH
X-WR-CALNAME:Barrington Land Trust
X-ORIGINAL-URL:https://www.blct.org
X-WR-CALDESC:Events for Barrington Land Trust
REFRESH-INTERVAL;VALUE=DURATION:PT1H
X-Robots-Tag:noindex
X-PUBLISHED-TTL:PT1H
BEGIN:VTIMEZONE
TZID:America/New_York
BEGIN:DAYLIGHT
TZOFFSETFROM:-0500
TZOFFSETTO:-0400
TZNAME:EDT
DTSTART:20230312T070000
END:DAYLIGHT
BEGIN:STANDARD
TZOFFSETFROM:-0400
TZOFFSETTO:-0500
TZNAME:EST
DTSTART:20231105T060000
END:STANDARD
BEGIN:DAYLIGHT
TZOFFSETFROM:-0500
TZOFFSETTO:-0400
TZNAME:EDT
DTSTART:20240310T070000
END:DAYLIGHT
BEGIN:STANDARD
TZOFFSETFROM:-0400
TZOFFSETTO:-0500
TZNAME:EST
DTSTART:20241103T060000
END:STANDARD
BEGIN:DAYLIGHT
TZOFFSETFROM:-0500
TZOFFSETTO:-0400
TZNAME:EDT
DTSTART:20250309T070000
END:DAYLIGHT
BEGIN:STANDARD
TZOFFSETFROM:-0400
TZOFFSETTO:-0500
TZNAME:EST
DTSTART:20251102T060000
END:STANDARD
END:VTIMEZONE
BEGIN:VEVENT
DTSTART;TZID=America/New_York:20240720T090000
DTEND;TZID=America/New_York:20240720T140000
DTSTAMP:20260423T130033
CREATED:20240601T132658Z
LAST-MODIFIED:20240603T113522Z
UID:14113-1721466000-1721484000@www.blct.org
SUMMARY:Art in Nature Series: Plein Air Workshop with Erin Spencer
DESCRIPTION:The Land Trust’s Art in Nature Series enables you to engage in workshops on painting\, eco-dying\, jewelry making\, photography\, climate storytelling\, art quilting\, basket weaving\, creative writing and more while interacting with natural places and materials. Registration fees for programs offered through the Art in Nature Series benefit the presenting artist.\n \nOn Saturday\, July 20\, landscape artist Erin Spencer will offer a plein air workshop at St. Andrews Farm. Registration is limited to 10 people. You must provide your own easel and supplies. Artists of all skill levels are welcome\, from the true beginner to the seasoned painter.\n \nREGISTER FOR THE WORKSHOP\n \nErin\, a landscape oil painter who lives in Barrington\, has been documenting Rhode Island’s landscape for 16 years. Her work has been exhibited in the United States and Europe.\n \nIn this plein air workshop\, participants will be painting outside from nature. Learn about simplifying the landscape with a focus on bigger shapes to build the composition of the painting. The workshop will begin with a demo from Erin\, and then everyone will have time to set up their own easels to work on paintings. She will come around throughout the day to give feedback and instruction. She will be teaching and working in oils\, but you are welcome to use any medium you prefer\, from watercolor to acrylic\, or even charcoal for sketching. \n \nErin Spencer is a landscape oil painter living in Barrington. She has been documenting the beautiful landscape around Rhode Island for the last 16 years\, and still hasn’t run out of inspiration. Her paintings are responses to the shapes\, colors\, and moods of the natural landscape. Her paintings often evoke a feeling of calm and serenity as she distills the complicated variety of nature down to the essential shapes and colors. Erin lives in town with her husband and their three children.
URL:https://www.blct.org/event/erin-spencer/
LOCATION:St. Andrews Farm\, 101 Middle Highway\, Barrington\, RI\, 02806
END:VEVENT
END:VCALENDAR