BEGIN:VCALENDAR
VERSION:2.0
PRODID:-//Barrington Land Trust - ECPv6.15.20//NONSGML v1.0//EN
CALSCALE:GREGORIAN
METHOD:PUBLISH
X-WR-CALNAME:Barrington Land Trust
X-ORIGINAL-URL:https://www.blct.org
X-WR-CALDESC:Events for Barrington Land Trust
REFRESH-INTERVAL;VALUE=DURATION:PT1H
X-Robots-Tag:noindex
X-PUBLISHED-TTL:PT1H
BEGIN:VTIMEZONE
TZID:America/New_York
BEGIN:DAYLIGHT
TZOFFSETFROM:-0500
TZOFFSETTO:-0400
TZNAME:EDT
DTSTART:20230312T070000
END:DAYLIGHT
BEGIN:STANDARD
TZOFFSETFROM:-0400
TZOFFSETTO:-0500
TZNAME:EST
DTSTART:20231105T060000
END:STANDARD
BEGIN:DAYLIGHT
TZOFFSETFROM:-0500
TZOFFSETTO:-0400
TZNAME:EDT
DTSTART:20240310T070000
END:DAYLIGHT
BEGIN:STANDARD
TZOFFSETFROM:-0400
TZOFFSETTO:-0500
TZNAME:EST
DTSTART:20241103T060000
END:STANDARD
BEGIN:DAYLIGHT
TZOFFSETFROM:-0500
TZOFFSETTO:-0400
TZNAME:EDT
DTSTART:20250309T070000
END:DAYLIGHT
BEGIN:STANDARD
TZOFFSETFROM:-0400
TZOFFSETTO:-0500
TZNAME:EST
DTSTART:20251102T060000
END:STANDARD
END:VTIMEZONE
BEGIN:VEVENT
DTSTART;TZID=America/New_York:20240710T100000
DTEND;TZID=America/New_York:20240710T120000
DTSTAMP:20260423T130033
CREATED:20240707T192339Z
LAST-MODIFIED:20240707T192759Z
UID:14160-1720605600-1720612800@www.blct.org
SUMMARY:Student Stewardship Team - Veterans Park
DESCRIPTION:This event is for registered members of the Land Trust’s Student Stewardship Team ONLY. \nIf you are not a registered member and would like to join\, visit our Student Stewardship page for more information. \nOn Wednesday\, July 10\, from 10 am to Noon\, we’ll be maintaining trails and doing some clean up at Veterans Park. \nDress for the weather and wear sturdy footwear. Wear lightweight long pants with socks (for tick and poison ivy prevention) and your Land Trust hat. Bring a water bottle! \nREGISTER FOR STEWARDSHIP EVENT
URL:https://www.blct.org/event/14160/
LOCATION:Veterans Park\, West Street\, Barrington\, Rhode Island\, 02806
END:VEVENT
END:VCALENDAR