BEGIN:VCALENDAR
VERSION:2.0
PRODID:-//Barrington Land Trust - ECPv6.15.20//NONSGML v1.0//EN
CALSCALE:GREGORIAN
METHOD:PUBLISH
X-ORIGINAL-URL:https://www.blct.org
X-WR-CALDESC:Events for Barrington Land Trust
REFRESH-INTERVAL;VALUE=DURATION:PT1H
X-Robots-Tag:noindex
X-PUBLISHED-TTL:PT1H
BEGIN:VTIMEZONE
TZID:America/New_York
BEGIN:DAYLIGHT
TZOFFSETFROM:-0500
TZOFFSETTO:-0400
TZNAME:EDT
DTSTART:20230312T070000
END:DAYLIGHT
BEGIN:STANDARD
TZOFFSETFROM:-0400
TZOFFSETTO:-0500
TZNAME:EST
DTSTART:20231105T060000
END:STANDARD
BEGIN:DAYLIGHT
TZOFFSETFROM:-0500
TZOFFSETTO:-0400
TZNAME:EDT
DTSTART:20240310T070000
END:DAYLIGHT
BEGIN:STANDARD
TZOFFSETFROM:-0400
TZOFFSETTO:-0500
TZNAME:EST
DTSTART:20241103T060000
END:STANDARD
BEGIN:DAYLIGHT
TZOFFSETFROM:-0500
TZOFFSETTO:-0400
TZNAME:EDT
DTSTART:20250309T070000
END:DAYLIGHT
BEGIN:STANDARD
TZOFFSETFROM:-0400
TZOFFSETTO:-0500
TZNAME:EST
DTSTART:20251102T060000
END:STANDARD
END:VTIMEZONE
BEGIN:VEVENT
DTSTART;TZID=America/New_York:20240629T090000
DTEND;TZID=America/New_York:20240629T110000
DTSTAMP:20260423T114656
CREATED:20240625T110524Z
LAST-MODIFIED:20240625T110524Z
UID:14138-1719651600-1719658800@www.blct.org
SUMMARY:Student Stewardship Team - Mussachuck Grove - Sat.\, June 29\, 9-11 am
DESCRIPTION:This event is for registered members of the Land Trust’s Student Stewardship Team ONLY. \nIf you are not a registered member and would like to join\, visit our Student Stewardship page for more information. \nOn Saturday\, June 29\, from 9-11 am\, we’ll be conducting a cleanup at Mussachuck Grove and Beach. In addition to a general cleanup of the shoreline and grove\, this involves removal of a couch from the shoreline and requires at least four people. We are conducting this cleanup at low-tide. \nWear lightweight long pants\, socks and sturdy shoes (for tick and poison ivy prevention) and your Land Trust hat. Bring a water bottle! \nREGISTER FOR STEWARDSHIP EVENT
URL:https://www.blct.org/event/student-stewardship-team-mussachuck-grove-sat-june-29-9-11-am/
LOCATION:Mussachuck Grove\, Corner of Appian Way and Grove St.\, Barrington\, RI\, 02806\, United States
END:VEVENT
END:VCALENDAR