BEGIN:VCALENDAR
VERSION:2.0
PRODID:-//Barrington Land Trust - ECPv6.15.20//NONSGML v1.0//EN
CALSCALE:GREGORIAN
METHOD:PUBLISH
X-WR-CALNAME:Barrington Land Trust
X-ORIGINAL-URL:https://www.blct.org
X-WR-CALDESC:Events for Barrington Land Trust
REFRESH-INTERVAL;VALUE=DURATION:PT1H
X-Robots-Tag:noindex
X-PUBLISHED-TTL:PT1H
BEGIN:VTIMEZONE
TZID:America/New_York
BEGIN:DAYLIGHT
TZOFFSETFROM:-0500
TZOFFSETTO:-0400
TZNAME:EDT
DTSTART:20230312T070000
END:DAYLIGHT
BEGIN:STANDARD
TZOFFSETFROM:-0400
TZOFFSETTO:-0500
TZNAME:EST
DTSTART:20231105T060000
END:STANDARD
BEGIN:DAYLIGHT
TZOFFSETFROM:-0500
TZOFFSETTO:-0400
TZNAME:EDT
DTSTART:20240310T070000
END:DAYLIGHT
BEGIN:STANDARD
TZOFFSETFROM:-0400
TZOFFSETTO:-0500
TZNAME:EST
DTSTART:20241103T060000
END:STANDARD
BEGIN:DAYLIGHT
TZOFFSETFROM:-0500
TZOFFSETTO:-0400
TZNAME:EDT
DTSTART:20250309T070000
END:DAYLIGHT
BEGIN:STANDARD
TZOFFSETFROM:-0400
TZOFFSETTO:-0500
TZNAME:EST
DTSTART:20251102T060000
END:STANDARD
END:VTIMEZONE
BEGIN:VEVENT
DTSTART;TZID=America/New_York:20240611T180000
DTEND;TZID=America/New_York:20240611T200000
DTSTAMP:20260423T114549
CREATED:20240416T174308Z
LAST-MODIFIED:20240603T022519Z
UID:13979-1718128800-1718136000@www.blct.org
SUMMARY:Birds of the East Bay & Land Trust Annual Meeting
DESCRIPTION:Butch Lombardi’s nature photographs have graced the pages of Yankee Magazine\, East Bay Newspapers\, The Providence Journal\, The Boston Globe\, and publications by the Audubon Society of RI\, the National Wildlife Federation and the Academy of Natural Science. \nOver his five decades of fascination with bird photography\, Butch has collected images and stories that will heighten your appreciation for the birds right here in the East Bay. \nTHIS EVENT IS FULLY SUBSCRIBED. TO BE PLACED ON THE WAITING LIST\, EMAIL CINDY ELDER. \nJoin us for “Birds of the East Bay” featuring Butch’s remarkable photographs on Tuesday\, June 11\, at 6:30 pm at the Barrington Public Library in the Salem Family Auditorium. Prior to the presentation\, the Land Trust will hold its Annual Meeting at 6 pm in the same location. \n“My interest in birds started around 1958\,” says Lombardi\, a resident of Warren\, RI. \n“We spotted a cardinal in our yard. My mother and I went to Mercier’s Hardware and purchased a bird feeder for the backyard. Ten years later I gravitated to photography as an art form.” \nButch will entertain you with tales of his adventures in photography and will provide tips and suggestions for how you can respect the wildlife while capturing the magic of the moment. \nLAND TRUST ANNUAL MEETING:\nWed.\, June 11\, 6 pm \nActive members of the Barrington Land Conservation Trust are invited to attend the Annual Meeting\, which begins at 6 pm in the Salem Family Auditorium at the Barrington Public Library.  \nIf you plan to stay for the presentation\, please register for the event\, as space is strictly limited. \nThanks to our 2024 Land Trust Learning Series Sponsors!\nLeadership Sponsor\n \n \nPartner Sponsors\n \n \n \nSupporting Sponsor\nMeridian Custom Homes\nCommunity Sponsors\nCharles E. Millard\, Inc. General Contractors \nThe Gob Shop \nJaffee Orthodontics
URL:https://www.blct.org/event/birds_annual_meeting/
LOCATION:Barrington Public Library\, 281 County Rd\,\, Barrington\, RI\, 02806\, United States
END:VEVENT
END:VCALENDAR