BEGIN:VCALENDAR
VERSION:2.0
PRODID:-//Barrington Land Trust - ECPv6.15.17.1//NONSGML v1.0//EN
CALSCALE:GREGORIAN
METHOD:PUBLISH
X-ORIGINAL-URL:https://www.blct.org
X-WR-CALDESC:Events for Barrington Land Trust
REFRESH-INTERVAL;VALUE=DURATION:PT1H
X-Robots-Tag:noindex
X-PUBLISHED-TTL:PT1H
BEGIN:VTIMEZONE
TZID:America/New_York
BEGIN:DAYLIGHT
TZOFFSETFROM:-0500
TZOFFSETTO:-0400
TZNAME:EDT
DTSTART:20230312T070000
END:DAYLIGHT
BEGIN:STANDARD
TZOFFSETFROM:-0400
TZOFFSETTO:-0500
TZNAME:EST
DTSTART:20231105T060000
END:STANDARD
BEGIN:DAYLIGHT
TZOFFSETFROM:-0500
TZOFFSETTO:-0400
TZNAME:EDT
DTSTART:20240310T070000
END:DAYLIGHT
BEGIN:STANDARD
TZOFFSETFROM:-0400
TZOFFSETTO:-0500
TZNAME:EST
DTSTART:20241103T060000
END:STANDARD
BEGIN:DAYLIGHT
TZOFFSETFROM:-0500
TZOFFSETTO:-0400
TZNAME:EDT
DTSTART:20250309T070000
END:DAYLIGHT
BEGIN:STANDARD
TZOFFSETFROM:-0400
TZOFFSETTO:-0500
TZNAME:EST
DTSTART:20251102T060000
END:STANDARD
END:VTIMEZONE
BEGIN:VEVENT
DTSTART;TZID=America/New_York:20240424T190000
DTEND;TZID=America/New_York:20240424T203000
DTSTAMP:20260421T072755
CREATED:20240125T193529Z
LAST-MODIFIED:20240412T125226Z
UID:13715-1713985200-1713990600@www.blct.org
SUMMARY:Learning Series: This Land Is Your Land
DESCRIPTION:Celebrate Earth Month with a journey through hundreds of acres of natural open space preserved by the Barrington Land Conservation Trust and the Town of Barrington. \nREGISTER FOR THE EVENT. \nThrough photos and stories\, we’ll discover the hidden gems of forest\, fields\, and coastal properties that have been preserved for future generations. The event is free and open to all. \nHow do these natural places benefit you? What is the history of these places? Why are some open to the public\, while others are only open for guided tours or open only for stewardship and research activities? \nParticipate in a discussion on the value of open space in our community and the challenges associated with preserving them in a lasting way. \nThe presentation will be delivered by volunteers who play critical roles in the management and care of these properties. Speakers include Peter McCalmont\, Chair of the Doug Rayner Wildlife Refuge Management Committee; Ellen Berren\, Property Steward of Sowams Woods; Peter Burke\, Property Steward of PIC-WIL Nature Preserve; Ginger Brown\, Property Steward of St. Andrews Farm; Bill Kirkpatrick\, Property Steward of Johannis Farm Wildlife Preserve; Victor Lerish; Chair of the Land Trust’s Stewardship Committee; and Gail Read\, President of the Barrington Farm School. \nThanks to our 2024 Land Trust Learning Series Sponsors!\nLeadership Sponsor\n \n  \nPartner Sponsors\n \n \n \n  \nSupporting Sponsor\nMeridian Custom Homes\nCommunity Sponsors\nCharles E. Millard\, Inc. General Contractors \nThe Gob Shop \nJaffee Orthodontics
URL:https://www.blct.org/event/this-land-is-your-land/
LOCATION:Barrington Public Library\, 281 County Rd\,\, Barrington\, RI\, 02806\, United States
END:VEVENT
END:VCALENDAR