BEGIN:VCALENDAR
VERSION:2.0
PRODID:-//Barrington Land Trust - ECPv6.15.20//NONSGML v1.0//EN
CALSCALE:GREGORIAN
METHOD:PUBLISH
X-ORIGINAL-URL:https://www.blct.org
X-WR-CALDESC:Events for Barrington Land Trust
REFRESH-INTERVAL;VALUE=DURATION:PT1H
X-Robots-Tag:noindex
X-PUBLISHED-TTL:PT1H
BEGIN:VTIMEZONE
TZID:America/New_York
BEGIN:DAYLIGHT
TZOFFSETFROM:-0500
TZOFFSETTO:-0400
TZNAME:EDT
DTSTART:20230312T070000
END:DAYLIGHT
BEGIN:STANDARD
TZOFFSETFROM:-0400
TZOFFSETTO:-0500
TZNAME:EST
DTSTART:20231105T060000
END:STANDARD
BEGIN:DAYLIGHT
TZOFFSETFROM:-0500
TZOFFSETTO:-0400
TZNAME:EDT
DTSTART:20240310T070000
END:DAYLIGHT
BEGIN:STANDARD
TZOFFSETFROM:-0400
TZOFFSETTO:-0500
TZNAME:EST
DTSTART:20241103T060000
END:STANDARD
BEGIN:DAYLIGHT
TZOFFSETFROM:-0500
TZOFFSETTO:-0400
TZNAME:EDT
DTSTART:20250309T070000
END:DAYLIGHT
BEGIN:STANDARD
TZOFFSETFROM:-0400
TZOFFSETTO:-0500
TZNAME:EST
DTSTART:20251102T060000
END:STANDARD
END:VTIMEZONE
BEGIN:VEVENT
DTSTART;TZID=America/New_York:20240127T130000
DTEND;TZID=America/New_York:20240127T150000
DTSTAMP:20260423T130210
CREATED:20231228T191414Z
LAST-MODIFIED:20240102T210645Z
UID:13562-1706360400-1706367600@www.blct.org
SUMMARY:Clean Up - Osamequin Nature Preserve - Sat.\, Jan. 27\, 1 pm - 3 pm
DESCRIPTION:Winter is a great time to collect litter that can be hard to see when the leaves are out and the plants are in full bloom. Help us keep Osamequin Nature Preserve pristine by joining our clean up on Saturday\, Jan. 27. \nThe clean up will begin at 1 pm and end at 3 pm\, but we welcome you to come even if you can only stay for a half hour. Many hands make light work!  When you’re finished\, you can enjoy a self-guided walk of the preserve. Maps will be provided. All ages are welcome; parents must be responsible for the safety of their own children.  \nREGISTER FOR THE CLEAN UP \nWe’ll notify registrants if the clean up is rescheduled due to inclement weather. \nOsamequin Nature Preserve is located on the northbound side of Rte. 114\, approximately one mile north of the intersection of County Road and Massassoit Ave\, in Barrington\, RI. There is a parking lot on the right hand side at the entrance to the preserve. \nWe will provide trash bags and trash-picking tools (as supplies last). Please bring your own gloves. Dress for the weather and wear sturdy\, water-resistant footwear.  \nIf you have any questions\, email cindyelder@blct.org.  \nThank you for helping to keep our natural places clean for wildlife and humans!
URL:https://www.blct.org/event/clean-up-osamequin-nature-preserve-sat-jan-27-10-am/
LOCATION:Osamequin Nature Preserve\, 1580 Rte. 114 North\, Barrington\, Rhode Island\, 02806
END:VEVENT
END:VCALENDAR