BEGIN:VCALENDAR
VERSION:2.0
PRODID:-//Barrington Land Trust - ECPv6.15.20//NONSGML v1.0//EN
CALSCALE:GREGORIAN
METHOD:PUBLISH
X-ORIGINAL-URL:https://www.blct.org
X-WR-CALDESC:Events for Barrington Land Trust
REFRESH-INTERVAL;VALUE=DURATION:PT1H
X-Robots-Tag:noindex
X-PUBLISHED-TTL:PT1H
BEGIN:VTIMEZONE
TZID:America/New_York
BEGIN:DAYLIGHT
TZOFFSETFROM:-0500
TZOFFSETTO:-0400
TZNAME:EDT
DTSTART:20220313T070000
END:DAYLIGHT
BEGIN:STANDARD
TZOFFSETFROM:-0400
TZOFFSETTO:-0500
TZNAME:EST
DTSTART:20221106T060000
END:STANDARD
BEGIN:DAYLIGHT
TZOFFSETFROM:-0500
TZOFFSETTO:-0400
TZNAME:EDT
DTSTART:20230312T070000
END:DAYLIGHT
BEGIN:STANDARD
TZOFFSETFROM:-0400
TZOFFSETTO:-0500
TZNAME:EST
DTSTART:20231105T060000
END:STANDARD
BEGIN:DAYLIGHT
TZOFFSETFROM:-0500
TZOFFSETTO:-0400
TZNAME:EDT
DTSTART:20240310T070000
END:DAYLIGHT
BEGIN:STANDARD
TZOFFSETFROM:-0400
TZOFFSETTO:-0500
TZNAME:EST
DTSTART:20241103T060000
END:STANDARD
END:VTIMEZONE
BEGIN:VEVENT
DTSTART;TZID=America/New_York:20231223T090000
DTEND;TZID=America/New_York:20231223T100000
DTSTAMP:20260423T155042
CREATED:20231219T172330Z
LAST-MODIFIED:20231219T174111Z
UID:13539-1703322000-1703325600@www.blct.org
SUMMARY:Winter Wellness Walk - Hampden Meadows Greenbelt - Saturday\, Dec. 23\, 9 am
DESCRIPTION:Boost your spirit and experience the benefits of outdoor exercise on our Winter Wellness Walk at Hampden Meadows Greenbelt on Saturday\, Dec. 23\, at 9 am. All ages are welcome. You may bring dogs on leashes. \nREGISTER FOR THE WALK \nThese walks are different than our traditional guided walks. Since it’s cold outside\, we’ll keep moving at a moderate pace rather than stopping to explain the history and ecology of the property. These will be informal walks where we can get to know each other and enjoy the sights and sounds of nature. \nHampden Meadows Greenbelt is a town-owned conservation area with a public trail that is open from dawn to dusk all year long. It runs between Kent Street and Linden Road in Barrington\, RI. We’ll start at the Kent Street end\, walk to Linden\, and return to Kent Street. The total distance is about one mile\, so you’ll be finished in under an hour.
URL:https://www.blct.org/event/winter-wellness-walk-hampden-meadows-greenbelt-saturday-dec-23-9-am/
LOCATION:Hampden Meadows Greenbelt\, Kent Street\, Barrington\, RI\, 02806
END:VEVENT
END:VCALENDAR