BEGIN:VCALENDAR
VERSION:2.0
PRODID:-//Barrington Land Trust - ECPv6.15.20//NONSGML v1.0//EN
CALSCALE:GREGORIAN
METHOD:PUBLISH
X-WR-CALNAME:Barrington Land Trust
X-ORIGINAL-URL:https://www.blct.org
X-WR-CALDESC:Events for Barrington Land Trust
REFRESH-INTERVAL;VALUE=DURATION:PT1H
X-Robots-Tag:noindex
X-PUBLISHED-TTL:PT1H
BEGIN:VTIMEZONE
TZID:America/New_York
BEGIN:DAYLIGHT
TZOFFSETFROM:-0500
TZOFFSETTO:-0400
TZNAME:EDT
DTSTART:20220313T070000
END:DAYLIGHT
BEGIN:STANDARD
TZOFFSETFROM:-0400
TZOFFSETTO:-0500
TZNAME:EST
DTSTART:20221106T060000
END:STANDARD
BEGIN:DAYLIGHT
TZOFFSETFROM:-0500
TZOFFSETTO:-0400
TZNAME:EDT
DTSTART:20230312T070000
END:DAYLIGHT
BEGIN:STANDARD
TZOFFSETFROM:-0400
TZOFFSETTO:-0500
TZNAME:EST
DTSTART:20231105T060000
END:STANDARD
BEGIN:DAYLIGHT
TZOFFSETFROM:-0500
TZOFFSETTO:-0400
TZNAME:EDT
DTSTART:20240310T070000
END:DAYLIGHT
BEGIN:STANDARD
TZOFFSETFROM:-0400
TZOFFSETTO:-0500
TZNAME:EST
DTSTART:20241103T060000
END:STANDARD
END:VTIMEZONE
BEGIN:VEVENT
DTSTART;TZID=America/New_York:20231014T090000
DTEND;TZID=America/New_York:20231014T103000
DTSTAMP:20260423T185138
CREATED:20230804T181951Z
LAST-MODIFIED:20230804T181951Z
UID:12704-1697274000-1697279400@www.blct.org
SUMMARY:Land Trust Days - PIC-WIL Nature Preserve Walk - Saturday\, Oct. 14\, 9 am
DESCRIPTION:Join us for a walk to PIC-WIL Nature Preserve. This 17-acre preserve of forest\, field\, salt marsh and coastal dunes on the east shore of the Providence River in Barrington. \nThe terrain is gentle but may be wet in places. Dress for the weather and wear sturdy footwear. You may wish to bring a walking stick or poles to assist you when crossing wet areas. \nThe walk will last about an hour and a half. All ages are welcome. Advance registration is required. \nREGISTER FOR THE WALK \nThe walk is part of Land Trust Days\, a two-month series of programs offered by land trusts across the state who are members of the Rhode Island Land Trust Council. \nOnce home to a bottling facility owned by Deep Water Rock Company\, the property was donated to the Nature Conservancy by Catherine Picerelli in December of 1986 and deeded to the Barrington Land Conservation Trust in 1987\, to be preserved in perpetuity as a nature preserve. \nThe donation was made in memory of the families of Peter J. Picerelli and Clifford M. Wilson: thus the name “PIC-WIL.” Although the property is generally closed to the public due to its status as a nature preserve\, the Land Trust opens PIC-WIL periodically for guided walks. \nThe forest includes a wide variety of deciduous trees. The property is home to deer\, coyote\, fox\, weasels\, squirrels\, chipmunks and rabbits. \nPurple Martins nest here in late spring and summer. Common birds of the marsh and tidal creeks include Mallards\, American Black Ducks\, Snowy and Great Egrets\, Green-backed Herons\, Great Blue Herons\, and Osprey. Sharp-tailed Sparrows\, Belted Kingfishers and various shorebirds are other likely visitors of the wetland. \n \nNesting birds of the forest and its shrub border include Song Sparrow\, Carolina Wren\, Blue Jay\, Flicker\, Cardinal\, Goldfinch\, Robin\, Red-eyed Vireo\, Mockingbird\, Catbird\, Brown Thrasher and others. \nThree plants at PIC-WIL have “special interest” status in the state of Rhode Island: Creeping Spikerush (Eleocharis rostellata)\, Maritime Seablite (Suaeda maritima) and Robust Bulrush (Scirpus robustus). \nFor more information on the Barrington Land Conservation Trust\, email Executive Director Cindy Elder.
URL:https://www.blct.org/event/land-trust-days-pic-wil-nature-preserve-walk-saturday-oct-14-9-am/
LOCATION:Pic-Wil Nature Preserve\, Washington Rd.\, Barrington\, RI\, United States
END:VEVENT
END:VCALENDAR