BEGIN:VCALENDAR
VERSION:2.0
PRODID:-//Barrington Land Trust - ECPv6.15.20//NONSGML v1.0//EN
CALSCALE:GREGORIAN
METHOD:PUBLISH
X-ORIGINAL-URL:https://www.blct.org
X-WR-CALDESC:Events for Barrington Land Trust
REFRESH-INTERVAL;VALUE=DURATION:PT1H
X-Robots-Tag:noindex
X-PUBLISHED-TTL:PT1H
BEGIN:VTIMEZONE
TZID:America/New_York
BEGIN:DAYLIGHT
TZOFFSETFROM:-0500
TZOFFSETTO:-0400
TZNAME:EDT
DTSTART:20220313T070000
END:DAYLIGHT
BEGIN:STANDARD
TZOFFSETFROM:-0400
TZOFFSETTO:-0500
TZNAME:EST
DTSTART:20221106T060000
END:STANDARD
BEGIN:DAYLIGHT
TZOFFSETFROM:-0500
TZOFFSETTO:-0400
TZNAME:EDT
DTSTART:20230312T070000
END:DAYLIGHT
BEGIN:STANDARD
TZOFFSETFROM:-0400
TZOFFSETTO:-0500
TZNAME:EST
DTSTART:20231105T060000
END:STANDARD
BEGIN:DAYLIGHT
TZOFFSETFROM:-0500
TZOFFSETTO:-0400
TZNAME:EDT
DTSTART:20240310T070000
END:DAYLIGHT
BEGIN:STANDARD
TZOFFSETFROM:-0400
TZOFFSETTO:-0500
TZNAME:EST
DTSTART:20241103T060000
END:STANDARD
END:VTIMEZONE
BEGIN:VEVENT
DTSTART;TZID=America/New_York:20231010T183000
DTEND;TZID=America/New_York:20231010T200000
DTSTAMP:20260423T185357
CREATED:20230710T185011Z
LAST-MODIFIED:20231007T105824Z
UID:12643-1696962600-1696968000@www.blct.org
SUMMARY:Learning Series: Walking Rhode Island with John Kostrzewa
DESCRIPTION:2023 Land Trust Learning Series\nThis event is  FULLY SUBSCRIBED. You may register below to livestream the event or email Cindy Elder to be placed on the waiting list for the live presentation. \nRegister to LIVESTREAM the Presentation \nJoin us for a special evening with John Kostrzewa\, author of the new book\, Walking Rhode Island: 40 Hikes for Nature and History Lovers with GPS Coordinates\, Photos and Trail Maps. \nJohn Kostrzewa writes the “Walking Rhode Island” column for The Providence Journal and has been hiking across the state for decades. \nHis talk and slide show will include how he started\, where he has hiked and what he has learned. He’ll share his observations about the history\, geological features\, vegetation and wildlife he has found along the trails. \nJohn will also explain what makes Rhode Island’s trails unique and outline some of the challenges Rhode Islanders face to maintain the state’s public preserves. \nThe book has drawn praise from environmental and historical leaders in Rhode Island. Terry Gray\, Director of the Rhode Island Department of Environmental Management\, writes “Along with being gracefully written and packed with precise details\, John Kostrzewa’s hiking columns are an antidote to our high-speed\, screen-centered lives. They not only guide you on some of the most beautiful trails in Rhode Island\, but also give you a sense of history and what you are seeing along the way.” \nCasual walkers\, families and experienced hikers can pick from easy\, moderate and challenging hikes. Each trail has a description of the geological features\, wildlife\, vegetation\,  historical landmarks\, directions to the trail head and tips for navigating the trail. \n“John Kostrzewa’s stories show us that walks are not merely a chance to enjoy the natural world\, but to see that during every walk\, in every wood\, along every stream\, we are awash in the history of this land and it’s people since time immemorial\,” said C. Morgan Grefe\, Executive Director of the Rhode Island Historical Society. “These walks are more than a meditation or recreation\, they are Rhode Island history in a deep and meaningful way. They should not just be read\, they should be experienced.” \nAbout John Kostrzewa \nKostrzewa worked for 42 years in the newspaper industry\, including the last 29 at The Providence Journal as a business reporter\, columnist\, business editor\, and assistant managing editor. He retired from the Journal in 2017 and spent the three years as an adjunct professor at Bryant University.A College of the Holy Cross graduate\, Kostrzewa resides in Cranston with his wife Carol. \nSince launching “Walking Rhode Island” in 2021\, he has written more than 100 columns. He has compiled 40 of the hikes into a book that is set for release in September\, 2023. Copies of the book will be available for sale before and after the presentation. \nThis event would not be possible without our sponsors. For information on how you can sponsor the 2023 Land Trust Learning Series\, email Cindy Elder or call 508-733-2443. Thank you! \n \n \n2023 Learning Series\nPresenting Sponsor\n \n \n  \nLeadership Sponsors\n \n \nThe Cicione Family and Brickyard Wine \n \n \nPartner Sponsor\n \n \nCommunity Sponsors\nEast Bay Oyster Bar\nJaffe Orthodontics\nSteve Primiano’s Custom Window Treatments\nCharles E. Millard\, Inc. General Contractors\n \nWe are grateful to the Barrington Pubic Library for hosting this event
URL:https://www.blct.org/event/walking-rhode-island/
LOCATION:Barrington Public Library\, 281 County Rd\,\, Barrington\, RI\, 02806\, United States
END:VEVENT
END:VCALENDAR