BEGIN:VCALENDAR
VERSION:2.0
PRODID:-//Barrington Land Trust - ECPv6.15.20//NONSGML v1.0//EN
CALSCALE:GREGORIAN
METHOD:PUBLISH
X-WR-CALNAME:Barrington Land Trust
X-ORIGINAL-URL:https://www.blct.org
X-WR-CALDESC:Events for Barrington Land Trust
REFRESH-INTERVAL;VALUE=DURATION:PT1H
X-Robots-Tag:noindex
X-PUBLISHED-TTL:PT1H
BEGIN:VTIMEZONE
TZID:America/New_York
BEGIN:DAYLIGHT
TZOFFSETFROM:-0500
TZOFFSETTO:-0400
TZNAME:EDT
DTSTART:20220313T070000
END:DAYLIGHT
BEGIN:STANDARD
TZOFFSETFROM:-0400
TZOFFSETTO:-0500
TZNAME:EST
DTSTART:20221106T060000
END:STANDARD
BEGIN:DAYLIGHT
TZOFFSETFROM:-0500
TZOFFSETTO:-0400
TZNAME:EDT
DTSTART:20230312T070000
END:DAYLIGHT
BEGIN:STANDARD
TZOFFSETFROM:-0400
TZOFFSETTO:-0500
TZNAME:EST
DTSTART:20231105T060000
END:STANDARD
BEGIN:DAYLIGHT
TZOFFSETFROM:-0500
TZOFFSETTO:-0400
TZNAME:EDT
DTSTART:20240310T070000
END:DAYLIGHT
BEGIN:STANDARD
TZOFFSETFROM:-0400
TZOFFSETTO:-0500
TZNAME:EST
DTSTART:20241103T060000
END:STANDARD
END:VTIMEZONE
BEGIN:VEVENT
DTSTART;TZID=America/New_York:20230917T160000
DTEND;TZID=America/New_York:20230917T180000
DTSTAMP:20260423T203548
CREATED:20230817T150410Z
LAST-MODIFIED:20230819T220829Z
UID:12735-1694966400-1694973600@www.blct.org
SUMMARY:Pollinator Palooza!
DESCRIPTION:Join members of the Barrington Pollinator Pathway\, stewards of the Barrington Farm School pollinator garden\, and other passionate gardeners for some pollinator talk on Sunday\, Sept. 17\, anytime between 4  pm and 6 pm. \nREGISTER FOR THE EVENT \n• Bring your questions about native plant gardening and your ideas about how to grow the pollinator pathway here in Barrington and beyond. \n• Tour the pollinator garden at the Farm School. \n• Light refreshments and free plants! \nParking is limited at the Farm School. Please park in the lot at St. Andrews Farm\, which is across the street at 101 Middle Highway\, or along Federal Rd. or Middle Highway. Use caution when crossing this busy street! Handicap parking is available directly in front of the Farm School. \nThis event is a joint effort of the Barrington Farm School\, Barrington Pollinator Pathways and the Barrington Land Conservation Trust.
URL:https://www.blct.org/event/pollinator-palooza/
LOCATION:Barrington Farm School\, 100 Federal Road\, Barrington\, RI\, 02806\, United States
END:VEVENT
END:VCALENDAR