BEGIN:VCALENDAR
VERSION:2.0
PRODID:-//Barrington Land Trust - ECPv6.15.20//NONSGML v1.0//EN
CALSCALE:GREGORIAN
METHOD:PUBLISH
X-ORIGINAL-URL:https://www.blct.org
X-WR-CALDESC:Events for Barrington Land Trust
REFRESH-INTERVAL;VALUE=DURATION:PT1H
X-Robots-Tag:noindex
X-PUBLISHED-TTL:PT1H
BEGIN:VTIMEZONE
TZID:America/New_York
BEGIN:DAYLIGHT
TZOFFSETFROM:-0500
TZOFFSETTO:-0400
TZNAME:EDT
DTSTART:20220313T070000
END:DAYLIGHT
BEGIN:STANDARD
TZOFFSETFROM:-0400
TZOFFSETTO:-0500
TZNAME:EST
DTSTART:20221106T060000
END:STANDARD
BEGIN:DAYLIGHT
TZOFFSETFROM:-0500
TZOFFSETTO:-0400
TZNAME:EDT
DTSTART:20230312T070000
END:DAYLIGHT
BEGIN:STANDARD
TZOFFSETFROM:-0400
TZOFFSETTO:-0500
TZNAME:EST
DTSTART:20231105T060000
END:STANDARD
BEGIN:DAYLIGHT
TZOFFSETFROM:-0500
TZOFFSETTO:-0400
TZNAME:EDT
DTSTART:20240310T070000
END:DAYLIGHT
BEGIN:STANDARD
TZOFFSETFROM:-0400
TZOFFSETTO:-0500
TZNAME:EST
DTSTART:20241103T060000
END:STANDARD
END:VTIMEZONE
BEGIN:VEVENT
DTSTART;TZID=America/New_York:20230909T090000
DTEND;TZID=America/New_York:20230909T103000
DTSTAMP:20260423T203726
CREATED:20230804T170100Z
LAST-MODIFIED:20230804T175326Z
UID:12673-1694250000-1694255400@www.blct.org
SUMMARY:Land Trust Days Walk - Sowams Woods Walk - Sat\, Sept. 9\, 9 am
DESCRIPTION:Experience Sowams Woods in the autumn\, with a profusion of fall colors and the glistening waters of Echo Lake. The Barrington Land Conservation Trust\, which owns and manages the property\, invites all ages to join this free public walk through 12 acres of forested trails. \nAdvance registration is required due to limited parking at the site. \nREGISTER FOR THE WALK \nThe walk is part of Land Trust Days\, a two-month series of programs offered by land trusts across the state who are members of the Rhode Island Land Trust Council. \nThe terrain is gentle. Dress for the weather and wear sturdy footwear. \nThe Sowams Woods walks will begin at the juncture of North Lake Drive and old South Lake Drive\, which is now a walking trail that meanders along the shore of Echo Lake to Sowams Woods. The entire walk covers a distance of 1.5 miles round trip. The guided walk will last a little over an hour. \nSowams Woods was acquired by the Barrington Land Conservation Trust in 2006 after a four-year\, two-million dollar campaign that involved widespread support from Barrington residents\, the Rhode Island Country Club (which borders the property)\, the Town of Barrington\, the State of Rhode Island\, and the federal government. \nLocated on the ancestral homelands of the Pokanokets\, Sowams Woods is rich with history and significance. During the years-long effort to protect the property from development\, leaders of the Pokanoket advised and educated the Land Trust on the property’s importance to Indigenous Peoples. \nThe Barrington Land Conservation Trust has preserved nearly 300 acres of open space in perpetuity for the benefit of the public. For more information\, email cindyelder@blct.org.
URL:https://www.blct.org/event/land-trust-days-walk-sowams-woods-sat-sept-9-9-am/
LOCATION:Sowams Woods\, South Lake Drive\, Barrington\, Rhode Island\, 02806
END:VEVENT
END:VCALENDAR