BEGIN:VCALENDAR
VERSION:2.0
PRODID:-//Barrington Land Trust - ECPv6.15.20//NONSGML v1.0//EN
CALSCALE:GREGORIAN
METHOD:PUBLISH
X-WR-CALNAME:Barrington Land Trust
X-ORIGINAL-URL:https://www.blct.org
X-WR-CALDESC:Events for Barrington Land Trust
REFRESH-INTERVAL;VALUE=DURATION:PT1H
X-Robots-Tag:noindex
X-PUBLISHED-TTL:PT1H
BEGIN:VTIMEZONE
TZID:America/New_York
BEGIN:DAYLIGHT
TZOFFSETFROM:-0500
TZOFFSETTO:-0400
TZNAME:EDT
DTSTART:20220313T070000
END:DAYLIGHT
BEGIN:STANDARD
TZOFFSETFROM:-0400
TZOFFSETTO:-0500
TZNAME:EST
DTSTART:20221106T060000
END:STANDARD
BEGIN:DAYLIGHT
TZOFFSETFROM:-0500
TZOFFSETTO:-0400
TZNAME:EDT
DTSTART:20230312T070000
END:DAYLIGHT
BEGIN:STANDARD
TZOFFSETFROM:-0400
TZOFFSETTO:-0500
TZNAME:EST
DTSTART:20231105T060000
END:STANDARD
BEGIN:DAYLIGHT
TZOFFSETFROM:-0500
TZOFFSETTO:-0400
TZNAME:EDT
DTSTART:20240310T070000
END:DAYLIGHT
BEGIN:STANDARD
TZOFFSETFROM:-0400
TZOFFSETTO:-0500
TZNAME:EST
DTSTART:20241103T060000
END:STANDARD
END:VTIMEZONE
BEGIN:VEVENT
DTSTART;TZID=America/New_York:20230625T080000
DTEND;TZID=America/New_York:20230625T090000
DTSTAMP:20260424T050151
CREATED:20230605T125631Z
LAST-MODIFIED:20230605T125724Z
UID:12463-1687680000-1687683600@www.blct.org
SUMMARY:Guided Walk: Johannis Farm Wildlife Preserve - Sunday\, June 25\, 8 am
DESCRIPTION:Early risers\, this walk’s for you! Join us on Sunday\, June 25\, at 8 am for a walk to Johannis Farm Wildlife Preserve. This 32-acre expanse of field\, forest\, and salt marshes lies the border of the Palmer River\, off Sowams Road in Barrington\, RI. \nREGISTER FOR THE WALK \nThe terrain is gentle but may be wet in places. Dress for the weather and wear sturdy footwear. You may wish to bring a walking stick or poles to assist you when crossing wet areas and narrow foot bridges. Dogs are not allowed on this property. \nThe walk will last about one hour. All ages are welcome. \nBill Kirkpatrick\, the Land Trust’s property steward for Johannis Farm Wildlife Preserve\, will lead the walk.  He will guide you through the forest trail and take you down to the salt marshes\, where you can see the effects of sea level rise in real time. The bridge which allowed circumnavigation of the site was washed out during the floods of December 2022. It will be rebuilt this fall by a team of students from Roger Williams University’s chapter of Engineers Without Borders. \nYou’ll also see the first stage of a three-year planting program at Johannis Farm Wildlife Preserve\, funded in part by the Natural Resource Conservation Service (NRCS). Land Trust volunteers and the Audubon Youth Conservation League Team planted 38 native trees and shrubs in September 2022\, with more planting to come in 2023 and 2024. \nJohannis Farm Wildlife Preserve was acquired by the Land Trust in 1991 through a combination of Rhode Island and Barrington Open Space bonds and charitable donations to the Barrington Land Conservation Trust. Due to the sensitive native plants and animals on the property\, it is not generally open to the public. \nFor more information about the Barrington Land Conservation Trust\, email Executive Director Cindy Elder. \n 
URL:https://www.blct.org/event/walk-to-johannis-farm-wildlife-preserve-sunday-june-25-8-am/
LOCATION:Johannis Farm Wildlife Preserve
END:VEVENT
END:VCALENDAR