BEGIN:VCALENDAR
VERSION:2.0
PRODID:-//Barrington Land Trust - ECPv6.15.20//NONSGML v1.0//EN
CALSCALE:GREGORIAN
METHOD:PUBLISH
X-ORIGINAL-URL:https://www.blct.org
X-WR-CALDESC:Events for Barrington Land Trust
REFRESH-INTERVAL;VALUE=DURATION:PT1H
X-Robots-Tag:noindex
X-PUBLISHED-TTL:PT1H
BEGIN:VTIMEZONE
TZID:America/New_York
BEGIN:DAYLIGHT
TZOFFSETFROM:-0500
TZOFFSETTO:-0400
TZNAME:EDT
DTSTART:20220313T070000
END:DAYLIGHT
BEGIN:STANDARD
TZOFFSETFROM:-0400
TZOFFSETTO:-0500
TZNAME:EST
DTSTART:20221106T060000
END:STANDARD
BEGIN:DAYLIGHT
TZOFFSETFROM:-0500
TZOFFSETTO:-0400
TZNAME:EDT
DTSTART:20230312T070000
END:DAYLIGHT
BEGIN:STANDARD
TZOFFSETFROM:-0400
TZOFFSETTO:-0500
TZNAME:EST
DTSTART:20231105T060000
END:STANDARD
BEGIN:DAYLIGHT
TZOFFSETFROM:-0500
TZOFFSETTO:-0400
TZNAME:EDT
DTSTART:20240310T070000
END:DAYLIGHT
BEGIN:STANDARD
TZOFFSETFROM:-0400
TZOFFSETTO:-0500
TZNAME:EST
DTSTART:20241103T060000
END:STANDARD
END:VTIMEZONE
BEGIN:VEVENT
DTSTART;TZID=America/New_York:20230523T130000
DTEND;TZID=America/New_York:20230523T140000
DTSTAMP:20260424T074543
CREATED:20230214T201303Z
LAST-MODIFIED:20230214T202309Z
UID:12113-1684846800-1684850400@www.blct.org
SUMMARY:The Barrington Pollinator Pathway: Creating Resiliency with Corridors of Habitat
DESCRIPTION:Join Board Members and Volunteers from the Barrington Land Conservation Trust on Tuesday\, May 23 at 1 pm at the Barrington Public Library to learn more about the Pollinator Pathway Project here in town and explore ways that you can play an active part in helping to promote the success of the initiative at home and in the community. \nFocusing on a foundation of adding native pollinator-friendly host plants to your yard and building from there\, presenters will discuss all of the interconnected ways that managing your property with pollinators\, sustainability\, resiliency\, the environment\, and wildlife in mind can have profound positive impacts on enhancing conservation efforts and bolstering biodiversity. \nThe program will combine presentation and discussion and will feature practical examples of immediate steps residents can take to build more resilient landscapes and join neighbors working to seed change through the Pollinator Pathway effort. \nFree and open to all. Registration through the Barrington Public Library is required with in-person and Zoom (online) options available! \nBefore the presentation\, seniors 60-years-of-age and older are invited to go down to the Peck Center for lunch at 11:45 am. Lunch can be enjoyed for a suggested donation of $3. Please call 401-247-1926 x201 to reserve your seat for lunch at least 24 hours before. \n 
URL:https://www.blct.org/event/the-barrington-pollinator-pathway-creating-resiliency-with-corridors-of-habitat/
LOCATION:Barrington Public Library\, 281 County Rd\,\, Barrington\, RI\, 02806\, United States
END:VEVENT
END:VCALENDAR