BEGIN:VCALENDAR
VERSION:2.0
PRODID:-//Barrington Land Trust - ECPv6.15.20//NONSGML v1.0//EN
CALSCALE:GREGORIAN
METHOD:PUBLISH
X-ORIGINAL-URL:https://www.blct.org
X-WR-CALDESC:Events for Barrington Land Trust
REFRESH-INTERVAL;VALUE=DURATION:PT1H
X-Robots-Tag:noindex
X-PUBLISHED-TTL:PT1H
BEGIN:VTIMEZONE
TZID:America/New_York
BEGIN:DAYLIGHT
TZOFFSETFROM:-0500
TZOFFSETTO:-0400
TZNAME:EDT
DTSTART:20220313T070000
END:DAYLIGHT
BEGIN:STANDARD
TZOFFSETFROM:-0400
TZOFFSETTO:-0500
TZNAME:EST
DTSTART:20221106T060000
END:STANDARD
BEGIN:DAYLIGHT
TZOFFSETFROM:-0500
TZOFFSETTO:-0400
TZNAME:EDT
DTSTART:20230312T070000
END:DAYLIGHT
BEGIN:STANDARD
TZOFFSETFROM:-0400
TZOFFSETTO:-0500
TZNAME:EST
DTSTART:20231105T060000
END:STANDARD
BEGIN:DAYLIGHT
TZOFFSETFROM:-0500
TZOFFSETTO:-0400
TZNAME:EDT
DTSTART:20240310T070000
END:DAYLIGHT
BEGIN:STANDARD
TZOFFSETFROM:-0400
TZOFFSETTO:-0500
TZNAME:EST
DTSTART:20241103T060000
END:STANDARD
END:VTIMEZONE
BEGIN:VEVENT
DTSTART;TZID=America/New_York:20230326T173000
DTEND;TZID=America/New_York:20230326T183000
DTSTAMP:20260424T091255
CREATED:20230215T115602Z
LAST-MODIFIED:20230215T155021Z
UID:12136-1679851800-1679855400@www.blct.org
SUMMARY:Walk to PIC-WIL Nature Preserve - Sunday\, March 26\, 5:30 pm
DESCRIPTION:Join a guided\, low-tide walk at PIC-WIL Nature Preserve\, a 17-acre expanse of forest\, field\, salt marsh and coastal dunes on the east shore of the Providence River in Barrington\, RI. \nPlease complete the registration form. The terrain is gentle but wet in places\, with some areas that require crossing narrow foot bridges. Dress for the weather and wear sturdy\, waterproof footwear. You may wish to bring a walking stick or poles to assist you when crossing wet areas. \nOnce home to a bottling facility owned by Deep Water Rock Company\, the property was donated to the Nature Conservancy by Catherine Picerelli in December of 1986 and deeded to the Barrington Land Conservation Trust in 1987\, to be preserved in perpetuity as a nature preserve. The donation was made in memory of the families of Peter J. Picerelli and Clifford M. Wilson: thus the name “PIC-WIL.” \nThe forest includes a wide variety of deciduous trees. The property is home to deer\, coyote\, fox\, weasels\, squirrels\, chipmunks and rabbits. \nPurple Martins nest here in late spring and summer. Common birds of the marsh and tidal creeks include Mallards\, American Black Ducks\, Snowy and Great Egrets\, Green-backed Herons\, Great Blue Herons\, and Osprey. Sharp-tailed Sparrows\, Belted Kingfishers and various shorebirds are other likely visitors of the wetland. Nesting birds of the forest and its shrub border include Song Sparrow\, Carolina Wren\, Blue Jay\, Flicker\, Cardinal\, Goldfinch\, Robin\, Red-eyed Vireo\, Mockingbird\, Catbird\, Brown Thrasher and others. \nThree plants at PIC-WILL have “special interest” status in the state of Rhode Island: Creeping Spikerush (Eleocharis rostellata)\, Maritime Seablite (Suaeda maritima) and Robust Bulrush (Scirpus robustus).
URL:https://www.blct.org/event/afternoon-walk-to-pic-wil-nature-preserve-sunday-march-26-1-pm/
LOCATION:Pic-Wil Nature Preserve\, Washington Rd.\, Barrington\, RI\, United States
END:VEVENT
END:VCALENDAR