BEGIN:VCALENDAR
VERSION:2.0
PRODID:-//Barrington Land Trust - ECPv6.15.20//NONSGML v1.0//EN
CALSCALE:GREGORIAN
METHOD:PUBLISH
X-WR-CALNAME:Barrington Land Trust
X-ORIGINAL-URL:https://www.blct.org
X-WR-CALDESC:Events for Barrington Land Trust
REFRESH-INTERVAL;VALUE=DURATION:PT1H
X-Robots-Tag:noindex
X-PUBLISHED-TTL:PT1H
BEGIN:VTIMEZONE
TZID:America/New_York
BEGIN:DAYLIGHT
TZOFFSETFROM:-0500
TZOFFSETTO:-0400
TZNAME:EDT
DTSTART:20220313T070000
END:DAYLIGHT
BEGIN:STANDARD
TZOFFSETFROM:-0400
TZOFFSETTO:-0500
TZNAME:EST
DTSTART:20221106T060000
END:STANDARD
BEGIN:DAYLIGHT
TZOFFSETFROM:-0500
TZOFFSETTO:-0400
TZNAME:EDT
DTSTART:20230312T070000
END:DAYLIGHT
BEGIN:STANDARD
TZOFFSETFROM:-0400
TZOFFSETTO:-0500
TZNAME:EST
DTSTART:20231105T060000
END:STANDARD
BEGIN:DAYLIGHT
TZOFFSETFROM:-0500
TZOFFSETTO:-0400
TZNAME:EDT
DTSTART:20240310T070000
END:DAYLIGHT
BEGIN:STANDARD
TZOFFSETFROM:-0400
TZOFFSETTO:-0500
TZNAME:EST
DTSTART:20241103T060000
END:STANDARD
END:VTIMEZONE
BEGIN:VEVENT
DTSTART;TZID=America/New_York:20230106T130000
DTEND;TZID=America/New_York:20230106T140000
DTSTAMP:20260424T161803
CREATED:20221229T161023Z
LAST-MODIFIED:20230106T144134Z
UID:12040-1673010000-1673013600@www.blct.org
SUMMARY:Allin's Cove Walk - Friday\, Jan. 6\, 1 pm - RAIN PREDICTED
DESCRIPTION:RAIN IS PREDICTED FOR FRIDAY\, JAN. 6. PLEASE SELECT ANOTHER WALK DAY. \nRegister for a guided walk through Allin’s Cove\, a 10-acre stretch of marsh\, grassland and wooded upland surrounding a tidal cove in Barrington\, RI. The walk will take place at low tide\, allowing participants to walk along the beach and see the many shore birds which make their home here. \nWe’ll reach out with specific parking instructions before the event\, as parking is not allowed on Third Street\, where the public access point is marked. \nThis sensitive land is managed by the Barrington Land Conservation Trust and is preserved through a combination of state\, town and Land Trust ownership\, with support from charitable donations and bequests. \nThe terrain is gentle but may be wet\, snowy or icy in places\, depending on the weather. Dress for the weather and wear sturdy\, waterproof shoes. In the event of extremely bad weather\, we’ll contact you to reschedule. \nThe walk will last about 45 minutes. All ages are welcome. For more information\, email cindyelder@blct.org.
URL:https://www.blct.org/event/allins-cove-walk-friday-jan-6-1-pm/
LOCATION:Allin’s Cove\, Barrington\, Rhode Island\, 02806
END:VEVENT
END:VCALENDAR