BEGIN:VCALENDAR
VERSION:2.0
PRODID:-//Barrington Land Trust - ECPv6.15.20//NONSGML v1.0//EN
CALSCALE:GREGORIAN
METHOD:PUBLISH
X-ORIGINAL-URL:https://www.blct.org
X-WR-CALDESC:Events for Barrington Land Trust
REFRESH-INTERVAL;VALUE=DURATION:PT1H
X-Robots-Tag:noindex
X-PUBLISHED-TTL:PT1H
BEGIN:VTIMEZONE
TZID:America/New_York
BEGIN:DAYLIGHT
TZOFFSETFROM:-0500
TZOFFSETTO:-0400
TZNAME:EDT
DTSTART:20210314T070000
END:DAYLIGHT
BEGIN:STANDARD
TZOFFSETFROM:-0400
TZOFFSETTO:-0500
TZNAME:EST
DTSTART:20211107T060000
END:STANDARD
BEGIN:DAYLIGHT
TZOFFSETFROM:-0500
TZOFFSETTO:-0400
TZNAME:EDT
DTSTART:20220313T070000
END:DAYLIGHT
BEGIN:STANDARD
TZOFFSETFROM:-0400
TZOFFSETTO:-0500
TZNAME:EST
DTSTART:20221106T060000
END:STANDARD
BEGIN:DAYLIGHT
TZOFFSETFROM:-0500
TZOFFSETTO:-0400
TZNAME:EDT
DTSTART:20230312T070000
END:DAYLIGHT
BEGIN:STANDARD
TZOFFSETFROM:-0400
TZOFFSETTO:-0500
TZNAME:EST
DTSTART:20231105T060000
END:STANDARD
END:VTIMEZONE
BEGIN:VEVENT
DTSTART;TZID=America/New_York:20221210T090000
DTEND;TZID=America/New_York:20221210T100000
DTSTAMP:20260424T185903
CREATED:20221204T135150Z
LAST-MODIFIED:20221204T135940Z
UID:12000-1670662800-1670666400@www.blct.org
SUMMARY:Winter Walk at Sowams Woods
DESCRIPTION:This December\, discover Sowams Woods\, a 12-acre expanse of woodland trails off Washington Road in Barrington. The free guided walk is one of a series of monthly walks on properties owned or managed by the Barrington Land Conservation Trust. \nRegister for the walk here. To accommodate different schedules\, walks will be held Saturday\, Dec. 10\, at 9 am; Monday\, Dec. 12\, at 10 am\, and Sunday\, Dec. 18 at 8 am. \nAll ages are welcome. The terrain is mostly gentle but moderate in some places. Dress for the weather and wear sturdy shoes. Registrants will be notified of a central meeting place and will caravan to Sowams Woods\, to ensure everyone finds the trail and can access nearby parking. In the event of extreme weather\, registered participants will be notified of the rescheduled date. \nSowams Woods is open to the public year-round. The property\, which borders Echo Lake\, was acquired in 2006 by the Land Trust with the significant philanthropic support from the community in combination with funds from RI Open Space bonds and the National Oceanic and Atmospheric Administration. \nIn the Pokanoket language\, Sowams means “southern area\,” referencing a stretch of land in the East Bay and sections of Massachusetts considered the ancestral home of the Pokanoket people. \nThe Barrington Land Conservation Trust has preserved nearly 300 acres of open space in perpetuity for the benefit of the public. For more information on our monthly walks\, email cindyelder@blct.org.
URL:https://www.blct.org/event/winter-walk-at-sowams-woods/
LOCATION:Sowams Woods\, South Lake Drive\, Barrington\, Rhode Island\, 02806
END:VEVENT
END:VCALENDAR